Workbook

Sheet sommaire
A1: Sommaire
A3: Aquaculture en 2019
A4: =HYPERLINK("#'aquaculture_hors_ecloserie'!A1", "Ventes finales de produits de l'aquaculture") -> Ventes finales de produits de l'aquaculture
A5: =HYPERLINK("#'evolution_aqua_ca_ventes'!A1", "Evolution des ventes finales de produits de l'aquaculture, en valeur") -> Evolution des ventes finales de produits de l'aquaculture, en valeur
A6: =HYPERLINK("#'evolution_aqua_ca_ventes'!A1", "Evolution des ventes finales de produits de l'aquaculture, en valeur") -> Evolution des ventes finales de produits de l'aquaculture, en valeur
A7: =HYPERLINK("#'serie_histo_conchy'!A1",serie_histo_conchy!A1) -> Vente à la consommation des coquillages issus d'élevages, en France de 1950 à 2019, en tonne
A8: =HYPERLINK("#'serie_histo_pisci_conti'!A1", serie_histo_pisci_conti!A1) -> Vente à la consommation, à l'export, pour le repeuplement et pour la pêche loisir, de poissons issus d'élevages en eau douce, hors étang, en France de 1950 à 2019, en tonne
A9: =HYPERLINK("#'serie_histo_pisci_marine'!A1",serie_histo_pisci_marine!A1) -> Vente à la consommation et à l'export de poissons issus d'élevages marins, en France de 1984 à 2019, en tonne
A10: =HYPERLINK("#'strate_CA'!A1",strate_CA!A1) -> Entreprises par chiffre d'affaires (CA) aquacole et activité principale
A11: =HYPERLINK("#'strate_ETP'!A1", strate_ETP!A1) -> Entreprises par équivalent temps plein (ETP) et activité principale
A12: =HYPERLINK("#'aquaculture_transmission'!A1", aquaculture_transmission!A1) -> Projet de transmission ou de cessation d'entreprises dans les cinq prochaines années
A13: =HYPERLINK("#'conchyliculture_transmission'!A1",conchyliculture_transmission!A1) -> Projet de transmission ou de cessation des entreprises conchylicoles dans les cinq prochaines années, selon l'âge du dirigeant
A15: Emploi en aquaculture en 2019
A16: =HYPERLINK("#'emploi_aquaculture'!A1", emploi_aquaculture!A1) -> Emploi en aquaculture
A17: =HYPERLINK("#'conchyliculture_emploi'!A1",conchyliculture_emploi!A1) -> Emploi en conchyliculture par région conchylicole
A18: =HYPERLINK("#'pisciculture_emploi'!A1", pisciculture_emploi!A1) -> Emploi en pisciculture par région
A19: =HYPERLINK("#'algoculture_emploi'!A1", algoculture_emploi!A1) -> Emploi en culture d'algues et de cyanobactéries par région
A20: =HYPERLINK("#'emploi_femmes'!A1", emploi_femmes!A1) -> Part des femmes dans les entreprises aquacoles
A21: =HYPERLINK("#'emploi_age_dirigeant'!A1", emploi_age_dirigeant!A1) -> Dirigeants des entreprises aquacoles par âge et par activité principale de l'entreprise
A22: =HYPERLINK("#'emploi_diplome_dirigeant'!A1", emploi_diplome_dirigeant!A1) -> Dirigeants des entreprises aquacoles par diplôme et par activité principale de l'entreprise
A23: =HYPERLINK("#'nouveau_dirigeants'!A1", nouveau_dirigeants!A1) -> Nouveaux dirigeants en 2019 selon l'activité principale de l'entreprise
A25: Conchyliculture en 2019
A26: Production de la conchyliculture
A27: =HYPERLINK("#'conchyliculture_france'!A1",conchyliculture_france!A1) -> Ventes entre professionnels et pour la consommation en conchyliculture en 2019, par espèce, hors écloserie / nurserie (naissains)
A28: =HYPERLINK("#'conchyliculture_region'!A1", conchyliculture_region!A1) -> Ventes entre professionnels et pour la consommation en conchyliculture en 2019, par région du siège de l'entreprise, par espèce, hors écloserie / nurserie (naissain)
A29: =HYPERLINK("#'conchyliculture_mode_elevage'!A1",conchyliculture_mode_elevage!A1) -> Ventes en conchyliculture par espèce, mode d'élevage et destination en 2019 (hors naissain)
A30: =HYPERLINK("#'conchyliculture_ecloserie'!A1",conchyliculture_ecloserie!A1) -> Production de naissains d'écloserie en 2019, par espèce
A31: =HYPERLINK("#'conchyliculture_captage'!A1", conchyliculture_captage!A1) -> Production de naissains de captage en 2019, par espèce
A32: =HYPERLINK("#'conchyliculture_affinage'!A1", conchyliculture_affinage!A1) -> Ventes à la consommation d'huîtres affinées en claires et en parcs
A33: =HYPERLINK("#'conchy_claires_repartition'!A1", conchy_claires_repartition!A1) -> Répartition des entreprises suivant la part (en volume) des ventes d'huitres affinées en claires
A34: =HYPERLINK("#'conchy_parcs_repartition'!A1",conchy_parcs_repartition!A1) -> Répartition des entreprises suivant la part (en volume) des ventes d'huitres affinées en parcs
A35: =HYPERLINK("#'conchy_evenements_exception'!A1",conchy_evenements_exception!A1) -> Evénements exceptionnels dans la conchyliculture et l'élevage de crustacés en 2019
A36: Répartition des productions de la conchyliculture
A37: =HYPERLINK("#'conchyliculture_origine'!A1", conchyliculture_origine!A1) -> Volumes de coquillages vendus à la consommation selon l'origine des produits
A38: =HYPERLINK("#'ostreiculture_origine_region'!A1",ostreiculture_origine_region!A1) -> Volumes d'huîtres (creuses et plates) vendues à la consommation selon l'origine du naissain
A39: =HYPERLINK("#'conchyliculture_destination'!A1", conchyliculture_destination!A1) -> Ventes selon la destination
A40: =HYPERLINK("#'conchyliculture_qualite'!A1", conchyliculture_qualite!A1) -> Ventes sous marque déposée ou signe officiel de qualité
A41: =HYPERLINK("#'ostreiculture_qualite'!A1", ostreiculture_qualite!A1) -> Ventes d'huîtres sous marque déposée ou signe officiel de qualité, par région
A42: =HYPERLINK("#'mytiliculture_qualite'!A1", mytiliculture_qualite!A1) -> Ventes de moules sous marque déposée ou signe officiel de qualité, par région
A43: Localisation des productions de la conchyliculture
...

Sheet aquaculture_hors_ecloserie
A1: Ventes finales de produits de l'aquaculture | G1: =HYPERLINK("#'sommaire'!A1", "Retour sommaire") -> Retour sommaire
A3: Espèce | B3: Entreprises avec des ventes à la consommation | C3: Volume | D3: Valeur | E3: Prix unitaire
B4: nombre d'entreprises | C4: tonne poids vif | D4: millier d'€ | E4: € / kg
A5: Coquillages et crustacés | B5: 2241 | C5: 148216.39 | D5: 543239.47 | E5: 3.665178
A6: Huîtres | B6: 1634 | C6: 85947.097 | D6: 398298.48 | E6: 4.6342285
A7: Moules | B7: 588 | C7: 60254.99 | D7: 133705.22 | E7: 2.21899
A8: Autres coquillages (coque, palourde, ormeau...) | B8: 175 | C8: 1945.68 | D8: 9712.975 | E8: 4.9920722
A9: Crustacés (crevette...) | B9: 86 | C9: 68.628 | D9: 1522.786 | E9: 22.18899
A10: Poissons | B10: 524 | C10: 45037.934 | D10: 227248 | E10: 5.0457021
A11: Truites et autres salmonidés - chair | B11: 314 | C11: 35516.484 | D11: 132959.67 | E11: 3.7436044
A12: Truites et autres salmonidés - œufs pour consommation | B12: 54 | C12: 110.53149 | D12: 2327.7096 | E12: 21.059244
A13: Autres poissons d'eau douce hors étang dont esturgeons et perches - chair | B13: 11 | C13: 390.902 | D13: 1726.012 | E13: 4.4154596
A14: Esturgeons - caviar | B14: 8 | C14: 43.52 | D14: 24905.716 | E14: 572.28208
A15: Poissons d'étangs | B15: 179 | C15: 3269.582 | D15: 14308.952 | E15: nd
A16: Poissons élevés en mer | B16: 29 | C16: 5706.914 | D16: 51019.94 | E16: 8.9400225
A17: Algues et cyanobactéries | B17: 177 | C17: 375.6742 | D17: 8431.4089 | E17: 22.443407
A18: Macro-algues | B18: 10 | C18: 150.678 | D18: 524.47 | E18: 3.4807338
A19: Micro-algues | B19: 8 | C19: 24.398 | D19: 1002.619 | E19: 41.094311
A20: Spiruline | B20: 161 | C20: 200.5982 | D20: 6904.3199 | E20: =D20/C20 -> 34.418653
A21: Toutes | B21: 2767 | C21: 193630 | D21: 778918.87 | E21: 4.0227179
A22: Note : vente finale des produits en taille marchande (hors ventes entre professionnels). Les ventes entre professionnels ne sont pas comptées ici pour éviter les doubles comptes.
A23: - pour la conchyliculture : première vente des coquillages après marquage sanitaire.
A24: - pour la pisciculture : vente pour la consommation humaine, à l'export, pour le repeuplement en milieu naturel et en parcours de pêche.
A25: - pour la culture d'algues et de spiruline : toute destination (alimentation humaine et animale, cosmétique, pharmacie et autres).
A27: Les volumes sont exprimés en poids vif : le poids sec est estimé en divisant le poids vif par 4 pour la spiruline, et par 5 pour les micro-algues.
A29: Le prix unitaire des poissons d'étang n'est pas disponible. Le volume et la valeur correspondent à l'ensemble des ventes de nombreuses espèces différentes, à des stades d'élevage différents pour des destinataires différents. Les prix de vente sont très différents d'une vente à l'autre, aussi il n'est pas pertinent de calculer un prix unitaire moyen.
A31: Une entreprise qui produit plusieurs espèces sera comptée plusieurs fois.
A32: Les entreprises aquacoles qui ne réalisent pas de ventes finales ne sont pas comptées ici : les écloseries, nurseries, les éleveurs qui ne réalisent pas de ventes finales (vente de juvéniles, de prégrossis ou de coquillages non marqués sanitairement…).
A33: Seules les entreprises réalisant des ventes à la consommation sont comptées ici.
A35: Lecture : 1 634 entreprises ont produit et vendu à la consommation 85 947 tonnes d'huîtres en 2019, pour 398 298 000 euros.
A36: Source : Agreste - Enquête aquaculture 2019

Sheet evolution_aqua_ca_ventes
A1: Evolution des ventes finales de produits de l'aquaculture, en valeur | K1: =HYPERLINK("#'sommaire'!A1", "Retour sommaire") -> Retour sommaire
A3: Activite | B3: Espece | C3: 2008 | D3: 2013 | E3: 2018 | F3: 2019 | G3: Evolution 2018 - 2019 | H3: Evolution 2013 - 2019 | I3: Evolution 2008 - 2019
C4: million d'€ | D4: millions d'€ | E4: millions d'€ | F4: % | G4: %
A5: Conchyliculture | B5: Huîtres | C5: 340.531 | D5: 389.121 | E5: 380.03 | F5: 398.29848 | G5: 4.8071161 | H5: 2.3585166 | I5: 16.963943
A6: Conchyliculture | B6: Moules | C6: 142.738 | D6: 131.734 | E6: 101.062 | F6: 133.70522 | G6: 32.300194 | H6: 1.4963658 | I6: -6.328222
A7: Conchyliculture | B7: Autres coquillages et crustacés | C7: 14.002 | D7: 13.399 | E7: 16.477 | F7: 11.235761 | G7: -31.809425 | H7: -16.144779 | I7: -19.756028
A8: Pisciculture | B8: Salmonidés - chair | C8: 112.797 | D8: 105.713 | E8: 128.153 | F8: 132.95967 | G8: 3.7507257 | H8: 25.774188 | I8: 17.875181
A9: Pisciculture | B9: Salmonidés - œufs pour la consommation | C9: nd | D9: 1.777 | E9: 2.182 | F9: 2.3277096 | G9: 6.6778005 | H9: 30.990974 | I9: nd
A10: Pisciculture | B10: Autres poissons d'eau douce hors étang | C10: 10.959 | D10: 2.261 | E10: 1.769 | F10: 1.726012 | G10: -2.4300735 | H10: -23.661566 | I10: -84.250278
A11: Pisciculture | B11: Caviar | C11: 9.118 | D11: 13.42 | E11: 23.537 | F11: 24.905716 | G11: 5.8151676 | H11: 85.586557 | I11: 173.14889
A12: Pisciculture | B12: Poissons d'étangs | C12: 13.3 | D12: 13.691 | E12: 13.3999 | F12: 14.308952 | G12: 6.7840208 | H12: 4.5135637 | I12: 7.5861053
A13: Pisciculture | B13: Poissons élevés en mer | C13: 46.612 | D13: 35.824 | E13: 40.5313 | F13: 51.019939 | G13: 25.877876 | H13: 42.418322 | I13: 9.4566624
A14: Culture d'algues et de cyanobactéries | B14: Algues et spiruline | C14: nd | D14: nd | E14: 8.9145 | F14: 8.4314089 | G14: -5.419161 | H14: nd | I14: nd
A15: Note : vente finale des produits en taille marchande (hors ventes entre professionnels).
A16: -pour la conchyliculture : première vente des coquillages après marquage sanitaire.
A17: - pour la pisciculture : vente pour la consommation humaine, à l'export, pour le repeuplement en milieu naturel et en parcours de pêche.
A18: - pour la culture d'algues et de spiruline : toute destination (alimentation humaine et animale, cosmétique, pharmacie et autres).
A19: Calcul des taux d'évolution : ((Va-Vd)/Vd)*100 où Va est la valeur d'arrivée et Vd la valeur de départ.
A20: Source : Enquête annuelle aquaculture : DPMA (2008 et 2013) - Agreste (2018 et 2019)

Sheet evolution_aqua_vol_ventes
A1: Evolution des ventes finales de produits de l'aquaculture, en volume | K1: =HYPERLINK("#'sommaire'!A1", "Retour sommaire") -> Retour sommaire
A3: Activite | B3: Espece | C3: 2008 | D3: 2013 | E3: 2018 | F3: 2019 | G3: Evolution 2018 - 2019 | H3: Evolution 2013 - 2019 | I3: Evolution 2008 - 2019
C4: tonne | D4: tonne | E4: tonne | F4: % | G4: %
A5: Conchyliculture | B5: Huîtres | C5: 104938.8 | D5: 77510.5 | E5: 92947 | F5: 85947.097 | G5: -7.5310695 | H5: 10.884457 | I5: -18.097885
A6: Conchyliculture | B6: Moules | C6: 78526.3 | D6: 74138.2 | E6: 48844 | F6: 60254.99 | G6: 23.362111 | H6: -18.726123 | I6: -23.267759
A7: Conchyliculture | B7: Autres coquillages et crustacés | C7: 2678.5 | D7: 2868 | E7: 3339 | F7: 2014.308 | G7: -39.673315 | H7: -29.766109 | I7: -24.797163
A8: Pisciculture | B8: Salmonidés - chair | C8: 36605.6 | D8: 32177.6 | E8: 34564 | F8: 35516.484 | G8: 2.7557123 | H8: 10.376425 | I8: -2.9752704
A9: Pisciculture | B9: Salmonidés - œufs pour la consommation | C9: 97.6 | D9: 96.5 | E9: 117 | F9: 110.53149 | G9: -5.5286422 | H9: 14.540403 | I9: 13.249476
A10: Pisciculture | B10: Autres poissons d'eau douce hors étang | C10: 232 | D10: 335.4 | E10: 409 | F10: 390.902 | G10: -4.4249389 | H10: 16.548002 | I10: 68.492241
A11: Pisciculture | B11: Caviar | C11: 15.5 | D11: 22 | E11: 40 | F11: 43.52 | G11: 8.8 | H11: 97.818182 | I11: 180.77419
A12: Pisciculture | B12: Poissons d'étangs | C12: 8000 | D12: 8000 | E12: 3592 | F12: 3269.582 | G12: -8.9760022 | H12: -59.130225 | I12: -59.130225
A13: Pisciculture | B13: Poissons élevés en mer | C13: 6598.6 | D13: 5215.2 | E13: 4442 | F13: 5706.914 | G13: 28.476227 | H13: 9.4284783 | I13: -13.51326
A14: Culture d'algues et de cyanobactéries | B14: Algues et spiruline | C14: nd | D14: nd | E14: 394 | F14: 375.6742 | G14: =100*(F14-E14)/E14 -> -4.6512172 | H14: nd | I14: nd
A15: Note : vente finale des produits en taille marchande (hors ventes entre professionnels).
A16: - pour la conchyliculture : première vente des coquillages après marquage sanitaire.
A17: - pour la pisciculture : vente pour la consommation humaine, à l'export, pour le repeuplement en milieu naturel et en parcours de pêche.
A18: - pour la culture d'algues et de spiruline : toute destination (alimentation humaine et animale, cosmétique, pharmacie et autres).
A19: Calcul des taux d'évolution : ((Va-Vd)/Vd)*100 où Va est la valeur d'arrivée et Vd la valeur de départ.
A20: Source : Enquête annuelle aquaculture : DPMA (2008 et 2013) - Agreste (2018 et 2019)

Sheet serie_histo_conchy
A1: Vente à la consommation des coquillages issus d'élevages, en France de 1950 à 2019, en tonne | G1: =HYPERLINK("#'sommaire'!A1", "Retour sommaire") -> Retour sommaire
A21: Source : Eurostat (1950-2018)- Agreste - Enquête aquaculture 2019
A24: Année | B24: Huîtres | C24: Moules | D24: Autres coquillages et crustacés...
A25: 1950 | B25: 92000 | C25: 10500 | D25: 0
A26: 1951 | B26: 102200 | C26: 11300 | D26: 0
A27: 1952 | B27: 86000 | C27: 4200 | D27: 0
A28: 1953 | B28: 109500 | C28: 4300 | D28: 0
A29: 1954 | B29: 79000 | C29: 4800 | D29: 0
A30: 1955 | B30: 110500 | C30: 6400 | D30: 0
A31: 1956 | B31: 96000 | C31: 5500 | D31: 0
A32: 1957 | B32: 94000 | C32: 8300 | D32: 0
A33: 1958 | B33: 84500 | C33: 4300 | D33: 0
A34: 1959 | B34: 88500 | C34: 17200 | D34: 0
A35: 1960 | B35: 87500 | C35: 20400 | D35: 0
A36: 1961 | B36: 87100 | C36: 26000 | D36: 0
... A94: 2019 | B94: 85947.097 | C94: 60254.99 | D94: 2014

Sheet serie_histo_pisci_conti
A1: Vente à la consommation, à l'export, pour le repeuplement et pour la pêche loisir, de poissons issus d'élevages en eau douce, hors étang, en France de 1950 à 2019, en tonne | L1: =HYPERLINK("#'sommaire'!A1", "Retour sommaire") -> Retour sommaire
A21: Source : Eurostat (1950-2018)- Agreste - Enquête aquaculture 2019
A24: Année | B24: Truite arc-en-ciel | C24: Truite fario | D24: Autres salmonidés... | E24: Esturgeons
A25: 1950 | B25: 1500 | C25: 0 | D25: 0 | E25: 0
A26: 1951 | B26: 1600 | C26: 0 | D26: 0 | E26: 0
A27: 1952 | B27: 1800 | C27: 0 | D27: 0 | E27: 0
A28: 1953 | B28: 2000 | C28: 0 | D28: 0 | E28: 0
A29: 1954 | B29: 2100 | C29: 0 | D29: 0 | E29: 0
A30: 1955 | B30: 2400 | C30: 0 | D30: 0 | E30: 0
A31: 1956 | B31: 2500 | C31: 0 | D31: 0 | E31: 0
A32: 1957 | B32: 2600 | C32: 0 | D32: 0 | E32: 0
A33: 1958 | B33: 2800 | C33: 0 | D33: 0 | E33: 0
A34: 1959 | B34: 3000 | C34: 0 | D34: 0 | E34: 0
A35: 1960 | B35: 3200 | C35: 0 | D35: 0 | E35: 0
A36: 1961 | B36: 3600 | C36: 0 | D36: 0 | E36: 0
... A94: 2019 | B94: 34533 | C94: 557 | D94: 427 | E94: 391

Sheet serie_histo_pisci_marine
A1: Vente à la consommation et à l'export de poissons issus d'élevages marins, en France de 1984 à 2019, en tonne | L1: =HYPERLINK("#'sommaire'!A1", "Retour sommaire") -> Retour sommaire
A24: Note : en 2006 toute les espèces ont été regroupées, en 2017 la production de maigre a été regroupée avec les autres poissons élevés en mer.
A26: Source : Eurostat (1984-2018) - Agreste - Enquête aquaculture 2019
A28: Année | B28: Bar/Loup | C28: Dorade royale | D28: Maigre | E28: Autres poissons élevés en mer
A29: 1984 | B29: 0 | C29: 5 | D29: 0 | E29: 0
A30: 1985 | B30: 70 | C30: 15 | D30: 0 | E30: 0
A31: 1986 | B31: 90 | C31: 10 | D31: 0 | E31: 0
A32: 1987 | B32: 140 | C32: 10 | D32: 0 | E32: 0
A33: 1988 | B33: 145 | C33: 170 | D33: 0 | E33: 0
A34: 1989 | B34: 250 | C34: 20 | D34: 0 | E34: 0
A35: 1990 | B35: 300 | C35: 30 | D35: 0 | E35: 0
A36: 1991 | B36: 414 | C36: 40 | D36: 0 | E36: 0
A37: 1992 | B37: 550 | C37: 100 | D37: 0 | E37: 0
A38: 1993 | B38: 1330 | C38: 329 | D38: 0 | E38: 0
A39: 1994 | B39: 2138 | C39: 1153 | D39: 0 | E39: 0
A40: 1995 | B40: 2656 | C40: 984 | D40: 0 | E40: 29
... A64: 2019 | B64: 2202 | C64: 2027 | D64: 394 | E64: 1083.635

Sheet strate_CA
A1: Entreprises par chiffre d'affaires (CA) aquacole et activité principale | H1: =HYPERLINK("#'sommaire'!A1", "Retour sommaire") -> Retour sommaire
A3: en nombre d'entreprises
A4: Tranches de CA aquacole | B4: Conchyliculture et élevage de crustacés | C4: Pisciculture en eau douce hors étang | D4: Pisciculture en étangs | E4: Pisciculture marine | F4: Culture d'algues et de cyanobactéries
A5: Moins de 5 k€ | B5: 52 | C5: 7 | D5: 65 | E5: 4 | F5: 26
A6: De 5 k€ à 10 k€ | B6: 41 | C6: 12 | D6: 22 | E6: s | F6: 14
A7: De 10 k€ à 20 k€ | B7: 113 | C7: 11 | D7: 18 | E7: s | F7: 38
A8: De 20 k€ à 30 k€ | B8: 127 | C8: 18 | D8: 10 | E8: s | F8: 18
A9: De 30 k€ à 40 k€ | B9: 120 | C9: 20 | D9: 7 | E9: s | F9: 11
A10: De 40 k€ à 50 k€ | B10: 116 | C10: 10 | D10: 7 | F10: 20
A11: De 50 k€ à 60 k€ | B11: 98 | C11: 16 | D11: s | F11: 12
A12: De 60 k€ à 70 k€ | B12: 83 | C12: 19 | D12: 11 | F12: 4
A13: De 70 k€ à 80 k€ | B13: 90 | C13: 16 | D13: 7 | E13: 3 | F13: 6
A14: De 80 k€ à 80 k€ | B14: 74 | C14: 7 | D14: s | E14: s | F14: 6
A15: De 90 k€ à 100 k€ | B15: 77 | C15: 4 | D15: s | E15: s | F15: 3
A16: De 100 k€ à 125 k€ | B16: 112 | C16: 20 | D16: 4 | E16: s | F16: 6
A17: De 125 k€ à 150 k€ | B17: 150 | C17: 15 | D17: 3 | E17: s | F17: s
A18: De 150 k€ à 200 k€ | B18: 218 | C18: 17 | D18: s | E18: s | F18: 3
A19: De 200 k€ à 250 k€ | B19: 119 | C19: 13 | D19: 10 | E19: 3 | F19: 4
A20: De 250 k€ à 300 k€ | B20: 115 | C20: 21 | D20: 8 | E20: 3 | F20: 5
A21: De 300 k€ à 400 k€ | B21: 140 | C21: 14 | D21: s | E21: s | F21: s
A22: De 400 k€ à 500 k€ | B22: 81 | C22: 15 | D22: s | F22: s
A23: De 500 k€ à 750 k€ | B23: 147 | C23: 27 | D23: 5 | E23: 5 | F23: s
A24: De 750 k€ à 1 000 k€ | B24: 69 | C24: 11 | D24: 3 | E24: s
A25: De 1 000 k€ à 1 500 k€ | B25: 51 | C25: 17 | D25: s | E25: 3
A26: De 1 500 k€ à 3 000 k€ | B26: 55 | C26: 14 | D26: s | E26: s
A27: Plus de 3 000 k€ | B27: 33 | C27: 11 | E27: 7
A28: Ensemble | B28: 2281 | C28: 335 | D28: 180 | E28: 28 | F28: 176
A29: Note : l'activité principale d'une entreprise est l'activité aquacole qui a généré le chiffre d'affaires le plus élevé en 2019.
A30: Toutes les ventes aquacoles sont comptabilisées dans le calcul du chiffre d'affaires : ventes finales et ventes entre professionnels à tout stade d'élevage, y compris ventes de naissains et de prégrossis.
A31: Tout ce qui n'est pas directement en lien avec la vente d'un produit aquacole n'est pas comptabilisé dans le CA aquacole : hébergement de loisir, service...
A33: Lecture : 218 entreprises dont l'activité principale en 2019 est la conchyliculture et l'élevage de crustacés ont un chiffre d'affaires aquacole compris entre 150 000 et 200 000 euros.
A34: Source : Agreste - Enquête aquaculture 2019

Sheet strate_ETP
A1: Entreprises par équivalent temps plein (ETP) et activité principale | G1: =HYPERLINK("#'sommaire'!A1", "Retour sommaire") -> Retour sommaire
A3: Tranches d'ETP | B3: Nombre d'entreprises | C3: Effectif cumulé | D3: ETP cumulé | E3: Chiffre d'affaires cumulé
C4: nombre de personnes | D4: nombre d'équivalent temps plein | E4: millier d'euros
A5: Conchyliculture et élevage de crustacés
A6: Moins d'1 ETP | B6: 159 | C6: 223 | D6: 71.743392 | E6: 5148.628
A7: De 1 à 2 ETP | B7: 696 | C7: 1386 | D7: 792.63963 | E7: 51954.709
A8: De 2 à 3 ETP | B8: 456 | C8: 1730 | D8: 1016.7681 | E8: 60675.291
A9: De 3 à 4 ETP | B9: 283 | C9: 1726 | D9: 921.26825 | E9: 71803.615
A10: De 4 à 5 ETP | B10: 210 | C10: 1526 | D10: 887.98628 | E10: 67308.38
A11: De 5 à 10 ETP | B11: 347 | C11: 3891 | D11: 2267.0114 | E11: 217117.67
A12: De 10 à 20 ETP | B12: 100 | C12: 3295 | D12: 1298.6922 | E12: 148092.35
A13: De 20 à 50 ETP | B13: 20 | C13: 1201 | D13: 493.67276 | E13: 64238.284
A14: Plus de 50 ETP | B14: 10 | C14: 1303 | D14: 670.92429 | E14: 91413.975
A15: Total conchyliculture | B15: 2281 | C15: 16281 | D15: 8420.7063 | E15: 777752.9
A16: Pisciculture en eau douce hors étang
A17: Moins d'1 ETP | B17: 24 | C17: 27 | D17: 10.24 | E17: 933.877
A18: De 1 à 2 ETP | B18: 112 | C18: 180 | D18: 126.24676 | E18: 8183.382
A19: De 2 à 3 ETP | B19: 61 | C19: 190 | D19: 133.61606 | E19: 13484.255
A20: De 3 à 4 ETP | B20: 40 | C20: 165 | D20: 127.46313 | E20: 15553.813
A21: De 4 à 5 ETP | B21: 25 | C21: 136 | D21: 106.10807 | E21: 11757.626
A22: De 5 à 10 ETP | B22: 52 | C22: 419 | D22: 326.52013 | E22: 49103.202
A23: De 10 à 20 ETP | B23: 11 | C23: 214 | D23: 147.03873 | E23: 20419.683
A24: De 20 à 50 ETP | B24: 7 | C24: 194 | D24: 174.95186 | E24: 31571.344
A25: Plus de 50 ETP | B25: 3 | C25: 180 | D25: 201.06039 | E25: 26935.236
A26: Total pisciculture en eau douce hors étang | B26: 335 | C26: 1705 | D26: 1353.2451 | E26: 177942.42
A27: Pisciculture en étangs
A28: Moins d'1 ETP | B28: 72 | C28: 105 | D28: 17.75 | E28: 472.44473
A29: De 1 à 2 ETP | B29: 68 | C29: 133 | D29: 76.742713 | E29: 2976.8546
A30: De 2 à 3 ETP | B30: 15 | C30: 38 | D30: 30.9 | E30: 2154.0231
A31: De 3 à 4 ETP | B31: 7 | C31: 27 | D31: 22.5 | E31: 3090.989
A32: De 4 à 5 ETP | B32: 9 | C32: 43 | D32: 36.6 | E32: 2928.7515
A33: De 5 à 20 ETP | B33: 9 | C33: 76 | D33: 68.251641 | E33: 3265.134
A34: Total pisciculture en étangs | B34: 180 | C34: 422 | D34: 252.74435 | E34: 14888.197
A35: Pisciculture marine
A36: Moins de 5 ETP | B36: 11 | C36: 33 | D36: 21.65 | E36: 9783.7755
A37: De 5 à 10 ETP | B37: 9 | C37: 89 | D37: 57.860394 | E37: 11956.447
A38: De 10 à 20 ETP | B38: 3 | C38: 49 | D38: 41.115164 | E38: 9239.346
A39: Plus de 20 ETP | B39: 5 | C39: 496 | D39: 268.64333 | E39: 46702.057
A40: Total pisciculture marine | B40: 28 | C40: 667 | D40: 389.26888 | E40: 77681.625
A41: Culture d'algues et de cyanobactéries
...

Sheet aquaculture_transmission
A1: Projet de transmission ou de cessation d'entreprises dans les cinq prochaines années | H1: =HYPERLINK("#'sommaire'!A1", "Retour sommaire") -> Retour sommaire
A3: en nombre d'entreprises
A4: Projet de transmission | B4: Conchyliculture et élevage de crustacés | C4: Pisciculture en eau douce hors étang | D4: Pisciculture en étangs | E4: Pisciculture marine | F4: Culture d'algues et de cyanobactéries
A5: Non | B5: 1108 | C5: 142 | D5: 101 | E5: 15 | F5: 108
A6: C'est une possibilité | B6: 216 | C6: 34 | D6: 22 | E6: 3 | F6: 18
A7: Oui, mais le projet n'est pas encore défini | B7: 173 | C7: 38 | D7: 11 | E7: 1 | F7: 7
A8: Oui et j'ai entamé un projet de reprise | B8: 84 | C8: 11 | D8: 7 | F8: 5
A9: Oui et il n'y aura pas de reprise | B9: 38 | C9: 2 | D9: 4 | F9: 2
A10: Indéterminé | B10: 662 | C10: 108 | D10: 35 | E10: 9 | F10: 36
A11: Ensemble | B11: 2281 | C11: 335 | D11: 180 | E11: 28 | F11: 176
A12: Note : L'activité principale d'une entreprise est l'activité aquacole qui a généré le chiffre d'affaires le plus élevé en 2019.
A13: Source : Agreste - Enquête aquaculture 2019

Sheet conchyliculture_transmission
A1: Projet de transmission ou de cessation des entreprises conchylicoles dans les cinq prochaines années, selon l'âge du dirigeant | G1: =HYPERLINK("#'sommaire'!A1", "Retour sommaire") -> Retour sommaire
A3: en nombre d'entreprises
A4: Projet de transmission | B4: Moins de 40 ans | C4: De 40 à 55 ans | D4: Plus de 55 ans | E4: Indéterminé
A5: Non | B5: 317 | C5: 585 | D5: 205 | E5: 1
A6: C'est une possibilité | B6: 14 | C6: 107 | D6: 95
A7: Oui, mais le projet n'est pas encore défini | B7: 4 | C7: 74 | D7: 95
A8: Oui et j'ai entamé un projet de reprise | B8: 7 | C8: 24 | D8: 53
A9: Oui et il n'y aura pas de reprise | B9: 3 | C9: 13 | D9: 22
A10: Indéterminé | B10: 10 | C10: 26 | D10: 34 | E10: 592
A11: Ensemble | B11: 355 | C11: 829 | D11: 504 | E11: 593
A12: Source : Agreste - Enquête aquaculture 2019

Sheet emploi_aquaculture
A1: Emploi en aquaculture | J1: =HYPERLINK("#'sommaire'!A1", "Retour sommaire") -> Retour sommaire
A3: Activité principale | B3: Nombre d'entreprises | C3: Effectif permanent | D3: Effectif occasionnel | E3: Effectif total | F3: ETP | G3: ETP moyen par entreprise | H3: ETP médian par entreprise
B4: nombre d'entreprises | C4: nombre de personnes | D4: nombre de personnes | E4: nombre de personnes | F4: nombre d'équivalent temps plein | G4: nombre d'ETP | H4: nombre d'ETP
A5: Conchyliculture et élevage de crustacés | B5: 2281 | C5: 8640 | D5: 7641 | E5: 16281 | F5: 8420.7063 | G5: 3.6916731 | H5: 2.25
A6: Pisciculture en eau douce hors étang | B6: 335 | C6: 1415 | D6: 290 | E6: 1705 | F6: 1353.2451 | G6: 4.0395377 | H6: 2
A7: Pisciculture marine | B7: 28 | C7: 403 | D7: 264 | E7: 667 | F7: 389.26888 | G7: 13.90246 | H7: 5.4375274
A8: Pisciculture en étangs | B8: 180 | C8: 380 | D8: 42 | E8: 422 | F8: 252.74435 | G8: 1.4041353 | H8: 1
A9: Culture de spiruline | B9: 160 | C9: 274 | D9: 36 | E9: 310 | F9: 245.76578 | G9: 1.5360361 | H9: 1
A10: Culture de macro-algues | B10: 9 | C10: 51 | D10: 8 | E10: 59 | F10: 41.937812 | G10: 4.6597569 | H10: 3
A11: Culture de micro-algues | B11: 7 | C11: 29 | D11: 3 | E11: 32 | F11: 24.367615 | G11: 3.4810878 | H11: 2
A12: Ensemble | B12: 3000 | C12: 11192 | D12: 8284 | E12: 19476 | F12: 10728.036 | G12: 3.576012 | H12: 2
A13: Note : les effectifs et ETP (équivalent temps plein) de ce tableau correspondent à toutes les personnes travaillant dans les entreprises aquacoles. Sont regroupés les dirigeants, la main d'œuvre permanente salariée ou non salariée, la main d'œuvre saisonnière ou occasionnelle, quelque soit leur convention collective de rattachement. Les données collectées ne permettent pas d’identifier les salariés relevant de la Convention Collective Aquacole.
A14: L'activité principale d'une entreprise est l'activité aquacole qui a généré le chiffre d'affaires le plus élevé en 2019.
A15: Les bénévoles impliqués très ponctuellement dans la pisciculture en étang ne sont pas comptés dans les effectifs de l'entreprise.
A16: Source : Agreste - Enquête aquaculture 2019

Sheet conchyliculture_emploi
A1: Emploi en conchyliculture par région conchylicole | J1: =HYPERLINK("#'sommaire'!A1", "Retour sommaire") -> Retour sommaire
A3: Région du siège de l'entreprise | B3: Nombre d'entreprises | C3: Effectif permanent | D3: Effectif occasionnel | E3: Effectif total | F3: ETP | G3: ETP moyen par entreprise | H3: ETP médian par entreprise
B4: nombre d'entreprises | C4: nombre de personnes | D4: nombre de personnes | E4: nombre de personnes | F4: nombre d'équivalent temps plein | G4: nombre d'ETP | H4: nombre d'ETP
A5: Normandie - Mer du Nord | B5: 279 | C5: 1324 | D5: 1485 | E5: 2809 | F5: 1268.9085 | G5: 4.548059 | H5: 3.2063457
A6: Bretagne Nord | B6: 208 | C6: 1134 | D6: 1531 | E6: 2665 | F6: 1137.5793 | G6: 5.469131 | H6: 4.0350109
A7: Pays de la Loire | B7: 209 | C7: 835 | D7: 509 | E7: 1344 | F7: 799.71825 | G7: 3.8264031 | H7: 2.55
A8: Bretagne Sud | B8: 346 | C8: 1157 | D8: 562 | E8: 1719 | F8: 1109.8224 | G8: 3.2075793 | H8: 2
A9: Charente-Maritime | B9: 643 | C9: 2623 | D9: 2859 | E9: 5482 | F9: 2582.1622 | G9: 4.0158044 | H9: 2.5
A10: Arcachon-Aquitaine | B10: 215 | C10: 605 | D10: 317 | E10: 922 | F10: 600.5995 | G10: 2.793486 | H10: 2
A11: Méditerranée | B11: 381 | C11: 962 | D11: 378 | E11: 1340 | F11: 921.91624 | G11: 2.4197277 | H11: 1
A12: Ensemble | B12: 2281 | C12: 8640 | D12: 7641 | E12: 16281 | F12: 8420.7063 | G12: 3.6916731 | H12: 2.25
A13: Note : les effectifs et ETP (équivalent temps plein) de ce tableau correspondent à toutes les personnes travaillant dans les entreprises conchylicoles. Sont regroupés les dirigeants, la main d'œuvre permanente salariée ou non salariée, la main d'œuvre saisonnière ou occasionnelle, quelque soit leur convention collective de rattachement. Les données collectées ne permettent pas d’identifier les salariés relevant de la Convention Collective Aquacole.
A14: Champ : entreprises dont la majorité du chiffre d'affaires est généré par la conchyliculture et l'élevage de crustacés.
A15: Source : Agreste - Enquête aquaculture 2019

Sheet pisciculture_emploi
A1: Emploi en pisciculture par région | J1: =HYPERLINK("#'sommaire'!A1", "Retour sommaire") -> Retour sommaire
A3: Région du siège de l'entreprise | B3: Nombre d'entreprises | C3: Effectif permanent | D3: Effectif occasionnel | E3: Effectif total | F3: ETP | G3: ETP moyen par entreprise | H3: ETP médian par entreprise
B4: nombre d'entreprises | C4: nombre de personnes | D4: nombre de personnes | E4: nombre de personnes | F4: nombre d'ETP | G4: nombre d'ETP | H4: nombre d'ETP
A5: Auvergne-Rhône-Alpes | B5: 81 | C5: 265 | D5: 47 | E5: 312 | F5: 211.03147 | G5: 2.6053267 | H5: 1
A6: Bourgogne-Franche-Comté | B6: 41 | C6: 89 | D6: 15 | E6: 104 | F6: 78.935449 | G6: 1.9252548 | H6: 1.2
A7: Bretagne | B7: 34 | C7: 152 | D7: 39 | E7: 191 | F7: 140.95766 | G7: 4.1458135 | H7: 3.125
A8: Centre-Val de Loire | B8: 39 | C8: 93 | D8: 8 | E8: 101 | F8: 71.55 | G8: 1.8346154 | H8: 1
A9: Corse | B9: 7 | C9: 17 | D9: 1 | E9: 18 | F9: 13.4 | G9: 1.9142857 | H9: 2.5
A10: Grand Est | B10: 69 | C10: 184 | D10: 8 | E10: 192 | F10: 139.4042 | G10: 2.0203507 | H10: 1.75
A11: Hauts-de-France | B11: 30 | C11: 268 | D11: 175 | E11: 443 | F11: 237.99726 | G11: 7.9332422 | H11: 3.375
A12: Île-de-France | B12: 3 | C12: 13 | D12: 0 | E12: 13 | F12: 12 | G12: 4 | H12: 2
A13: Normandie | B13: 32 | C13: 140 | D13: 34 | E13: 174 | F13: 132.79853 | G13: 4.1499542 | H13: 2.2538293
A14: Nouvelle-Aquitaine | B14: 112 | C14: 605 | D14: 135 | E14: 740 | F14: 622.62039 | G14: 5.5591107 | H14: 1.825
A15: Occitanie | B15: 57 | C15: 235 | D15: 28 | E15: 263 | F15: 203.44834 | G15: 3.5692691 | H15: 1.5
A16: Pays de la Loire | B16: 20 | C16: 71 | D16: 98 | E16: 169 | F16: 71.905011 | G16: 3.5952505 | H16: 1.34
... A18: Ensemble | B18: 543 | C18: 2198 | D18: 596 | E18: 2794 | F18: 1995.2584 | G18: 3.674509 | H18: 1.75
A19: Note : les effectifs et ETP de ce tableau correspondent à toutes les personnes travaillant dans les entreprises piscicoles. Sont regroupés les dirigeants, la main d'œuvre permanente salariée ou non salariée, la main d'œuvre saisonnière ou occasionnelle, quelque soit leur convention collective de rattachement. Les données collectées ne permettent pas d’identifier les salariés relevant de la Convention Collective Aquacole.
A20: Les bénévoles impliqués très ponctuellement dans la pisciculture en étang ne sont pas comptés dans les effectifs de l'entreprise.
A21: Champ : entreprises dont la majorité du chiffre d'affaires est généré par la pisciculture.
A22: Source : Agreste - Enquête aquaculture 2019

Sheet algoculture_emploi
A1: Emploi en culture d'algues et de cyanobactéries par région | J1: =HYPERLINK("#'sommaire'!A1", "Retour sommaire") -> Retour sommaire
A3: Région du siège de l'entreprise | B3: Nombre d'entreprises | C3: Effectif permanent | D3: Effectif occasionnel | E3: Effectif total | F3: ETP | G3: ETP moyen par entreprise | H3: ETP médian par entreprise
B4: nombre d'entreprises | C4: nombre de personnes | D4: nombre de personnes | E4: nombre de personnes | F4: nombre d'ETP | G4: nombre d'ETP | H4: nombre d'ETP
A5: Auvergne-Rhône-Alpes | B5: 22 | C5: 35 | D5: 4 | E5: 39 | F5: 35.375164 | G5: 1.607962 | H5: 1.425
A6: Bretagne | B6: 17 | C6: 80 | D6: 13 | E6: 93 | F6: 61.005427 | G6: 3.5885545 | H6: 2
A7: Grand Est + Bourgogne-Franche-Comté | B7: 4 | C7: 8 | D7: 5 | E7: 13 | F7: 8.1750547 | G7: 2.0437637 | H7: 1.5875274
A8: Hauts-de-France + Normandie | B8: 9 | C8: 19 | D8: 2 | E8: 21 | F8: 16.578009 | G8: 1.842001 | H8: 1.8752735
A9: Nouvelle-Aquitaine | B9: 23 | C9: 36 | D9: 2 | E9: 38 | F9: 34.94256 | G9: 1.5192417 | H9: 1
A10: Occitanie | B10: 39 | C10: 51 | D10: 5 | E10: 56 | F10: 46.1 | G10: 1.1820513 | H10: 1
A11: Pays de la Loire + Centre-Val de Loire | B11: 16 | C11: 42 | D11: 5 | E11: 47 | F11: 31.051532 | G11: 1.9407207 | H11: 1.5
A12: Provence-Alpes-Côte d'Azur + Corse | B12: 46 | C12: 83 | D12: 11 | E12: 94 | F12: 78.843457 | G12: 1.7139882 | H12: 1
A13: Ensemble | B13: 176 | C13: 354 | D13: 47 | E13: 401 | F13: 312.0712 | G13: 1.7731318 | H13: 1
A14: Note : les effectifs et ETP de ce tableau correspondent à toutes les personnes travaillant dans les entreprises de culture d'algues et cyanobactéries. Sont regroupés les dirigeants, la main d'œuvre permanente salariée ou non salariée, la main d'œuvre saisonnière ou occasionnelle, quelque soit leur convention collective de rattachement. Les données collectées ne permettent pas d’identifier les salariés relevant de la Convention Collective Aquacole.
A15: Champ : entreprises dont la majorité du chiffre d'affaires est généré par la culture d'algues et de cyanobactéries.
A16: Source : Agreste - Enquête aquaculture 2019

Sheet emploi_femmes
A1: Part des femmes dans les entreprises aquacoles | G1: =HYPERLINK("#'sommaire'!A1", "Retour sommaire") -> Retour sommaire
A3: en %
A4: Activité principale | B4: Proportion de femmes parmi les dirigeants | C4: Proportion de femmes parmi les employés permanents | D4: Proportion de femmes parmi les employés occasionnels | E4: Proportion de femmes dans les ETP de l'entreprise
A5: Conchyliculture et élevage de crustacés | B5: 16.261204 | C5: 32.124728 | D5: 38.254155 | E5: 27.096814
A6: Pisciculture en eau douce hors étang | B6: 20.967742 | C6: 23.649337 | D6: 34.827586 | E6: 22.883331
A7: Pisciculture en étangs | B7: 16 | C7: 18.064516 | D7: 9.5238095 | E7: 16.323679
A8: Pisciculture marine | B8: 23.684211 | C8: 28.767123 | D8: 31.060606 | E8: 27.735184
A9: Culture de macro-algues | B9: 28.571429 | C9: 48.648649 | D9: 37.5 | E9: 46.327896
A10: Culture de micro-algues | B10: 11.111111 | C10: 35 | D10: 33.333333 | E10: 25.171965
A11: Culture de spiruline | B11: 29.70297 | C11: 34.722222 | D11: 33.333333 | E11: 31.836364
A12: Source : Agreste - Enquête aquaculture 2019

Sheet emploi_age_dirigeant
A1: Dirigeants des entreprises aquacoles par âge et par activité principale de l'entreprise | H1: =HYPERLINK("#'sommaire'!A1", "Retour sommaire") -> Retour sommaire
A3: en nombre de dirigeants
A4: Classe d'âge | B4: Conchyliculture et élevage de crustacés | C4: Pisciculture en eau douce hors étang | D4: Pisciculture en étangs | E4: Pisciculture marine | F4: Culture d'algues et de cyanobactéries
A5: Moins de 20 ans | B5: 4
A6: De 20 à 25 ans | B6: 32 | C6: 4 | D6: 2
A7: De 25 à 30 ans | B7: 100 | C7: 7 | D7: 3 | F7: 6
A8: De 30 à 35 ans | B8: 213 | C8: 23 | D8: 6 | E8: 2 | F8: 31
A9: De 35 à 40 ans | B9: 222 | C9: 40 | D9: 12 | E9: 2 | F9: 30
A10: De 40 à 45 ans | B10: 240 | C10: 36 | D10: 17 | E10: 1 | F10: 35
A11: De 45 à 50 ans | B11: 398 | C11: 44 | D11: 27 | E11: 5 | F11: 23
A12: De 50 à 55 ans | B12: 431 | C12: 48 | D12: 28 | E12: 3 | F12: 24
A13: De 55 à 60 ans | B13: 333 | C13: 59 | D13: 34 | E13: 5 | F13: 22
A14: De 60 à 65 ans | B14: 194 | C14: 32 | D14: 25 | E14: 4 | F14: 16
A15: De 60 à 70 ans | B15: 92 | C15: 18 | D15: 12 | E15: 1 | F15: 2
A16: Plus de 70 ans | B16: 53 | C16: 14 | D16: 28 | E16: 1 | F16: 5
A17: Indéterminé (non réponse) | B17: 817 | C17: 109 | D17: 31 | E17: 14 | F17: 31
A18: Ensemble | B18: 3129 | C18: 434 | D18: 225 | E18: 38 | F18: 225
A19: Note : L'activité principale d'une entreprise est l'activité aquacole qui a généré le chiffre d'affaires le plus élevé en 2019.
A20: Source : Agreste - Enquête aquaculture 2019

Sheet emploi_diplome_dirigeant
A1: Dirigeants des entreprises aquacoles par diplôme et par activité principale de l'entreprise | H1: =HYPERLINK("#'sommaire'!A1", "Retour sommaire") -> Retour sommaire
A3: en nombre de dirigeants
A4: Diplôme | B4: Conchyliculture et élevage de crustacés | C4: Pisciculture en eau douce hors étang | D4: Pisciculture en étangs | E4: Pisciculture marine | F4: Culture d'algues et de cyanobactéries
A5: Diplôme toute filière confondue
A6: Aucun diplôme | B6: 400 | C6: 43 | D6: 24 | E6: 0 | F6: 10
A7: CAP BEP | B7: 771 | C7: 62 | D7: 35 | E7: 2 | F7: 20
A8: Bac | B8: 701 | C8: 56 | D8: 37 | E8: 5 | F8: 31
A9: Bac + 2 | B9: 248 | C9: 82 | D9: 44 | E9: 4 | F9: 53
A10: Licence et plus | B10: 187 | C10: 82 | D10: 54 | E10: 13 | F10: 80
A11: Indéterminé | B11: 822 | C11: 109 | D11: 31 | E11: 14 | F11: 31
A12: Ensemble | B12: 3129 | C12: 434 | D12: 225 | E12: 38 | F12: 225
A13: Note : L'activité principale d'une entreprise est l'activité aquacole qui a généré le chiffre d'affaires le plus élevé en 2019.
A14: Source : Agreste - Enquête aquaculture 2019

Sheet nouveau_dirigeants
A1: Nouveaux dirigeants en 2019 selon l'activité principale de l'entreprise | J1: =HYPERLINK("#'sommaire'!A1", "Retour sommaire") -> Retour sommaire
A3: en nombre de dirigeants
A4: Nouveau dirigeant en 2019 | B4: Âge du dirigeant | C4: Diplôme du dirigeant | D4: Conchyliculture et élevage de crustacés | E4: Pisciculture en eau douce hors étang | F4: Pisciculture marine | G4: Pisciculture en étangs | H4: Culture d'algues et de cyanobactéries
A5: Non | B5: Tous | C5: Tous | D5: 2248 | E5: 313 | F5: 23 | G5: 191 | H5: 181
A6: Oui | B6: Moins de 40 ans | C6: CAP BEP Bac | D6: 19 | E6: 6 | F6: 1 | G6: 0 | H6: 0
A7: Oui | B7: Moins de 40 ans | C7: Bac + 2, licence et plus | D7: 12 | E7: s | F7: s | G7: 0 | H7: 5
A8: Oui | B8: Plus de 40 ans | C8: Sans diplôme qualifiant | D8: 9 | E8: 3 | F8: s | G8: 0 | H8: 0
A9: Oui | B9: Plus de 40 ans | C9: CAP BEP Bac | D9: 16 | E9: s | F9: s | G9: 3 | H9: 3
A10: Oui | B10: Plus de 40 ans | C10: Bac + 2, licence et plus | D10: 12 | E10: 4 | F10: s | G10: 0 | H10: 5
A11: Indéterminé | B11: Tous | C11: Tous | D11: 813 | E11: 109 | F11: 14 | G11: 31 | H11: 31
A12: Ensemble | D12: 3129 | E12: 434 | F12: 38 | G12: 225 | H12: 225
A13: Note : L'activité principale d'une entreprise est l'activité aquacole qui a généré le chiffre d'affaires le plus élevé en 2019.
A14: Source : Agreste - Enquête aquaculture 2019

Sheet conchyliculture_france
A1: Ventes entre professionnels et pour la consommation en conchyliculture en 2019, par espèce, hors écloserie / nurserie (naissains) | I1: =HYPERLINK("#'sommaire'!A1", "Retour sommaire") -> Retour sommaire
A3: Espèce | B3: Stade d'élevage | C3: Destination | D3: Entreprises avec des ventes | E3: Volume | F3: Valeur | G3: Prix unitaire
D4: nombre d'entreprises | E4: tonne | F4: millier d'€ | G4: € / kg
A5: Huître creuse | B5: Adulte | C5: Consommateur | D5: 1628 | E5: 84759.542 | F5: 391126.95 | G5: 4.6145477
A6: Huître creuse | B6: Adulte | C6: Autre conchyliculteur | D6: 874 | E6: 46851.473 | F6: 145790.27 | G6: 3.1117543
A7: Huître creuse | B7: Demi-élevage (2 ans) | C7: Autre conchyliculteur | D7: 100 | E7: 3603.178 | F7: 13646.868 | G7: 3.7874532
A8: Huître creuse | B8: Prégrossissement (18 mois) | C8: Autre conchyliculteur | D8: 163 | E8: 3261.744 | F8: 10003.829 | G8: 3.0670184
A9: Huître plate | B9: Adulte | C9: Consommateur | D9: 151 | E9: 1187.555 | F9: 7171.5366 | G9: 6.038909
A10: Huître plate | B10: Adulte | C10: Autre conchyliculteur | D10: 22 | E10: 98.349 | F10: 642.0454 | G10: 6.5282352
A11: Huître plate | B11: Demi-élevage (2 ans) | C11: Autre conchyliculteur | D11: 4 | E11: 48.1 | F11: 361.837 | G11: 7.5225988
A12: Huître plate | B12: Prégrossissement (18 mois) | C12: Autre conchyliculteur | D12: 3 | E12: 84.954 | F12: 476.566 | G12: 5.6096947
A13: Moule edulis | B13: Adulte | C13: Consommateur | D13: 424 | E13: 54207.836 | F13: 123382.92 | G13: 2.2761086
A14: Moule edulis | B14: Adulte | C14: Autre conchyliculteur | D14: 120 | E14: 9216.3613 | F14: 16466.568 | G14: 1.7866669
A15: Moule edulis | B15: Prégrossissement | C15: Autre conchyliculteur | D15: 30 | E15: 2241.071 | F15: 3617.255 | G15: 1.6140743
A16: Moule galloprovincialis | B16: Adulte | C16: Consommateur | D16: 170 | E16: 6047.1535 | F16: 10322.298 | G16: 1.7069681
... A25: Autres coquillages dont ormeau | B25: Prégrossissement | C25: Autre conchyliculteur | D25: 4 | E25: 122.48 | F25: 256.564 | G25: 2.094742
A26: Note : une entreprise qui produit plusieurs espèces ou qui vend des adultes et des prégrossis sera comptée plusieurs fois.
A27: Les ventes pour la consommation sont les premières ventes des coquillages après marquage sanitaire. Les ventes entre professionnels sont des ventes de coquillages non marqués sanitairement.
A29: Lecture : 1 628 entreprises ont produit et vendu des huîtres creuses de taille marchande en vente finale, pour un volume de 84 760 tonnes.
A31: Source : Agreste - Enquête aquaculture 2019

Sheet conchyliculture_region
A1: Ventes entre professionnels et pour la consommation en conchyliculture en 2019, par région du siège de l'entreprise, par espèce, hors écloserie / nurserie (naissain) | I1: =HYPERLINK("#'sommaire'!A1", "Retour sommaire") -> Retour sommaire
A3: Espèce | B3: Stade d'élevage | C3: Destination | D3: Entreprises avec des ventes | E3: Volume | F3: Valeur | G3: Prix unitaire
D4: nombre d'entreprises | E4: tonne | F4: millier d'€ | G4: € / kg
A5: Normandie - Mer du Nord
A6: Huîtres | B6: Adulte | C6: Consommateur | D6: 149 | E6: 10906.918 | F6: 42939.595 | G6: 3.9369138
A7: Huîtres | B7: Adulte | C7: Autre conchyliculteur | D7: 170 | E7: 10850.837 | F7: 34210.254 | G7: 3.1527755
A8: Huîtres | B8: Demi-élevage (2 ans) | C8: Autre conchyliculteur | D8: 38 | E8: 1234.571 | F8: 2335.895 | G8: 1.8920702
A9: Huîtres | B9: Prégrossissement (18 mois) | C9: Autre conchyliculteur | D9: 29 | E9: 1418.613 | F9: 4679.683 | G9: 3.2987735
A10: Moules | B10: Adulte | C10: Consommateur | D10: 78 | E10: 10789.015 | F10: 20974.564 | G10: 1.9440667
A11: Moules | B11: Adulte | C11: Autre conchyliculteur | D11: 44 | E11: 3077.5494 | F11: 4953.6113 | G11: 1.609596
A12: Moules | B12: Prégrossissement | C12: Autre conchyliculteur | D12: 4 | E12: 275.08 | F12: 485.113 | G12: 1.7635342
A13: Autres coquillages dont coque, palourde, ormeau | B13: Adulte | C13: Consommateur | D13: 2 | E13: s | F13: s | G13: s
A14: Autres coquillages dont coque, palourde, ormeau | B14: Adulte | C14: Autre conchyliculteur | D14: 5 | E14: 94.606 | F14: 445.78 | G14: 4.7119633
A15: Autres coquillages dont coque, palourde, ormeau | B15: Prégrossissement | C15: Autre conchyliculteur | D15: 1 | E15: s | F15: s | G15: s
A16: Bretagne Nord
A17: Huîtres | B17: Adulte | C17: Consommateur | D17: 137 | E17: 12642.923 | F17: 54166.85 | G17: 4.2843612
A18: Huîtres | B18: Adulte | C18: Autre conchyliculteur | D18: 55 | E18: 5244.4358 | F18: 15543.671 | G18: 2.9638405
A19: Huîtres | B19: Demi-élevage (2 ans) | C19: Autre conchyliculteur | D19: 8 | E19: 130.161 | F19: 492.304 | G19: 3.7822697
A20: Huîtres | B20: Prégrossissement (18 mois) | C20: Autre conchyliculteur | D20: 10 | E20: s | F20: s | G20: s
A21: Moules | B21: Adulte | C21: Consommateur | D21: 96 | E21: 23784.237 | F21: 55727.166 | G21: 2.3430294
A22: Moules | B22: Adulte | C22: Autre conchyliculteur | D22: 14 | E22: 1845.0516 | F22: 3634.0788 | G22: 1.9696353
A23: Moules | B23: Prégrossissement | C23: Autre conchyliculteur | D23: 1 | E23: s | F23: s | G23: s
A24: Autres coquillages dont coque, palourde, ormeau | B24: Adulte | C24: Consommateur | D24: 25 | E24: 242.267 | F24: 1986.643 | G24: 8.2002212
A25: Autres coquillages dont coque, palourde, ormeau | B25: Adulte | C25: Autre conchyliculteur | D25: 6 | E25: 15.988 | F25: 117.318 | G25: 7.3378784
A26: Bretagne Sud
A27: Huîtres | B27: Adulte | C27: Consommateur | D27: 297 | E27: 10166.257 | F27: 45956.237 | G27: 4.5204678
A28: Huîtres | B28: Adulte | C28: Autre conchyliculteur | D28: 131 | E28: 6955.913 | F28: 19267.911 | G28: 2.7700046
A29: Huîtres | B29: Demi-élevage (2 ans) | C29: Autre conchyliculteur | D29: 9 | E29: 131.741 | F29: 316.776 | G29: 2.4045362
A30: Huîtres | B30: Prégrossissement (18 mois) | C30: Autre conchyliculteur | D30: 15 | E30: 67.792 | F30: 137.16 | G30: 2.0232476
A31: Moules | B31: Adulte | C31: Consommateur | D31: 91 | E31: 6186.1 | F31: 14409.168 | G31: 2.3292815
A32: Moules | B32: Adulte | C32: Autre conchyliculteur | D32: 32 | E32: 1507.094 | F32: 2793.274 | G32: 1.8534172
A33: Moules | B33: Prégrossissement | C33: Autre conchyliculteur | D33: 14 | E33: 760.25 | F33: 1131.05 | G33: 1.4877343
A34: Autres coquillages dont coque, palourde, ormeau | B34: Adulte | C34: Consommateur | D34: 137 | E34: 1554.745 | F34: 6678.144 | G34: 4.2953307
A35: Autres coquillages dont coque, palourde, ormeau | B35: Adulte | C35: Autre conchyliculteur | D35: 46 | E35: 2313.2078 | F35: 7993.0222 | G35: 3.4553844
A36: Autres coquillages dont coque, palourde, ormeau | B36: Prégrossissement | C36: Autre conchyliculteur | D36: 1 | E36: s | F36: s | G36: s
A37: Pays de la Loire
A38: Huîtres | B38: Adulte | C38: Consommateur | D38: 167 | E38: 6612.4685 | F38: 27241.368 | G38: 4.1196973
A39: Huîtres | B39: Adulte | C39: Autre conchyliculteur | D39: 84 | E39: 3291.9415 | F39: 7818.7886 | G39: 2.3751299
A40: Huîtres | B40: Demi-élevage (2 ans) | C40: Autre conchyliculteur | D40: 8 | E40: 355.288 | F40: 940.701 | G40: 2.647714
A41: Huîtres | B41: Prégrossissement (18 mois) | C41: Autre conchyliculteur | D41: 10 | E41: s | F41: s | G41: s
...

Sheet conchyliculture_mode_elevage
A1: Ventes en conchyliculture par espèce, mode d'élevage et destination en 2019 (hors naissain) | I1: =HYPERLINK("#'sommaire'!A1", "Retour sommaire") -> Retour sommaire
A3: Espèce | B3: Mode d'élevage | C3: Destination | D3: Entreprises avec des ventes | E3: Volume | F3: Valeur | G3: Prix unitaire
D4: nombre d'entreprises | E4: tonne | F4: millier d'€ | G4: € / kg
A5: Huître creuse | B5: Terrain découvrant : tables sur estran... | C5: consommateur | D5: 1185 | E5: 64282.583 | F5: 287515.76 | G5: 4.4726852
A6: Huître creuse | B6: Terrain découvrant : tables sur estran... | C6: professionnel | D6: 670 | E6: 37997.753 | F6: 119650.06 | G6: 3.148872
A7: Huître creuse | B7: Terrain découvrant : à plat | C7: consommateur | D7: 75 | E7: 3187.082 | F7: 19012.336 | G7: 5.9654367
A8: Huître creuse | B8: Terrain découvrant : à plat | C8: professionnel | D8: 27 | E8: 2199.494 | F8: 6177.706 | G8: 2.8086942
A9: Huître creuse | B9: Terrain non découvrant : eau semi-profonde ou profonde, à plat au sol ou en cage, tables... | C9: consommateur | D9: 54 | E9: 3077.2955 | F9: 12297.03 | G9: 3.9960511
A10: Huître creuse | B10: Terrain non découvrant : eau semi-profonde ou profonde, à plat au sol ou en cage, tables... | C10: professionnel | D10: 17 | E10: 1870.1925 | F10: 5042.616 | G10: 2.6963085
A11: Huître creuse | B11: Elevage ou pousse en claires | C11: consommateur | D11: 125 | E11: 7934.762 | F11: 41208.737 | G11: 5.1934434
A12: Huître creuse | B12: Elevage ou pousse en claires | C12: professionnel | D12: 42 | E12: 1651.027 | F12: 6075.641 | G12: 3.6799162
A13: Huître creuse | B13: Table méditerranéenne | C13: consommateur | D13: 314 | E13: 5852.5468 | F13: 29111.271 | G13: 4.9741202
A14: Huître creuse | B14: Table méditerranéenne | C14: professionnel | D14: 145 | E14: 3062.4722 | F14: 8552.5978 | G14: 2.7927103
A15: Huître creuse | B15: Filière | C15: consommateur | D15: 26 | E15: 425.272 | F15: 1981.814 | G15: 4.6601093
A16: Huître creuse | B16: Filière | C16: professionnel | D16: 11 | E16: 70.535 | F16: 291.653 | G16: 4.1348692
... A27: Moule edulis | B27: Terrain découvrant : autres... | C27: consommateur | D27: 28 | E27: 764.722 | F27: 2117.715 | G27: 2.7692612
A28: Moule edulis | B28: Terrain découvrant : autres... | C28: professionnel | D28: 2 | E28: s | F28: s | G28: s
A29: Moule edulis | B29: Table méditerranéenne | C29: consommateur | D29: 37 | E29: 392.0025 | F29: 1001.958 | G29: 2.555999
A30: Moule edulis | B30: Table méditerranéenne | C30: professionnel | D30: 5 | E30: 24.6 | F30: 23.2 | G30: 0.94308943
A31: Moule galloprovincialis | B31: Table méditerranéenne | C31: consommateur | D31: 140 | E31: 2145.604 | F31: 3779.306 | G31: 1.7614182
A32: Moule galloprovincialis | B32: Table méditerranéenne | C32: professionnel | D32: 40 | E32: 449.49 | F32: 605.686 | G32: 1.3474961
A33: Moule galloprovincialis | B33: Terrain découvrant (autres), filière, pieux dont bouchots et autres techniques... | C33: consommateur | D33: 35 | E33: 3901.5495 | F33: 6542.9923 | G33: 1.677024
A34: Moule galloprovincialis | B34: Terrain découvrant (autres), filière, pieux dont bouchots et autres techniques... | C34: professionnel | D34: 24 | E34: 783.0465 | F34: 1639.1027 | G34: 2.093238
A35: Palourde | B35: Technique non définie | C35: consommateur | D35: 151 | E35: 632.908 | F35: 4782.966 | G35: 7.5571268
A36: Palourde | B36: Technique non définie | C36: professionnel | D36: 40 | E36: 524.6923 | F36: 3556.4357 | G36: 6.7781359
A37: Coque | B37: Technique non définie | C37: consommateur | D37: 55 | E37: 1177.44 | F37: 3527.877 | G37: 2.9962266
A38: Coque et autres coquillages dont ormeau | B38: Technique non définie | C38: professionnel | D38: 30 | E38: 1943.1545 | F38: 5214.5165 | G38: 2.6835316
A39: Autres coquillages dont ormeau | B39: Technique non définie | C39: consommateur | D39: 69 | E39: 135.332 | F39: 1402.132 | G39: 10.360683
A40: Note : une entreprise qui produit plusieurs espèces ou utilisent plusieurs modes d'élevage sera comptée plusieurs fois.
A41: Les ventes pour la consommation sont les premières ventes des coquillages après marquage sanitaire. Les ventes entre professionnels sont des ventes de coquillages non marqués sanitairement.
A42: Source : Agreste - Enquête aquaculture 2019

Sheet conchyliculture_ecloserie
A1: Production de naissains d'écloserie en 2019, par espèce | G1: =HYPERLINK("#'sommaire'!A1", "Retour sommaire") -> Retour sommaire
A3: Espèce | B3: Entreprises vendant des naissains d'écloserie | C3: Quantité vendue | D3: Valeur | E3: Prix au mille
B4: nombre d'entreprises | C4: millions | D4: millier d'€ | E4: € / mille
A5: Huître creuse | B5: 16 | C5: 2135.7534 | D5: 19633.652 | E5: 9.1928461
A6: Autres coquillages : palourde, huître plate, coquille saint jacques, pétoncle | B6: 7 | C6: 719.84401 | D6: 5002.7058 | E6: 6.9497081
A7: Ensemble | B7: 19 | C7: =C5+C6 -> 2855.5974 | D7: =D5+D6 -> 24636.358 | E7: =D7/C7 -> 8.627392
A8: Note : les entreprises vendant des naissains issus d'écloserie sont essentiellement les écloseries/nurseries mais également quelques nurseries qui achètent des naissains aux écloseries, les font grandir avant de revendre aux conchylicteurs à la taille souhaitée.
A10: Source : Agreste - Enquête aquaculture 2019

Sheet conchyliculture_captage
A1: Production de naissains de captage en 2019, par espèce | H1: =HYPERLINK("#'sommaire'!A1", "Retour sommaire") -> Retour sommaire
A3: Espèce | B3: Entreprises productrices | C3: Volume capté et utilisé par l'entreprise | D3: Volume capté et vendu | E3: Valeur | F3: Prix unitaire
B4: nombre d'entreprises | C4: tonnes | D4: tonnes | E4: millier d'€ | F4: € / kg
A5: Huître creuse | B5: 804 | C5: 2874.9293 | D5: 277.02011 | E5: 3866.2761 | F5: 13.956662
A6: Huître plate | B6: 23 | C6: 80.1634 | D6: 5.7002 | E6: 73.902 | F6: 12.964808
A7: Moule edulis | B7: 194 | C7: 879.3935 | D7: 622.387 | E7: 3114.64 | F7: 5.0043462
A8: Moule galloprovincialis | B8: 65 | C8: 305.807 | D8: 131.378 | E8: 374.369 | F8: 2.8495562
A9: Palourde | B9: s | C9: s | D9: s | E9: s | F9: s
A10: Note : coefficients utilisés :
A11: - huîtres : 1 million de naissains = 0.25 tonnes
A12: - moules : 1 km de cordes de naissains = 0.15 tonnes
A13: Source : Agreste - Enquête aquaculture 2019

Sheet conchyliculture_affinage
A1: Ventes à la consommation d'huîtres affinées en claires et en parcs | F1: =HYPERLINK("#'sommaire'!A1", "Retour sommaire") -> Retour sommaire
A3: en tonnes
A4: Région du siège de l'entreprise | B4: Volume d'huîtres affinées en claires | C4: Volume d'huîtres affinées en parcs | D4: Volume d'huîtres vendus sous marquage sanitaire
A5: Normandie - Mer du Nord | B5: s | C5: 2692.9542 | D5: 10906.918
A6: Bretagne Nord | B6: 270.75 | C6: 1201.1754 | D6: 12642.923
A7: Bretagne Sud | B7: s | C7: 5106.182 | D7: 10166.257
A8: Pays de la Loire | B8: 1219.5186 | C8: 208.3176 | D8: 6612.4685
A9: Charente-Maritime | B9: 19376.429 | C9: 3651.3182 | D9: 35124.318
A10: Arcachon-Aquitaine | B10: 109.5 | C10: 2445.632 | D10: 5307.202
A11: Méditerranée | B11: 56.635 | C11: 771.03747 | D11: 5187.0103
A12: Total | B12: 21043.661 | C12: 16076.617 | D12: =SUM(D5:D11) -> 85947.097
A13: Source : Agreste - Enquête aquaculture 2019

Sheet conchy_claires_repartition
A1: Répartition des entreprises suivant la part (en volume) des ventes d'huitres affinées en claires | I1: =HYPERLINK("#'sommaire'!A1", "Retour sommaire") -> Retour sommaire
A3: en nombre d'entreprises
A4: Région du siège de l'entreprise | B4: A - Pas d'affinage en claires | C4: B - 0 à 25% d'affinage en claires | D4: C - 25 à 50% d'affinage en claires | E4: D - 50 à 75% d'affinage en claires | F4: E - 75 à 100% d'affinage en claires | G4: Total
A5: Normandie - Mer du Nord | B5: 149 | C5: 0 | D5: 0 | E5: 0 | F5: 0 | G5: 149
A6: Bretagne Nord | B6: 133 | C6: 0 | D6: 0 | E6: 4 | F6: 0 | G6: 137
A7: Bretagne Sud | B7: 297 | C7: 0 | D7: 0 | E7: 0 | F7: 0 | G7: 297
A8: Pays de la Loire | B8: 121 | C8: 19 | D8: 6 | E8: 7 | F8: 14 | G8: 167
A9: Charente-Maritime | B9: 232 | C9: 24 | D9: 31 | E9: 51 | F9: 153 | G9: 491
A10: Arcachon-Aquitaine | B10: 193 | C10: 0 | D10: 8 | E10: 0 | F10: 0 | G10: 201
A11: Méditerranée | B11: 341 | C11: 0 | D11: 0 | E11: 0 | F11: 0 | G11: 341
A12: Lecture : parmi les entreprises dont le siège est en région Arcachon Aquitaine, 193 ne pratiquent pas d'affinage en claires, 8 entreprises pratiquent de l'affinage et la vente des huîtres affinées en claires représentent entre 25 et 100% des ventes totales d'huîtres en volume.
A13: Source : Agreste - Enquête aquaculture 2019

Sheet conchy_parcs_repartition
A1: Répartition des entreprises suivant la part (en volume) des ventes d'huitres affinées en parcs | I1: =HYPERLINK("#'sommaire'!A1", "Retour sommaire") -> Retour sommaire
A3: en nombre d'entreprises
A4: Région du siège de l'entreprise | B4: A - Pas d'affinage en parcs | C4: B - 0 à 25% d'affinage en parcs | D4: C - 25 à 50% d'affinage en parcs | E4: D - 50 à 75% d'affinage en parcs | F4: E - 75 à 100% d'affinage en parcs | G4: Total
A5: Normandie - Mer du Nord | B5: 106 | C5: 7 | D5: 5 | E5: 0 | F5: 31 | G5: 149
A6: Bretagne Nord | B6: 118 | C6: 0 | D6: 4 | E6: 0 | F6: 15 | G6: 137
A7: Bretagne Sud | B7: 196 | C7: 0 | D7: 8 | E7: 0 | F7: 93 | G7: 297
A8: Pays de la Loire | B8: 156 | C8: 0 | D8: 7 | E8: 0 | F8: 4 | G8: 167
A9: Charente-Maritime | B9: 359 | C9: 7 | D9: 5 | E9: 13 | F9: 107 | G9: 491
A10: Arcachon-Aquitaine | B10: 116 | C10: 7 | D10: 0 | E10: 4 | F10: 74 | G10: 201
A11: Méditerranée | B11: 286 | C11: 20 | D11: 9 | E11: 0 | F11: 26 | G11: 341
A12: Lecture : parmi les entreprises dont le siège est en région Arcachon Aquitaine, 116 ne pratiquent pas d'affinage en parcs, 11 entreprises pratiquent de l'affinage en parcs et la vente des huîtres affinées en parcs représentent entre 25 et 50% des ventes totales d'huîtres en volume pour 7 d'entre elles et entre 50 à 75% pour 4.
A13: Source : Agreste - Enquête aquaculture 2019

Sheet conchy_evenements_exception
A1: Evénements exceptionnels dans la conchyliculture et l'élevage de crustacés en 2019 | M1: =HYPERLINK("#'sommaire'!A1", "Retour sommaire") -> Retour sommaire
A3: en % du nombre d'entreprises
A4: Région du siège de l'entreprise | B4: Pas d'évènements exceptionnels | C4: Climat | D4: Lancement, redéploiement ou arrêt de l'activité | E4: Pollution | F4: Virus | G4: Prédation | H4: Mortalité | I4: Bloom d'algues, phytoplancton et malaigue | J4: Gilets jaunes | K4: Autres
A5: Normandie - Mer du Nord | B5: 82.971014 | C5: 2.8985507 | D5: 2.8985507 | E5: 1.4492754 | F5: 2.8985507 | G5: 5.4347826 | H5: 5.7971014 | I5: 0 | J5: 1.0869565 | K5: 2.8985507
A6: Bretagne Nord | B6: 86.729858 | C6: 2.3696682 | D6: 2.8436019 | E6: 0 | F6: 2.8436019 | G6: 4.2654028 | H6: 3.7914692 | I6: 0 | J6: 0 | K6: 2.3696682
A7: Bretagne Sud | B7: 79.829545 | C7: 3.125 | D7: 2.8409091 | E7: 1.4204545 | F7: 3.6931818 | G7: 4.2613636 | H7: 7.6704545 | I7: 3.125 | J7: 0.56818182 | K7: 4.5454545
A8: Pays de la Loire | B8: 82.380952 | C8: 7.1428571 | D8: 2.3809524 | E8: 1.4285714 | F8: 1.4285714 | G8: 1.4285714 | H8: 8.0952381 | I8: 0 | J8: 0 | K8: 1.9047619
A9: Charente-Maritime | B9: 92.5 | C9: 2.65625 | D9: 2.1875 | E9: 0.3125 | F9: 0.9375 | G9: 0 | H9: 2.65625 | I9: 0 | J9: 0.46875 | K9: 2.8125
A10: Arcachon-Aquitaine | B10: 88.018433 | C10: 2.764977 | D10: 0.46082949 | E10: 0 | F10: 0 | G10: 0 | H10: 2.3041475 | I10: 1.3824885 | J10: 0 | K10: 6.9124424
A11: Méditerranée | B11: 60.846561 | C11: 11.375661 | D11: 4.7619048 | E11: 0.79365079 | F11: 4.2328042 | G11: 1.3227513 | H11: 12.433862 | I11: 21.164021 | J11: 1.0582011 | K11: 6.8783069
A12: Ensemble | B12: 82.267951 | C12: 4.5971979 | D12: 2.7145359 | E12: 0.74430823 | F12: 2.2767075 | G12: 2.0577933 | H12: 5.9982487 | I12: 4.1155867 | J12: 0.52539405 | K12: 4.028021
A13: Note : plusieurs évènements peuvent avoir été déclarés par la même entreprises (total > 100 %).
A15: Lecture : parmi les entreprises dont le siège est en région Normandie - Mer du Nord, 83% ont déclaré ne pas avoir eu d'évènement exceptionnel en 2019, 3% un évènement lié au climat, 3% le lancement ou redéploiement de leur activité, 1% une pollution, 3% problèmes liés à des virus, 5% des prédations exceptionnels, 6% des mortalités exceptionnels, 1% des difficultés liées au mouvement des gilets jaunes et 3% d'autres évènements exceptionnels.
A16: Source : Agreste - Enquête aquaculture 2019

Sheet conchyliculture_origine
A1: Volumes de coquillages vendus à la consommation selon l'origine des produits | J1: =HYPERLINK("#'sommaire'!A1", "Retour sommaire") -> Retour sommaire
A3: En tonne
A4: Origine | B4: Huître creuse | C4: Huître plate | D4: Moule edulis | E4: Moule galloprovincialis | F4: Coque | G4: Palourde | H4: Autres coquillages
A5: Gisement naturel | B5: 10284.324 | C5: 27.7799 | D5: 3039.335 | E5: 1631.8834 | F5: 1103.84 | G5: 211.113
A6: Captage | B6: 35300.919 | C6: 866.2842 | D6: 48385.054 | E6: 1132.4811 | G6: 14.9962
A7: Ecloserie diploïde | B7: 11089.73 | C7: 27.3658
A8: Ecloserie triploïde | B8: 22953.623
A9: Autre | B9: 1312.1306 | C9: 108.3391 | D9: 455.466 | E9: 2964.3655 | F9: 10.301 | G9: 189.012
A10: Origine inconnue | B10: 3818.8153 | C10: 157.786 | D10: 2327.9807 | E10: 318.4235 | F10: 63.299 | G10: 217.7868 | H10: 135.332
A11: Ensemble | B11: 84759.542 | C11: 1187.555 | D11: 54207.836 | E11: 6047.1535 | F11: 1177.44 | G11: 632.908 | H11: 135.332
A12: Note : les ventes pour la consommation sont les premières ventes des coquillages après marquage sanitaire.
A13: Source : Agreste - Enquête aquaculture 2019

Sheet ostreiculture_origine_region
A1: Volumes d'huîtres (creuses et plates) vendues à la consommation selon l'origine du naissain | E1: =HYPERLINK("#'sommaire'!A1", "Retour sommaire") -> Retour sommaire
