Workbook
Name T0colonne: [1]T0!$A$1:$A$2000
Name T0colonne: T0!$A$1:$A$2000
Name T0ligne: [1]T0!$A$1:$H$1
Name T0ligne: T0!$A$1:$H$1
Name table: [1]T!$A:$AE
Name table: T!$A:$AC
Name Table0: [1]T0!$A$1:$H$2000
Name Table0: T0!$A$1:$H$1000
Name Tcolonne: [1]T!$A$1:$A$759
Name Tcolonne: T!$A$1:$A$548
Name Tligne: [1]T!$A$1:$AE$1
Name Tligne: T!$A$1:$AC$1

Sheet Sommaire
A1: Résultats économiques des entreprises régionales | B1: 2021
A2: Champ : France (hors Mayotte) - unités légales des secteurs marchands non agricoles et non financiers (y compris micro-entrepreneurs)
A3: Sources : Esane 2021 à méthode 2022, Flores 2022, Sirus, Insee - traitements SSP
A5: ='01'!B3 -> Tableau 1. Représentativité des entreprises régionales
A6: unités légales des secteurs agroalimentaires (industries alimentaires et fabrication de boissons (division 10 et 11 de NAF rév. 2 ) et commerce de gros de produits agroalimentaires (groupe 462 et groupe 463, hors sous-classe 4635Z : commerce de gros de produits à base de tabac)
A7: ='01'!B29 -> Tableau 2. Chiffres clés des entreprises agroalimentaires régionales en 2021
A8: unités légales régionales (ayant au moins 80% de ses salariés dans la région)
A9: ='01'!B78 -> Tableau 3. Principales unités légales de la région en 2021 (classées par ordre décroissant de salariés dans la région)
A10: unités légales des secteurs agroalimentaires (industries alimentaires et fabrication de boissons (division 10 et 11 de NAF rév. 2 ) et commerce de gros de produits agroalimentaires (groupe 462 et groupe 463, hors sous-classe 4635Z : commerce de gros de produits à base de tabac)
A11: =Comparatif!B3 -> Tableau 4. Comparatif par secteur au niveau groupe de la NAF rév. 2 et par région
A12: unités légales régionales des secteurs agroalimentaires (industries alimentaires et fabrication de boissons (division 10 et 11 de NAF rév. 2 ) et commerce de gros de produits agroalimentaires (groupe 462 et groupe 463, hors sous-classe 4635Z : commerce de gros de produits à base de tabac)
A14: Code région | B14: Région
A15: 01 | B15: Guadeloupe
A16: 02 | B16: Martinique
A17: 03 | B17: Guyane
A18: 04 | B18: La Réunion
A19: 11 | B19: Île-de-France
A20: 24 | B20: Centre-Val de Loire
A21: 27 | B21: Bourgogne-Franche-Comté
A22: 28 | B22: Normandie
A23: 32 | B23: Hauts-de-France
A24: 44 | B24: Grand Est
A25: 52 | B25: Pays de la Loire
... A31: 94 | B31: Corse
A33: Avertissement relatif aux données d'emploi
A34: Depuis le millésime 2020, les données d’emploi Ésane s’appuient sur les données issues de la Déclaration sociale nominative (DSN). Elles sont ainsi plus robustes et cohérentes avec celles produites par ailleurs par l’Insee. Avec la révision de la méthode de calcul de l’emploi, les données des intérimaires ont également été ajoutées dans les ETP.

Sheet Définitions
A1: Définitions
A3: Artisanat commercial | B3: Activités de fabrication associées à de la vente au détail : Charcuterie (code 10.13B de la NAF rév. 2),
B4: boulangerie et boulangerie-pâtisserie (10.71C), pâtisserie (10.71D) et cuisson de produits de boulangerie (10.71B).
A6: Catégorie d’entreprise | B6: La loi de modernisation de l’économie (LME 2008) définit quatre « catégories » pour décrire les
B7: entreprises en fonction de trois critères (taille d’entreprise, chiffre d’affaires et total de bilan).
B8: Les petites et moyennes entreprises sont celles qui, d’une part, occupent moins de 250
B9: personnes, d’autre part, ont un chiffre d’affaires annuel n’excédant pas 50 millions d’euros ou un
B10: total de bilan n’excédant pas 43 millions d’euros. Parmi elles, les microentreprises occupent moins de
B11: 10 personnes et ont un chiffre d’affaires annuel ou un total de bilan n’excédant pas 2 millions d’euros.
B12: Les entreprises de taille intermédiaire (ETI) sont des entreprises qui n’appartiennent pas à la catégorie
B13: des PME et qui, d’une part, occupent moins de 5 000 personnes, d’autre part, ont un chiffre
B14: d’affaires annuel n’excédant pas 1 500 millions d’euros ou un total de bilan n’excédant pas 2 000
B15: millions d’euros. Les grandes entreprises (GE) sont des entreprises non classées dans les catégories précédentes.
A17: Commerce de gros agroalimentaire | B17: « Commerce de gros de produits agricoles bruts et d’animaux vivants » (groupe 46.2 de la NAF rév. 2) et
B18: du « commerce de gros de produits alimentaires, de boissons et de tabac » (groupe 46.3, à l’exclusion du
B19: commerce de gros de produits à base de tabac, sousclasse 46.35Z).
A21: Entreprise au sens juridique ou « unité légale » | B21: Entité juridique de droit public ou privé. Elle est obligatoirement déclarée aux administrations
B22: compétentes (greffes des tribunaux, Sécurité sociale,DGFiP...) pour exister. Elle est identifiée par
B23: un numéro Siren. Elle peut être :
B24: - une personne morale (société, coopérative), dont l’existence est reconnue par la loi indépendamment
B25: des personnes ou des institutions qui la possèdent ou qui en sont membres ;
B26: - une personne physique (entreprise individuelle).
A28: Entreprise régionale | B28: Unité légale comptant au moins 80 % de son effectif salarié annuel moyen (en équivalent temps
B29: plein) dans la région, ou à défaut, 80 % de ses établissements.
A31: Établissement | B31: Unité de production (de biens ou de services) ayant une localisation précise. Ce peut être une usine, une
B32: boulangerie, un magasin, un atelier, etc. Chaque établissement est identifié par un numéro Siret.
A34: Équivalent temps plein (ETP) | B34: C’est une unité de mesure correspondant à une personne travaillant à temps plein pendant une
B35: année. Elle est calculée à partir du nombre d’heures effectivement travaillées divisé par la référence des
B36: heures travaillées pour des emplois à temps plein. Une personne travaillant à temps plein pendant 6
B37: mois compte pour 0,5 équivalent temps plein, et une personne travaillant à mi-temps pendant une
B38: année compte pour 0,5 équivalent temps plein.
A40: Industries agroalimentaires (IAA) | B40: « Industries alimentaires » , division 10 de la NAF rév. 2 (à l’exclusion de l’artisanat commercial : sousclasses
B41: 10.13B, 10.71B, 10.71C et 10.71D), et de la « fabrication de boissons », division 11.
A43: Industrie manufacturière | B43: Industrie de transformation des biens. Cette activité correspond à la section C de la NAF rév. 2.
B44: Elle intègre les IAA.
A46: NAF rév. 2 | B46: La nomenclature d’activités française révisée 2 (NAF rév. 2) est en vigueur depuis le 1er janvier 2008.
B47: Consultation de la NAF sur le site insee.fr : https ://www.insee.fr/fr/information/2406147
A49: Secteur d’activité | B49: Ensemble des entreprises ou des établissements ayant la même activité principale. L’activité
B50: principale exercée (APE) par une entreprise ou un établissement est théoriquement celle qui génère
B51: le plus de valeur ajoutée. Elle est déterminée sur la base du libellé d’activité déclaré, et, pour les
...

Sheet Comparatif
A1: =RIGHT(CELL("nomfichier",A1),LEN(CELL("nomfichier",A1))-FIND("]",CELL("nomfichier",A1))) -> Comparatif
B3: Tableau 4. Comparatif par secteur au niveau groupe de la NAF rév. 2 et par région
B4: Choix de l'indicateur par liste déroulante : | D4: IAA_hac | E4: CGA | F4: 10_hac | G4: 101_hac | H4: 102 | I4: 103 | J4: 104 | K4: 105 | L4: 106 | M4: 107_hac | N4: 108 | O4: 109 | P4: 11 | Q4: 462 | R4: 463_h4635Z
A5: =Sommaire!B1 -> 2021 | B5: Taux de prélèvement financier
B6: =VLOOKUP(B5,$C$33:$F$56,3,FALSE) -> % | C6: =VLOOKUP(B5,$C$33:$F$56,4,FALSE) -> TAUX_PRELEV_secret
A7: R_T4 | B7: Code région | C7: Région | D7: Industries alimentaires (hors artisanat commercial) et boissons | E7: Commerce de gros de produits agroalimentaires | F7: Industries alimentaires hors artisanat commercial | G7: Transformation et conservation de la viande et préparation de produits à base de viande hors charcuterie artisanale | H7: Transformation et conservation de poisson, de crustacés et de mollusques | I7: Transformation et conservation de fruits et légumes | J7: Fabrication d'huiles et graisses végétales et animales | K7: Fabrication de produits laitiers | L7: Travail des grains - fabrication de produits amylacés | M7: Fabrication de produits de boulangerie-pâtisserie et de pâtes alimentaires hors fabrication de pain et de pâtisserie fraîche | N7: Fabrication d'autres produits alimentaires | O7: Fabrication d'aliments pour animaux | P7: Fabrication de boissons | Q7: Commerce de gros de produits agricoles bruts et d'animaux vivants | R7: Commerce de gros de produits alimentaires, de boissons hors tabac
A8: REG_01 | B8: 01 | C8: Guadeloupe | D8: =INDEX(table,MATCH(Comparatif!$B8&"_"&Comparatif!D$4,Tcolonne,0),MATCH(Comparatif!$C$6,Tligne,0)) -> 4.9384055 | E8: =INDEX(table,MATCH(Comparatif!$B8&"_"&Comparatif!E$4,Tcolonne,0),MATCH(Comparatif!$C$6,Tligne,0)) -> 2.1664567 | F8: =INDEX(table,MATCH(Comparatif!$B8&"_"&Comparatif!F$4,Tcolonne,0),MATCH(Comparatif!$C$6,Tligne,0)) -> 7.0317594 | G8: =INDEX(table,MATCH(Comparatif!$B8&"_"&Comparatif!G$4,Tcolonne,0),MATCH(Comparatif!$C$6,Tligne,0)) -> 7.2696481 | H8: =INDEX(table,MATCH(Comparatif!$B8&"_"&Comparatif!H$4,Tcolonne,0),MATCH(Comparatif!$C$6,Tligne,0)) -> 4.9420741 | I8: =INDEX(table,MATCH(Comparatif!$B8&"_"&Comparatif!I$4,Tcolonne,0),MATCH(Comparatif!$C$6,Tligne,0)) -> 2.8427208 | J8: =INDEX(table,MATCH(Comparatif!$B8&"_"&Comparatif!J$4,Tcolonne,0),MATCH(Comparatif!$C$6,Tligne,0)) -> s | K8: =INDEX(table,MATCH(Comparatif!$B8&"_"&Comparatif!K$4,Tcolonne,0),MATCH(Comparatif!$C$6,Tligne,0)) -> 10.955721 | ... R8: =INDEX(table,MATCH(Comparatif!$B8&"_"&Comparatif!R$4,Tcolonne,0),MATCH(Comparatif!$C$6,Tligne,0)) -> 2.128405
A9: REG_02 | B9: 02 | C9: Martinique | D9: =INDEX(table,MATCH(Comparatif!$B9&"_"&Comparatif!D$4,Tcolonne,0),MATCH(Comparatif!$C$6,Tligne,0)) -> 5.7623207 | E9: =INDEX(table,MATCH(Comparatif!$B9&"_"&Comparatif!E$4,Tcolonne,0),MATCH(Comparatif!$C$6,Tligne,0)) -> 1.6301853 | F9: =INDEX(table,MATCH(Comparatif!$B9&"_"&Comparatif!F$4,Tcolonne,0),MATCH(Comparatif!$C$6,Tligne,0)) -> 12.227164 | G9: =INDEX(table,MATCH(Comparatif!$B9&"_"&Comparatif!G$4,Tcolonne,0),MATCH(Comparatif!$C$6,Tligne,0)) -> s | H9: =INDEX(table,MATCH(Comparatif!$B9&"_"&Comparatif!H$4,Tcolonne,0),MATCH(Comparatif!$C$6,Tligne,0)) -> -19.608224 | I9: =INDEX(table,MATCH(Comparatif!$B9&"_"&Comparatif!I$4,Tcolonne,0),MATCH(Comparatif!$C$6,Tligne,0)) -> -529.20981 | J9: =INDEX(table,MATCH(Comparatif!$B9&"_"&Comparatif!J$4,Tcolonne,0),MATCH(Comparatif!$C$6,Tligne,0)) -> s | K9: =INDEX(table,MATCH(Comparatif!$B9&"_"&Comparatif!K$4,Tcolonne,0),MATCH(Comparatif!$C$6,Tligne,0)) -> 3.1695582 | ... R9: =INDEX(table,MATCH(Comparatif!$B9&"_"&Comparatif!R$4,Tcolonne,0),MATCH(Comparatif!$C$6,Tligne,0)) -> 1.6224305
A10: REG_03 | B10: 03 | C10: Guyane | D10: =INDEX(table,MATCH(Comparatif!$B10&"_"&Comparatif!D$4,Tcolonne,0),MATCH(Comparatif!$C$6,Tligne,0)) -> 31.537969 | E10: =INDEX(table,MATCH(Comparatif!$B10&"_"&Comparatif!E$4,Tcolonne,0),MATCH(Comparatif!$C$6,Tligne,0)) -> 9.4555273 | F10: =INDEX(table,MATCH(Comparatif!$B10&"_"&Comparatif!F$4,Tcolonne,0),MATCH(Comparatif!$C$6,Tligne,0)) -> 48.581837 | G10: =INDEX(table,MATCH(Comparatif!$B10&"_"&Comparatif!G$4,Tcolonne,0),MATCH(Comparatif!$C$6,Tligne,0)) -> s | H10: =INDEX(table,MATCH(Comparatif!$B10&"_"&Comparatif!H$4,Tcolonne,0),MATCH(Comparatif!$C$6,Tligne,0)) -> 20.959502 | I10: =INDEX(table,MATCH(Comparatif!$B10&"_"&Comparatif!I$4,Tcolonne,0),MATCH(Comparatif!$C$6,Tligne,0)) -> 14.334699 | J10: =INDEX(table,MATCH(Comparatif!$B10&"_"&Comparatif!J$4,Tcolonne,0),MATCH(Comparatif!$C$6,Tligne,0)) -> 0 | K10: =INDEX(table,MATCH(Comparatif!$B10&"_"&Comparatif!K$4,Tcolonne,0),MATCH(Comparatif!$C$6,Tligne,0)) -> s | ... R10: =INDEX(table,MATCH(Comparatif!$B10&"_"&Comparatif!R$4,Tcolonne,0),MATCH(Comparatif!$C$6,Tligne,0)) -> s
A11: REG_04 | B11: 04 | C11: La Reunion | D11: =INDEX(table,MATCH(Comparatif!$B11&"_"&Comparatif!D$4,Tcolonne,0),MATCH(Comparatif!$C$6,Tligne,0)) -> 4.5143331 | E11: =INDEX(table,MATCH(Comparatif!$B11&"_"&Comparatif!E$4,Tcolonne,0),MATCH(Comparatif!$C$6,Tligne,0)) -> 4.9110011 | F11: =INDEX(table,MATCH(Comparatif!$B11&"_"&Comparatif!F$4,Tcolonne,0),MATCH(Comparatif!$C$6,Tligne,0)) -> 7.7350699 | G11: =INDEX(table,MATCH(Comparatif!$B11&"_"&Comparatif!G$4,Tcolonne,0),MATCH(Comparatif!$C$6,Tligne,0)) -> 9.1698005 | H11: =INDEX(table,MATCH(Comparatif!$B11&"_"&Comparatif!H$4,Tcolonne,0),MATCH(Comparatif!$C$6,Tligne,0)) -> s | I11: =INDEX(table,MATCH(Comparatif!$B11&"_"&Comparatif!I$4,Tcolonne,0),MATCH(Comparatif!$C$6,Tligne,0)) -> 17.922529 | J11: =INDEX(table,MATCH(Comparatif!$B11&"_"&Comparatif!J$4,Tcolonne,0),MATCH(Comparatif!$C$6,Tligne,0)) -> s | K11: =INDEX(table,MATCH(Comparatif!$B11&"_"&Comparatif!K$4,Tcolonne,0),MATCH(Comparatif!$C$6,Tligne,0)) -> 2.4216973 | ... R11: =INDEX(table,MATCH(Comparatif!$B11&"_"&Comparatif!R$4,Tcolonne,0),MATCH(Comparatif!$C$6,Tligne,0)) -> 4.388222
A12: REG_11 | B12: 11 | C12: Île-de-France | D12: =INDEX(table,MATCH(Comparatif!$B12&"_"&Comparatif!D$4,Tcolonne,0),MATCH(Comparatif!$C$6,Tligne,0)) -> 12.238908 | E12: =INDEX(table,MATCH(Comparatif!$B12&"_"&Comparatif!E$4,Tcolonne,0),MATCH(Comparatif!$C$6,Tligne,0)) -> 6.5876785 | F12: =INDEX(table,MATCH(Comparatif!$B12&"_"&Comparatif!F$4,Tcolonne,0),MATCH(Comparatif!$C$6,Tligne,0)) -> 50.26374 | G12: =INDEX(table,MATCH(Comparatif!$B12&"_"&Comparatif!G$4,Tcolonne,0),MATCH(Comparatif!$C$6,Tligne,0)) -> 45.00517 | H12: =INDEX(table,MATCH(Comparatif!$B12&"_"&Comparatif!H$4,Tcolonne,0),MATCH(Comparatif!$C$6,Tligne,0)) -> 2.102862 | I12: =INDEX(table,MATCH(Comparatif!$B12&"_"&Comparatif!I$4,Tcolonne,0),MATCH(Comparatif!$C$6,Tligne,0)) -> 4.9921648 | J12: =INDEX(table,MATCH(Comparatif!$B12&"_"&Comparatif!J$4,Tcolonne,0),MATCH(Comparatif!$C$6,Tligne,0)) -> s | K12: =INDEX(table,MATCH(Comparatif!$B12&"_"&Comparatif!K$4,Tcolonne,0),MATCH(Comparatif!$C$6,Tligne,0)) -> s | ... R12: =INDEX(table,MATCH(Comparatif!$B12&"_"&Comparatif!R$4,Tcolonne,0),MATCH(Comparatif!$C$6,Tligne,0)) -> 6.5528879
A13: REG_24 | B13: 24 | C13: Centre-Val de Loire | D13: =INDEX(table,MATCH(Comparatif!$B13&"_"&Comparatif!D$4,Tcolonne,0),MATCH(Comparatif!$C$6,Tligne,0)) -> 3.9347296 | E13: =INDEX(table,MATCH(Comparatif!$B13&"_"&Comparatif!E$4,Tcolonne,0),MATCH(Comparatif!$C$6,Tligne,0)) -> 27.433275 | F13: =INDEX(table,MATCH(Comparatif!$B13&"_"&Comparatif!F$4,Tcolonne,0),MATCH(Comparatif!$C$6,Tligne,0)) -> 4.609723 | G13: =INDEX(table,MATCH(Comparatif!$B13&"_"&Comparatif!G$4,Tcolonne,0),MATCH(Comparatif!$C$6,Tligne,0)) -> 7.7740781 | H13: =INDEX(table,MATCH(Comparatif!$B13&"_"&Comparatif!H$4,Tcolonne,0),MATCH(Comparatif!$C$6,Tligne,0)) -> s | I13: =INDEX(table,MATCH(Comparatif!$B13&"_"&Comparatif!I$4,Tcolonne,0),MATCH(Comparatif!$C$6,Tligne,0)) -> 1.809843 | J13: =INDEX(table,MATCH(Comparatif!$B13&"_"&Comparatif!J$4,Tcolonne,0),MATCH(Comparatif!$C$6,Tligne,0)) -> s | K13: =INDEX(table,MATCH(Comparatif!$B13&"_"&Comparatif!K$4,Tcolonne,0),MATCH(Comparatif!$C$6,Tligne,0)) -> 3.3033707 | ... R13: =INDEX(table,MATCH(Comparatif!$B13&"_"&Comparatif!R$4,Tcolonne,0),MATCH(Comparatif!$C$6,Tligne,0)) -> 12.867797
A14: REG_27 | B14: 27 | C14: Bourgogne-Franche-Comté | D14: =INDEX(table,MATCH(Comparatif!$B14&"_"&Comparatif!D$4,Tcolonne,0),MATCH(Comparatif!$C$6,Tligne,0)) -> 4.2144892 | E14: =INDEX(table,MATCH(Comparatif!$B14&"_"&Comparatif!E$4,Tcolonne,0),MATCH(Comparatif!$C$6,Tligne,0)) -> 6.2277145 | F14: =INDEX(table,MATCH(Comparatif!$B14&"_"&Comparatif!F$4,Tcolonne,0),MATCH(Comparatif!$C$6,Tligne,0)) -> 4.3583055 | G14: =INDEX(table,MATCH(Comparatif!$B14&"_"&Comparatif!G$4,Tcolonne,0),MATCH(Comparatif!$C$6,Tligne,0)) -> 3.1204504 | H14: =INDEX(table,MATCH(Comparatif!$B14&"_"&Comparatif!H$4,Tcolonne,0),MATCH(Comparatif!$C$6,Tligne,0)) -> s | I14: =INDEX(table,MATCH(Comparatif!$B14&"_"&Comparatif!I$4,Tcolonne,0),MATCH(Comparatif!$C$6,Tligne,0)) -> -12.7694 | J14: =INDEX(table,MATCH(Comparatif!$B14&"_"&Comparatif!J$4,Tcolonne,0),MATCH(Comparatif!$C$6,Tligne,0)) -> s | K14: =INDEX(table,MATCH(Comparatif!$B14&"_"&Comparatif!K$4,Tcolonne,0),MATCH(Comparatif!$C$6,Tligne,0)) -> 3.6487421 | ... R14: =INDEX(table,MATCH(Comparatif!$B14&"_"&Comparatif!R$4,Tcolonne,0),MATCH(Comparatif!$C$6,Tligne,0)) -> 3.6716086
A15: REG_28 | B15: 28 | C15: Normandie | D15: =INDEX(table,MATCH(Comparatif!$B15&"_"&Comparatif!D$4,Tcolonne,0),MATCH(Comparatif!$C$6,Tligne,0)) -> 4.5305955 | E15: =INDEX(table,MATCH(Comparatif!$B15&"_"&Comparatif!E$4,Tcolonne,0),MATCH(Comparatif!$C$6,Tligne,0)) -> 6.2999037 | F15: =INDEX(table,MATCH(Comparatif!$B15&"_"&Comparatif!F$4,Tcolonne,0),MATCH(Comparatif!$C$6,Tligne,0)) -> s | G15: =INDEX(table,MATCH(Comparatif!$B15&"_"&Comparatif!G$4,Tcolonne,0),MATCH(Comparatif!$C$6,Tligne,0)) -> 1.2075719 | H15: =INDEX(table,MATCH(Comparatif!$B15&"_"&Comparatif!H$4,Tcolonne,0),MATCH(Comparatif!$C$6,Tligne,0)) -> 3.6900454 | I15: =INDEX(table,MATCH(Comparatif!$B15&"_"&Comparatif!I$4,Tcolonne,0),MATCH(Comparatif!$C$6,Tligne,0)) -> 41.445086 | J15: =INDEX(table,MATCH(Comparatif!$B15&"_"&Comparatif!J$4,Tcolonne,0),MATCH(Comparatif!$C$6,Tligne,0)) -> 6.2162431 | K15: =INDEX(table,MATCH(Comparatif!$B15&"_"&Comparatif!K$4,Tcolonne,0),MATCH(Comparatif!$C$6,Tligne,0)) -> 5.0532133 | ... R15: =INDEX(table,MATCH(Comparatif!$B15&"_"&Comparatif!R$4,Tcolonne,0),MATCH(Comparatif!$C$6,Tligne,0)) -> 2.9602144
A16: REG_32 | B16: 32 | C16: Hauts-de-France | D16: =INDEX(table,MATCH(Comparatif!$B16&"_"&Comparatif!D$4,Tcolonne,0),MATCH(Comparatif!$C$6,Tligne,0)) -> 5.1499556 | E16: =INDEX(table,MATCH(Comparatif!$B16&"_"&Comparatif!E$4,Tcolonne,0),MATCH(Comparatif!$C$6,Tligne,0)) -> 12.659645 | F16: =INDEX(table,MATCH(Comparatif!$B16&"_"&Comparatif!F$4,Tcolonne,0),MATCH(Comparatif!$C$6,Tligne,0)) -> 5.7263189 | G16: =INDEX(table,MATCH(Comparatif!$B16&"_"&Comparatif!G$4,Tcolonne,0),MATCH(Comparatif!$C$6,Tligne,0)) -> 3.0088153 | H16: =INDEX(table,MATCH(Comparatif!$B16&"_"&Comparatif!H$4,Tcolonne,0),MATCH(Comparatif!$C$6,Tligne,0)) -> 3.8182199 | I16: =INDEX(table,MATCH(Comparatif!$B16&"_"&Comparatif!I$4,Tcolonne,0),MATCH(Comparatif!$C$6,Tligne,0)) -> 8.3764308 | J16: =INDEX(table,MATCH(Comparatif!$B16&"_"&Comparatif!J$4,Tcolonne,0),MATCH(Comparatif!$C$6,Tligne,0)) -> 2.4524467 | K16: =INDEX(table,MATCH(Comparatif!$B16&"_"&Comparatif!K$4,Tcolonne,0),MATCH(Comparatif!$C$6,Tligne,0)) -> 4.4596123 | ... R16: =INDEX(table,MATCH(Comparatif!$B16&"_"&Comparatif!R$4,Tcolonne,0),MATCH(Comparatif!$C$6,Tligne,0)) -> 4.4430649
A17: REG_44 | B17: 44 | C17: Grand Est | D17: =INDEX(table,MATCH(Comparatif!$B17&"_"&Comparatif!D$4,Tcolonne,0),MATCH(Comparatif!$C$6,Tligne,0)) -> 5.3847426 | E17: =INDEX(table,MATCH(Comparatif!$B17&"_"&Comparatif!E$4,Tcolonne,0),MATCH(Comparatif!$C$6,Tligne,0)) -> 27.657965 | F17: =INDEX(table,MATCH(Comparatif!$B17&"_"&Comparatif!F$4,Tcolonne,0),MATCH(Comparatif!$C$6,Tligne,0)) -> 6.0732121 | G17: =INDEX(table,MATCH(Comparatif!$B17&"_"&Comparatif!G$4,Tcolonne,0),MATCH(Comparatif!$C$6,Tligne,0)) -> 3.7339338 | H17: =INDEX(table,MATCH(Comparatif!$B17&"_"&Comparatif!H$4,Tcolonne,0),MATCH(Comparatif!$C$6,Tligne,0)) -> s | I17: =INDEX(table,MATCH(Comparatif!$B17&"_"&Comparatif!I$4,Tcolonne,0),MATCH(Comparatif!$C$6,Tligne,0)) -> 5.0280946 | J17: =INDEX(table,MATCH(Comparatif!$B17&"_"&Comparatif!J$4,Tcolonne,0),MATCH(Comparatif!$C$6,Tligne,0)) -> s | K17: =INDEX(table,MATCH(Comparatif!$B17&"_"&Comparatif!K$4,Tcolonne,0),MATCH(Comparatif!$C$6,Tligne,0)) -> 2.9654188 | ... R17: =INDEX(table,MATCH(Comparatif!$B17&"_"&Comparatif!R$4,Tcolonne,0),MATCH(Comparatif!$C$6,Tligne,0)) -> 6.4868142
A18: REG_52 | B18: 52 | C18: Pays de la Loire | D18: =INDEX(table,MATCH(Comparatif!$B18&"_"&Comparatif!D$4,Tcolonne,0),MATCH(Comparatif!$C$6,Tligne,0)) -> 3.1429148 | E18: =INDEX(table,MATCH(Comparatif!$B18&"_"&Comparatif!E$4,Tcolonne,0),MATCH(Comparatif!$C$6,Tligne,0)) -> 8.395696 | F18: =INDEX(table,MATCH(Comparatif!$B18&"_"&Comparatif!F$4,Tcolonne,0),MATCH(Comparatif!$C$6,Tligne,0)) -> 3.2097128 | G18: =INDEX(table,MATCH(Comparatif!$B18&"_"&Comparatif!G$4,Tcolonne,0),MATCH(Comparatif!$C$6,Tligne,0)) -> 2.8537305 | H18: =INDEX(table,MATCH(Comparatif!$B18&"_"&Comparatif!H$4,Tcolonne,0),MATCH(Comparatif!$C$6,Tligne,0)) -> 2.2798182 | I18: =INDEX(table,MATCH(Comparatif!$B18&"_"&Comparatif!I$4,Tcolonne,0),MATCH(Comparatif!$C$6,Tligne,0)) -> 4.1655776 | J18: =INDEX(table,MATCH(Comparatif!$B18&"_"&Comparatif!J$4,Tcolonne,0),MATCH(Comparatif!$C$6,Tligne,0)) -> 17.822333 | K18: =INDEX(table,MATCH(Comparatif!$B18&"_"&Comparatif!K$4,Tcolonne,0),MATCH(Comparatif!$C$6,Tligne,0)) -> 4.3385829 | ... R18: =INDEX(table,MATCH(Comparatif!$B18&"_"&Comparatif!R$4,Tcolonne,0),MATCH(Comparatif!$C$6,Tligne,0)) -> 2.8022861
A19: REG_53 | B19: 53 | C19: Bretagne | D19: =INDEX(table,MATCH(Comparatif!$B19&"_"&Comparatif!D$4,Tcolonne,0),MATCH(Comparatif!$C$6,Tligne,0)) -> 5.9676257 | E19: =INDEX(table,MATCH(Comparatif!$B19&"_"&Comparatif!E$4,Tcolonne,0),MATCH(Comparatif!$C$6,Tligne,0)) -> 14.638804 | F19: =INDEX(table,MATCH(Comparatif!$B19&"_"&Comparatif!F$4,Tcolonne,0),MATCH(Comparatif!$C$6,Tligne,0)) -> 6.0771827 | G19: =INDEX(table,MATCH(Comparatif!$B19&"_"&Comparatif!G$4,Tcolonne,0),MATCH(Comparatif!$C$6,Tligne,0)) -> 1.9387877 | H19: =INDEX(table,MATCH(Comparatif!$B19&"_"&Comparatif!H$4,Tcolonne,0),MATCH(Comparatif!$C$6,Tligne,0)) -> 4.8855286 | I19: =INDEX(table,MATCH(Comparatif!$B19&"_"&Comparatif!I$4,Tcolonne,0),MATCH(Comparatif!$C$6,Tligne,0)) -> 26.598123 | J19: =INDEX(table,MATCH(Comparatif!$B19&"_"&Comparatif!J$4,Tcolonne,0),MATCH(Comparatif!$C$6,Tligne,0)) -> 3.7622321 | K19: =INDEX(table,MATCH(Comparatif!$B19&"_"&Comparatif!K$4,Tcolonne,0),MATCH(Comparatif!$C$6,Tligne,0)) -> 74.460567 | ... R19: =INDEX(table,MATCH(Comparatif!$B19&"_"&Comparatif!R$4,Tcolonne,0),MATCH(Comparatif!$C$6,Tligne,0)) -> 10.705248
A20: REG_75 | B20: 75 | C20: Nouvelle Aquitaine | D20: =INDEX(table,MATCH(Comparatif!$B20&"_"&Comparatif!D$4,Tcolonne,0),MATCH(Comparatif!$C$6,Tligne,0)) -> 2.5689384 | E20: =INDEX(table,MATCH(Comparatif!$B20&"_"&Comparatif!E$4,Tcolonne,0),MATCH(Comparatif!$C$6,Tligne,0)) -> 11.400864 | F20: =INDEX(table,MATCH(Comparatif!$B20&"_"&Comparatif!F$4,Tcolonne,0),MATCH(Comparatif!$C$6,Tligne,0)) -> 7.4641424 | G20: =INDEX(table,MATCH(Comparatif!$B20&"_"&Comparatif!G$4,Tcolonne,0),MATCH(Comparatif!$C$6,Tligne,0)) -> 14.250705 | H20: =INDEX(table,MATCH(Comparatif!$B20&"_"&Comparatif!H$4,Tcolonne,0),MATCH(Comparatif!$C$6,Tligne,0)) -> 11.840234 | I20: =INDEX(table,MATCH(Comparatif!$B20&"_"&Comparatif!I$4,Tcolonne,0),MATCH(Comparatif!$C$6,Tligne,0)) -> 9.3944257 | J20: =INDEX(table,MATCH(Comparatif!$B20&"_"&Comparatif!J$4,Tcolonne,0),MATCH(Comparatif!$C$6,Tligne,0)) -> -17.042017 | K20: =INDEX(table,MATCH(Comparatif!$B20&"_"&Comparatif!K$4,Tcolonne,0),MATCH(Comparatif!$C$6,Tligne,0)) -> 4.1698178 | ... R20: =INDEX(table,MATCH(Comparatif!$B20&"_"&Comparatif!R$4,Tcolonne,0),MATCH(Comparatif!$C$6,Tligne,0)) -> 6.623854
A21: REG_76 | B21: 76 | C21: Occitanie | D21: =INDEX(table,MATCH(Comparatif!$B21&"_"&Comparatif!D$4,Tcolonne,0),MATCH(Comparatif!$C$6,Tligne,0)) -> 3.5663594 | E21: =INDEX(table,MATCH(Comparatif!$B21&"_"&Comparatif!E$4,Tcolonne,0),MATCH(Comparatif!$C$6,Tligne,0)) -> 6.5639434 | F21: =INDEX(table,MATCH(Comparatif!$B21&"_"&Comparatif!F$4,Tcolonne,0),MATCH(Comparatif!$C$6,Tligne,0)) -> 2.5622548 | G21: =INDEX(table,MATCH(Comparatif!$B21&"_"&Comparatif!G$4,Tcolonne,0),MATCH(Comparatif!$C$6,Tligne,0)) -> 5.5098995 | H21: =INDEX(table,MATCH(Comparatif!$B21&"_"&Comparatif!H$4,Tcolonne,0),MATCH(Comparatif!$C$6,Tligne,0)) -> s | I21: =INDEX(table,MATCH(Comparatif!$B21&"_"&Comparatif!I$4,Tcolonne,0),MATCH(Comparatif!$C$6,Tligne,0)) -> 2.5038064 | J21: =INDEX(table,MATCH(Comparatif!$B21&"_"&Comparatif!J$4,Tcolonne,0),MATCH(Comparatif!$C$6,Tligne,0)) -> 3.1952949 | K21: =INDEX(table,MATCH(Comparatif!$B21&"_"&Comparatif!K$4,Tcolonne,0),MATCH(Comparatif!$C$6,Tligne,0)) -> 3.8018005 | ... R21: =INDEX(table,MATCH(Comparatif!$B21&"_"&Comparatif!R$4,Tcolonne,0),MATCH(Comparatif!$C$6,Tligne,0)) -> 4.1346411
A22: REG_84 | B22: 84 | C22: Auvergne-Rhône-Alpes | D22: =INDEX(table,MATCH(Comparatif!$B22&"_"&Comparatif!D$4,Tcolonne,0),MATCH(Comparatif!$C$6,Tligne,0)) -> 3.622919 | E22: =INDEX(table,MATCH(Comparatif!$B22&"_"&Comparatif!E$4,Tcolonne,0),MATCH(Comparatif!$C$6,Tligne,0)) -> 4.3122579 | F22: =INDEX(table,MATCH(Comparatif!$B22&"_"&Comparatif!F$4,Tcolonne,0),MATCH(Comparatif!$C$6,Tligne,0)) -> 3.6240402 | G22: =INDEX(table,MATCH(Comparatif!$B22&"_"&Comparatif!G$4,Tcolonne,0),MATCH(Comparatif!$C$6,Tligne,0)) -> 3.000152 | H22: =INDEX(table,MATCH(Comparatif!$B22&"_"&Comparatif!H$4,Tcolonne,0),MATCH(Comparatif!$C$6,Tligne,0)) -> 3.6705804 | I22: =INDEX(table,MATCH(Comparatif!$B22&"_"&Comparatif!I$4,Tcolonne,0),MATCH(Comparatif!$C$6,Tligne,0)) -> 3.7067172 | J22: =INDEX(table,MATCH(Comparatif!$B22&"_"&Comparatif!J$4,Tcolonne,0),MATCH(Comparatif!$C$6,Tligne,0)) -> 3.5498857 | K22: =INDEX(table,MATCH(Comparatif!$B22&"_"&Comparatif!K$4,Tcolonne,0),MATCH(Comparatif!$C$6,Tligne,0)) -> 3.682102 | ... R22: =INDEX(table,MATCH(Comparatif!$B22&"_"&Comparatif!R$4,Tcolonne,0),MATCH(Comparatif!$C$6,Tligne,0)) -> 3.1774307
A23: REG_93 | B23: 93 | C23: Provence-Alpes-Côte d'Azur | D23: =INDEX(table,MATCH(Comparatif!$B23&"_"&Comparatif!D$4,Tcolonne,0),MATCH(Comparatif!$C$6,Tligne,0)) -> 4.34397 | E23: =INDEX(table,MATCH(Comparatif!$B23&"_"&Comparatif!E$4,Tcolonne,0),MATCH(Comparatif!$C$6,Tligne,0)) -> 4.4900302 | F23: =INDEX(table,MATCH(Comparatif!$B23&"_"&Comparatif!F$4,Tcolonne,0),MATCH(Comparatif!$C$6,Tligne,0)) -> 3.6211612 | G23: =INDEX(table,MATCH(Comparatif!$B23&"_"&Comparatif!G$4,Tcolonne,0),MATCH(Comparatif!$C$6,Tligne,0)) -> 3.1236869 | H23: =INDEX(table,MATCH(Comparatif!$B23&"_"&Comparatif!H$4,Tcolonne,0),MATCH(Comparatif!$C$6,Tligne,0)) -> s | I23: =INDEX(table,MATCH(Comparatif!$B23&"_"&Comparatif!I$4,Tcolonne,0),MATCH(Comparatif!$C$6,Tligne,0)) -> 17.28797 | J23: =INDEX(table,MATCH(Comparatif!$B23&"_"&Comparatif!J$4,Tcolonne,0),MATCH(Comparatif!$C$6,Tligne,0)) -> 1.1699144 | K23: =INDEX(table,MATCH(Comparatif!$B23&"_"&Comparatif!K$4,Tcolonne,0),MATCH(Comparatif!$C$6,Tligne,0)) -> 3.3497583 | ... R23: =INDEX(table,MATCH(Comparatif!$B23&"_"&Comparatif!R$4,Tcolonne,0),MATCH(Comparatif!$C$6,Tligne,0)) -> 4.4924267
A24: REG_94 | B24: 94 | C24: Corse | D24: =INDEX(table,MATCH(Comparatif!$B24&"_"&Comparatif!D$4,Tcolonne,0),MATCH(Comparatif!$C$6,Tligne,0)) -> 4.1375585 | E24: =INDEX(table,MATCH(Comparatif!$B24&"_"&Comparatif!E$4,Tcolonne,0),MATCH(Comparatif!$C$6,Tligne,0)) -> 2.7868451 | F24: =INDEX(table,MATCH(Comparatif!$B24&"_"&Comparatif!F$4,Tcolonne,0),MATCH(Comparatif!$C$6,Tligne,0)) -> 3.4193977 | G24: =INDEX(table,MATCH(Comparatif!$B24&"_"&Comparatif!G$4,Tcolonne,0),MATCH(Comparatif!$C$6,Tligne,0)) -> 2.5335748 | H24: =INDEX(table,MATCH(Comparatif!$B24&"_"&Comparatif!H$4,Tcolonne,0),MATCH(Comparatif!$C$6,Tligne,0)) -> 0.94214978 | I24: =INDEX(table,MATCH(Comparatif!$B24&"_"&Comparatif!I$4,Tcolonne,0),MATCH(Comparatif!$C$6,Tligne,0)) -> 0.8278138 | J24: =INDEX(table,MATCH(Comparatif!$B24&"_"&Comparatif!J$4,Tcolonne,0),MATCH(Comparatif!$C$6,Tligne,0)) -> 10.329756 | K24: =INDEX(table,MATCH(Comparatif!$B24&"_"&Comparatif!K$4,Tcolonne,0),MATCH(Comparatif!$C$6,Tligne,0)) -> 5.6055665 | ... R24: =INDEX(table,MATCH(Comparatif!$B24&"_"&Comparatif!R$4,Tcolonne,0),MATCH(Comparatif!$C$6,Tligne,0)) -> s
B26: nd : donnée non disponible, s : donnée soumise au secret statistique
B27: =Sommaire!A2 -> Champ : France (hors Mayotte) - unités légales des secteurs marchands non agricoles et non financiers (y compris micro-entrepreneurs)
B28: unités légales régionales des secteurs agroalimentaires (industries alimentaires et fabrication de boissons (division 10 et 11 de NAF rév. 2 ) et commerce de gros de produits agroalimentaires (groupe 462 et groupe 463, hors sous-classe 4635Z : commerce de gros de produits à base de tabac)
B29: =Sommaire!A3 -> Sources : Esane 2021 à méthode 2022, Flores 2022, Sirus, Insee - traitements SSP
A31: Indicateurs disponibles :
C32: Nom | E32: Unité | F32: Code
C33: Nombre d'unités légales | E33: nombre | F33: nb_ul_secret
C34: Effectifs salariés en équivalent temps plein | E34: nombre | F34: redi_e200_secret
C35: Effectifs salariés au 31 décembre | E35: nombre | F35: E300_tot
C36: Chiffre d'affaires Hors Taxes | E36: milliers d'euros | F36: redi_r310_secret
C37: Chiffre d'affaires à l'exportation hors taxes | E37: milliers d'euros | F37: redi_r410_secret
C38: Valeur ajoutée - y compris autres produits et autres charges | E38: milliers d'euros | F38: redi_r003_secret
C39: Frais de personnel | E39: milliers d'euros | F39: fraispers_secret
C40: Excédent brut d'exploitation | E40: milliers d'euros | F40: redi_r005_secret
C41: Capacité d'autofinancement | E41: milliers d'euros | F41: redi_r008_secret
C42: Résultat courant avant impôts | E42: milliers d'euros | F42: redi_r103_secret
C43: Résultat net comptable | E43: milliers d'euros | F43: r100_tot_secret
...

Sheet 01
A1: =RIGHT(CELL("nomfichier",A1),LEN(CELL("nomfichier",A1))-FIND("]",CELL("nomfichier",A1))) -> 01 | B1: =VLOOKUP(A1,Sommaire!A15:B31,2,0) -> Guadeloupe
B3: Tableau 1. Représentativité des entreprises régionales
D4: nb_ul_MONO_secret | E4: nb_sal_secret | F4: nb_sal_reg_secret | G4: part_sal_secret | H4: nb_ul_POLY_secret
A5: Code d'activité | B5: Code d'activité | C5: Secteur d'activité | D5: Nombre d'entreprises (unités légales) régionales (ayant au moins 80% de leurs salariés dans la région) | E5: Nombre de salariés* dans la région pour les seules entreprises régionales (a) | F5: Nombre total de salariés dans la région (A) | G5: Part des salariés des entreprises régionales parmi les salariés de la région (%) a/A | H5: Nombre d'entreprises (unités légales) implantées dans la région, mais polyrégionales**
D6: nombre | G6: % | H6: nombre
A7: IAA_CGA_AC | B7: IAA_CGA_AC | C7: Ensemble des entreprises agroalimentaires de la région | D7: =INDEX(Table0,MATCH($A$1&"_"&$A7,T0colonne,0),MATCH(D$4,T0ligne,0)) -> 954 | E7: =INDEX(Table0,MATCH($A$1&"_"&$A7,T0colonne,0),MATCH(E$4,T0ligne,0)) -> 3688 | F7: =INDEX(Table0,MATCH($A$1&"_"&$A7,T0colonne,0),MATCH(F$4,T0ligne,0)) -> 3792 | G7: =INDEX(Table0,MATCH($A$1&"_"&$A7,T0colonne,0),MATCH(G$4,T0ligne,0)) -> 97 | H7: =INDEX(Table0,MATCH($A$1&"_"&$A7,T0colonne,0),MATCH(H$4,T0ligne,0)) -> 19
A8: IAA_hac | B8: IAA_hac | C8: IAA : Industries alimentaires (hors artisanat commercial) et boissons | D8: =INDEX(Table0,MATCH($A$1&"_"&$A8,T0colonne,0),MATCH(D$4,T0ligne,0)) -> 481 | E8: =INDEX(Table0,MATCH($A$1&"_"&$A8,T0colonne,0),MATCH(E$4,T0ligne,0)) -> 1710 | F8: =INDEX(Table0,MATCH($A$1&"_"&$A8,T0colonne,0),MATCH(F$4,T0ligne,0)) -> 1731 | G8: =INDEX(Table0,MATCH($A$1&"_"&$A8,T0colonne,0),MATCH(G$4,T0ligne,0)) -> 99 | H8: =INDEX(Table0,MATCH($A$1&"_"&$A8,T0colonne,0),MATCH(H$4,T0ligne,0)) -> 4
A9: 10_hac | B9: 10_hac | C9: Industries alimentaires hors artisanat commercial | D9: =INDEX(Table0,MATCH($A$1&"_"&$A9,T0colonne,0),MATCH(D$4,T0ligne,0)) -> 442 | E9: =INDEX(Table0,MATCH($A$1&"_"&$A9,T0colonne,0),MATCH(E$4,T0ligne,0)) -> 1324 | F9: =INDEX(Table0,MATCH($A$1&"_"&$A9,T0colonne,0),MATCH(F$4,T0ligne,0)) -> 1345 | G9: =INDEX(Table0,MATCH($A$1&"_"&$A9,T0colonne,0),MATCH(G$4,T0ligne,0)) -> 98 | H9: =INDEX(Table0,MATCH($A$1&"_"&$A9,T0colonne,0),MATCH(H$4,T0ligne,0)) -> 4
A10: 101_hac | B10: 101_hac | C10: Transformation et conservation de la viande et préparation de produits à base de viande hors charcuterie | D10: =INDEX(Table0,MATCH($A$1&"_"&$A10,T0colonne,0),MATCH(D$4,T0ligne,0)) -> 84 | E10: =INDEX(Table0,MATCH($A$1&"_"&$A10,T0colonne,0),MATCH(E$4,T0ligne,0)) -> 214 | F10: =INDEX(Table0,MATCH($A$1&"_"&$A10,T0colonne,0),MATCH(F$4,T0ligne,0)) -> 214 | G10: =INDEX(Table0,MATCH($A$1&"_"&$A10,T0colonne,0),MATCH(G$4,T0ligne,0)) -> 100 | H10: =INDEX(Table0,MATCH($A$1&"_"&$A10,T0colonne,0),MATCH(H$4,T0ligne,0)) -> 0
A11: 102 | B11: 102 | C11: Transformation et conservation de poisson, de crustacés et de mollusques | D11: =INDEX(Table0,MATCH($A$1&"_"&$A11,T0colonne,0),MATCH(D$4,T0ligne,0)) -> 15 | E11: =INDEX(Table0,MATCH($A$1&"_"&$A11,T0colonne,0),MATCH(E$4,T0ligne,0)) -> 37 | F11: =INDEX(Table0,MATCH($A$1&"_"&$A11,T0colonne,0),MATCH(F$4,T0ligne,0)) -> 37 | G11: =INDEX(Table0,MATCH($A$1&"_"&$A11,T0colonne,0),MATCH(G$4,T0ligne,0)) -> 100 | H11: =INDEX(Table0,MATCH($A$1&"_"&$A11,T0colonne,0),MATCH(H$4,T0ligne,0)) -> 0
A12: 103 | B12: 103 | C12: Transformation et conservation de fruits et légumes | D12: =INDEX(Table0,MATCH($A$1&"_"&$A12,T0colonne,0),MATCH(D$4,T0ligne,0)) -> 84 | E12: =INDEX(Table0,MATCH($A$1&"_"&$A12,T0colonne,0),MATCH(E$4,T0ligne,0)) -> 131 | F12: =INDEX(Table0,MATCH($A$1&"_"&$A12,T0colonne,0),MATCH(F$4,T0ligne,0)) -> 131 | G12: =INDEX(Table0,MATCH($A$1&"_"&$A12,T0colonne,0),MATCH(G$4,T0ligne,0)) -> 100 | H12: =INDEX(Table0,MATCH($A$1&"_"&$A12,T0colonne,0),MATCH(H$4,T0ligne,0)) -> 0
A13: 104 | B13: 104 | C13: Fabrication d'huiles et graisses végétales et animales | D13: =INDEX(Table0,MATCH($A$1&"_"&$A13,T0colonne,0),MATCH(D$4,T0ligne,0)) -> s | E13: =INDEX(Table0,MATCH($A$1&"_"&$A13,T0colonne,0),MATCH(E$4,T0ligne,0)) -> s | F13: =INDEX(Table0,MATCH($A$1&"_"&$A13,T0colonne,0),MATCH(F$4,T0ligne,0)) -> s | G13: =INDEX(Table0,MATCH($A$1&"_"&$A13,T0colonne,0),MATCH(G$4,T0ligne,0)) -> s | H13: =INDEX(Table0,MATCH($A$1&"_"&$A13,T0colonne,0),MATCH(H$4,T0ligne,0)) -> 0
A14: 105 | B14: 105 | C14: Fabrication de produits laitiers | D14: =INDEX(Table0,MATCH($A$1&"_"&$A14,T0colonne,0),MATCH(D$4,T0ligne,0)) -> 36 | E14: =INDEX(Table0,MATCH($A$1&"_"&$A14,T0colonne,0),MATCH(E$4,T0ligne,0)) -> 149 | F14: =INDEX(Table0,MATCH($A$1&"_"&$A14,T0colonne,0),MATCH(F$4,T0ligne,0)) -> 149 | G14: =INDEX(Table0,MATCH($A$1&"_"&$A14,T0colonne,0),MATCH(G$4,T0ligne,0)) -> 100 | H14: =INDEX(Table0,MATCH($A$1&"_"&$A14,T0colonne,0),MATCH(H$4,T0ligne,0)) -> s
A15: 106 | B15: 106 | C15: Travail des grains - fabrication de produits amylacés | D15: =INDEX(Table0,MATCH($A$1&"_"&$A15,T0colonne,0),MATCH(D$4,T0ligne,0)) -> 9 | E15: =INDEX(Table0,MATCH($A$1&"_"&$A15,T0colonne,0),MATCH(E$4,T0ligne,0)) -> s | F15: =INDEX(Table0,MATCH($A$1&"_"&$A15,T0colonne,0),MATCH(F$4,T0ligne,0)) -> s | G15: =INDEX(Table0,MATCH($A$1&"_"&$A15,T0colonne,0),MATCH(G$4,T0ligne,0)) -> s | H15: =INDEX(Table0,MATCH($A$1&"_"&$A15,T0colonne,0),MATCH(H$4,T0ligne,0)) -> s
A16: 107_hac | B16: 107_hac | C16: Fabrication de produits de boulangerie-pâtisserie et de pâtes alimentaires hors artisanat commercial | D16: =INDEX(Table0,MATCH($A$1&"_"&$A16,T0colonne,0),MATCH(D$4,T0ligne,0)) -> 23 | E16: =INDEX(Table0,MATCH($A$1&"_"&$A16,T0colonne,0),MATCH(E$4,T0ligne,0)) -> 115 | F16: =INDEX(Table0,MATCH($A$1&"_"&$A16,T0colonne,0),MATCH(F$4,T0ligne,0)) -> 115 | G16: =INDEX(Table0,MATCH($A$1&"_"&$A16,T0colonne,0),MATCH(G$4,T0ligne,0)) -> 100 | H16: =INDEX(Table0,MATCH($A$1&"_"&$A16,T0colonne,0),MATCH(H$4,T0ligne,0)) -> 0
A17: 108 | B17: 108 | C17: Fabrication d'autres produits alimentaires | D17: =INDEX(Table0,MATCH($A$1&"_"&$A17,T0colonne,0),MATCH(D$4,T0ligne,0)) -> 184 | E17: =INDEX(Table0,MATCH($A$1&"_"&$A17,T0colonne,0),MATCH(E$4,T0ligne,0)) -> 591 | F17: =INDEX(Table0,MATCH($A$1&"_"&$A17,T0colonne,0),MATCH(F$4,T0ligne,0)) -> 608 | G17: =INDEX(Table0,MATCH($A$1&"_"&$A17,T0colonne,0),MATCH(G$4,T0ligne,0)) -> 97 | H17: =INDEX(Table0,MATCH($A$1&"_"&$A17,T0colonne,0),MATCH(H$4,T0ligne,0)) -> s
A18: 109 | B18: 109 | C18: Fabrication d'aliments pour animaux | D18: =INDEX(Table0,MATCH($A$1&"_"&$A18,T0colonne,0),MATCH(D$4,T0ligne,0)) -> s | E18: =INDEX(Table0,MATCH($A$1&"_"&$A18,T0colonne,0),MATCH(E$4,T0ligne,0)) -> s | F18: =INDEX(Table0,MATCH($A$1&"_"&$A18,T0colonne,0),MATCH(F$4,T0ligne,0)) -> s | G18: =INDEX(Table0,MATCH($A$1&"_"&$A18,T0colonne,0),MATCH(G$4,T0ligne,0)) -> s | H18: =INDEX(Table0,MATCH($A$1&"_"&$A18,T0colonne,0),MATCH(H$4,T0ligne,0)) -> 0
A19: 11 | B19: 11 | C19: Fabrication de boissons | D19: =INDEX(Table0,MATCH($A$1&"_"&$A19,T0colonne,0),MATCH(D$4,T0ligne,0)) -> 39 | E19: =INDEX(Table0,MATCH($A$1&"_"&$A19,T0colonne,0),MATCH(E$4,T0ligne,0)) -> 386 | F19: =INDEX(Table0,MATCH($A$1&"_"&$A19,T0colonne,0),MATCH(F$4,T0ligne,0)) -> 386 | G19: =INDEX(Table0,MATCH($A$1&"_"&$A19,T0colonne,0),MATCH(G$4,T0ligne,0)) -> 100 | H19: =INDEX(Table0,MATCH($A$1&"_"&$A19,T0colonne,0),MATCH(H$4,T0ligne,0)) -> 0
A20: 10y | B20: 10y | C20: Artisanat commercial | D20: =INDEX(Table0,MATCH($A$1&"_"&$A20,T0colonne,0),MATCH(D$4,T0ligne,0)) -> 289 | E20: =INDEX(Table0,MATCH($A$1&"_"&$A20,T0colonne,0),MATCH(E$4,T0ligne,0)) -> 1104 | F20: =INDEX(Table0,MATCH($A$1&"_"&$A20,T0colonne,0),MATCH(F$4,T0ligne,0)) -> 1104 | G20: =INDEX(Table0,MATCH($A$1&"_"&$A20,T0colonne,0),MATCH(G$4,T0ligne,0)) -> 100 | H20: =INDEX(Table0,MATCH($A$1&"_"&$A20,T0colonne,0),MATCH(H$4,T0ligne,0)) -> 0
A21: CGA | B21: CGA | C21: Commerce de gros de produits agroalimentaires | D21: =INDEX(Table0,MATCH($A$1&"_"&$A21,T0colonne,0),MATCH(D$4,T0ligne,0)) -> 184 | E21: =INDEX(Table0,MATCH($A$1&"_"&$A21,T0colonne,0),MATCH(E$4,T0ligne,0)) -> 874 | F21: =INDEX(Table0,MATCH($A$1&"_"&$A21,T0colonne,0),MATCH(F$4,T0ligne,0)) -> 957 | G21: =INDEX(Table0,MATCH($A$1&"_"&$A21,T0colonne,0),MATCH(G$4,T0ligne,0)) -> 91 | H21: =INDEX(Table0,MATCH($A$1&"_"&$A21,T0colonne,0),MATCH(H$4,T0ligne,0)) -> 15
A22: 462 | B22: 462 | C22: Commerce de gros de produits agricoles bruts et d'animaux vivants | D22: =INDEX(Table0,MATCH($A$1&"_"&$A22,T0colonne,0),MATCH(D$4,T0ligne,0)) -> 19 | E22: =INDEX(Table0,MATCH($A$1&"_"&$A22,T0colonne,0),MATCH(E$4,T0ligne,0)) -> 25 | F22: =INDEX(Table0,MATCH($A$1&"_"&$A22,T0colonne,0),MATCH(F$4,T0ligne,0)) -> 25 | G22: =INDEX(Table0,MATCH($A$1&"_"&$A22,T0colonne,0),MATCH(G$4,T0ligne,0)) -> 100 | H22: =INDEX(Table0,MATCH($A$1&"_"&$A22,T0colonne,0),MATCH(H$4,T0ligne,0)) -> 0
A23: 463_h4635Z | B23: 463_h4635Z | C23: Commerce de gros de produits alimentaires, de boissons hors tabac | D23: =INDEX(Table0,MATCH($A$1&"_"&$A23,T0colonne,0),MATCH(D$4,T0ligne,0)) -> 165 | E23: =INDEX(Table0,MATCH($A$1&"_"&$A23,T0colonne,0),MATCH(E$4,T0ligne,0)) -> 849 | F23: =INDEX(Table0,MATCH($A$1&"_"&$A23,T0colonne,0),MATCH(F$4,T0ligne,0)) -> 932 | G23: =INDEX(Table0,MATCH($A$1&"_"&$A23,T0colonne,0),MATCH(G$4,T0ligne,0)) -> 91 | H23: =INDEX(Table0,MATCH($A$1&"_"&$A23,T0colonne,0),MATCH(H$4,T0ligne,0)) -> 15
B24: NB : Ce tableau permet d'apprécier la représentativité des entreprises régionales pour un secteur donné. Si la part des salariés des entreprises régionales parmi les salariés de la région (a/A) avoisine les 80%, on peut considérer que les entreprises régionales représentent suffisament le secteur dans la région pour diffuser leurs résultats économiques.
B25: Champ : France (hors Mayotte) - unités légales des secteurs marchands non agricoles et non financiers (y compris micro-entrepreneurs) - secteurs agroalimentaires (industries alimentaires et fabrication de boissons (division 10 et 11 de NAF rév. 2 ) et commerce de gros de produits agroalimentaires (groupe 462 et groupe 463, hors sous-classe 4635Z : commerce de gros de produits à base de tabac)
B26: *Salariés en équivalent temps plein. **Entreprise polyrégionale : entreprise ayant moins de 80% de ses salariés dans la région
B27: =Comparatif!B29 -> Sources : Esane 2021 à méthode 2022, Flores 2022, Sirus, Insee - traitements SSP
B29: Tableau 2. Chiffres clés des entreprises agroalimentaires régionales en 2021 | Q29: Organisation et débouchés de la production | U29: Partage de la VA | W29: Ratios de rentabilité | Y29: Ratios d'endettement, de solvabilité et de liquidité | AA29: Ratios d'investissement
E30: nb_ul_secret | F30: redi_e200_secret | G30: E300_tot | H30: redi_r310_secret | I30: redi_r410_secret | J30: redi_r003_secret | K30: fraispers_secret | L30: redi_r005_secret | M30: redi_r008_secret | N30: redi_r103_secret | O30: r100_tot_secret | P30: inv_corp_b_ha_secret | Q30: TX_EX_secret | R30: TX_VA_secret | S30: PROD_TRAV_secret | T30: INT_CAPITAL_secret | U30: TX_FP_secret | V30: TX_MARGE_secret | W30: RENT_ECO_secret | X30: RENT_FIN_secret | Y30: LEVIER_FIN_secret | Z30: TAUX_PRELEV_secret | AA30: TX_INV_secret | AB30: TX_AUTOFIN_secret
A31: R_T2 | B31: Code d'activité | C31: Secteur d'activité | D31: Catégorie d'entreprise (*) | E31: Nombre d'unités légales | F31: Effectifs salariés en équivalent temps plein | G31: Effectifs salariés au 31 décembre | H31: Chiffre d'affaires Hors Taxes | I31: Chiffre d'affaires à l'exportation hors taxes | J31: Valeur ajoutée - y compris autres produits et autres charges | K31: Frais de personnel | L31: Excédent brut d'exploitation | M31: Capacité d'autofinancement | N31: Résultat courant avant impôts | O31: Résultat net comptable | P31: Investissements corporels bruts hors apports | Q31: Taux d'exportation | R31: Taux de valeur ajoutée | S31: Productivité apparente du travail par tête | T31: Intensité capitalistique | U31: Part des frais de personnel | V31: Taux de marge | W31: Rentabilité économique | X31: Rentabilité financière | Y31: Levier financier | Z31: Taux de prélèvement financier | AA31: Taux d'investissement | AB31: Taux d'autofinancement
E32: nombre | H32: milliers d'euros | Q32: % | S32: milliers d'euros | U32: %
A33: IAA_CGA_AC | B33: IAA_CGA_AC | C33: Ensemble des entreprises agroalimentaires de la région | E33: =INDEX(table,MATCH($A$1&"_"&$A33,Tcolonne,0),MATCH(E$30,Tligne,0)) -> 954 | F33: =INDEX(table,MATCH($A$1&"_"&$A33,Tcolonne,0),MATCH(F$30,Tligne,0)) -> 3690.13 | G33: =INDEX(table,MATCH($A$1&"_"&$A33,Tcolonne,0),MATCH(G$30,Tligne,0)) -> 4006 | H33: =INDEX(table,MATCH($A$1&"_"&$A33,Tcolonne,0),MATCH(H$30,Tligne,0)) -> 1390072.7 | I33: =INDEX(table,MATCH($A$1&"_"&$A33,Tcolonne,0),MATCH(I$30,Tligne,0)) -> 167396.15 | J33: =INDEX(table,MATCH($A$1&"_"&$A33,Tcolonne,0),MATCH(J$30,Tligne,0)) -> 196390.97 | K33: =INDEX(table,MATCH($A$1&"_"&$A33,Tcolonne,0),MATCH(K$30,Tligne,0)) -> 154052.21 | L33: =INDEX(table,MATCH($A$1&"_"&$A33,Tcolonne,0),MATCH(L$30,Tligne,0)) -> 75596.179 | ... AB33: =INDEX(table,MATCH($A$1&"_"&$A33,Tcolonne,0),MATCH(AB$30,Tligne,0)) -> 170.7648
A34: p_IAA_CGA_AC_BN_horsKZ | C34: Poids dans l'économie marchande non agricole et non financière de la région (%) | E34: =E33/E69*100 -> 3.8932419 | F34: =F33/F69*100 -> 9.4544513 | G34: =G33/G69*100 -> 8.5993345 | H34: =H33/H69*100 -> 12.771539 | I34: =I33/I69*100 -> 36.455976 | J34: =J33/J69*100 -> 7.0353644 | K34: =K33/K69*100 -> 8.3375483 | L34: =L33/L69*100 -> 8.1303857 | ... P34: =P33/P69*100 -> 4.7039598
A36: IAA_hac | B36: IAA_hac | C36: IAA : Industries alimentaires (hors artisanat commercial) et boissons | E36: =INDEX(table,MATCH($A$1&"_"&$A36,Tcolonne,0),MATCH(E$30,Tligne,0)) -> 481 | F36: =INDEX(table,MATCH($A$1&"_"&$A36,Tcolonne,0),MATCH(F$30,Tligne,0)) -> 1712.23 | G36: =INDEX(table,MATCH($A$1&"_"&$A36,Tcolonne,0),MATCH(G$30,Tligne,0)) -> 1834 | H36: =INDEX(table,MATCH($A$1&"_"&$A36,Tcolonne,0),MATCH(H$30,Tligne,0)) -> 385723.64 | I36: =INDEX(table,MATCH($A$1&"_"&$A36,Tcolonne,0),MATCH(I$30,Tligne,0)) -> 14028.967 | J36: =INDEX(table,MATCH($A$1&"_"&$A36,Tcolonne,0),MATCH(J$30,Tligne,0)) -> 83307.914 | K36: =INDEX(table,MATCH($A$1&"_"&$A36,Tcolonne,0),MATCH(K$30,Tligne,0)) -> 77750.838 | L36: =INDEX(table,MATCH($A$1&"_"&$A36,Tcolonne,0),MATCH(L$30,Tligne,0)) -> 42352.577 | ... AB36: =INDEX(table,MATCH($A$1&"_"&$A36,Tcolonne,0),MATCH(AB$30,Tligne,0)) -> 143.54025
A37: p_IAA_hac_C_hac | C37: Poids dans l'industrie manufacturière (hors artisanat commercial) de la région (%) | E37: =E36/E66*100 -> 26.766834 | F37: =F36/F66*100 -> 39.368035 | G37: =G36/G66*100 -> 39.029581 | H37: =H36/H66*100 -> 39.642525 | I37: =I36/I66*100 -> 43.447527 | J37: =J36/J66*100 -> 33.371013 | K37: =K36/K66*100 -> 37.875638 | L37: =L36/L66*100 -> 52.999289 | ... P37: =P36/P66*100 -> 65.818069
A38: IAA_hac_Micro | D38: Micro | E38: =INDEX(table,MATCH($A$1&"_"&$A38,Tcolonne,0),MATCH(E$30,Tligne,0)) -> 432 | F38: =INDEX(table,MATCH($A$1&"_"&$A38,Tcolonne,0),MATCH(F$30,Tligne,0)) -> 507.63 | G38: =INDEX(table,MATCH($A$1&"_"&$A38,Tcolonne,0),MATCH(G$30,Tligne,0)) -> 645 | H38: =INDEX(table,MATCH($A$1&"_"&$A38,Tcolonne,0),MATCH(H$30,Tligne,0)) -> 89296.72 | I38: =INDEX(table,MATCH($A$1&"_"&$A38,Tcolonne,0),MATCH(I$30,Tligne,0)) -> 2276.275 | J38: =INDEX(table,MATCH($A$1&"_"&$A38,Tcolonne,0),MATCH(J$30,Tligne,0)) -> 18260.57 | K38: =INDEX(table,MATCH($A$1&"_"&$A38,Tcolonne,0),MATCH(K$30,Tligne,0)) -> 16826.662 | L38: =INDEX(table,MATCH($A$1&"_"&$A38,Tcolonne,0),MATCH(L$30,Tligne,0)) -> 4363.653 | ... AB38: =INDEX(table,MATCH($A$1&"_"&$A38,Tcolonne,0),MATCH(AB$30,Tligne,0)) -> 61.136355
A39: IAA_hac_PME | D39: PME | E39: =INDEX(table,MATCH($A$1&"_"&$A39,Tcolonne,0),MATCH(E$30,Tligne,0)) -> 35 | F39: =INDEX(table,MATCH($A$1&"_"&$A39,Tcolonne,0),MATCH(F$30,Tligne,0)) -> 550.93 | G39: =INDEX(table,MATCH($A$1&"_"&$A39,Tcolonne,0),MATCH(G$30,Tligne,0)) -> 589 | H39: =INDEX(table,MATCH($A$1&"_"&$A39,Tcolonne,0),MATCH(H$30,Tligne,0)) -> 131641.59 | I39: =INDEX(table,MATCH($A$1&"_"&$A39,Tcolonne,0),MATCH(I$30,Tligne,0)) -> 8015.191 | J39: =INDEX(table,MATCH($A$1&"_"&$A39,Tcolonne,0),MATCH(J$30,Tligne,0)) -> 46755.888 | K39: =INDEX(table,MATCH($A$1&"_"&$A39,Tcolonne,0),MATCH(K$30,Tligne,0)) -> 23955.697 | L39: =INDEX(table,MATCH($A$1&"_"&$A39,Tcolonne,0),MATCH(L$30,Tligne,0)) -> 23873.299 | ... AB39: =INDEX(table,MATCH($A$1&"_"&$A39,Tcolonne,0),MATCH(AB$30,Tligne,0)) -> 317.23971
A40: IAA_hac_ETI | D40: ETI | E40: =INDEX(table,MATCH($A$1&"_"&$A40,Tcolonne,0),MATCH(E$30,Tligne,0)) -> 14 | F40: =INDEX(table,MATCH($A$1&"_"&$A40,Tcolonne,0),MATCH(F$30,Tligne,0)) -> 653.67 | G40: =INDEX(table,MATCH($A$1&"_"&$A40,Tcolonne,0),MATCH(G$30,Tligne,0)) -> 600 | H40: =INDEX(table,MATCH($A$1&"_"&$A40,Tcolonne,0),MATCH(H$30,Tligne,0)) -> 164785.33 | I40: =INDEX(table,MATCH($A$1&"_"&$A40,Tcolonne,0),MATCH(I$30,Tligne,0)) -> 3737.501 | J40: =INDEX(table,MATCH($A$1&"_"&$A40,Tcolonne,0),MATCH(J$30,Tligne,0)) -> 18291.456 | K40: =INDEX(table,MATCH($A$1&"_"&$A40,Tcolonne,0),MATCH(K$30,Tligne,0)) -> 36968.479 | L40: =INDEX(table,MATCH($A$1&"_"&$A40,Tcolonne,0),MATCH(L$30,Tligne,0)) -> 14115.625 | ... AB40: =INDEX(table,MATCH($A$1&"_"&$A40,Tcolonne,0),MATCH(AB$30,Tligne,0)) -> 116.97826
A41: IAA_hac_GE | D41: GE | E41: =INDEX(table,MATCH($A$1&"_"&$A41,Tcolonne,0),MATCH(E$30,Tligne,0)) -> #N/A | F41: =INDEX(table,MATCH($A$1&"_"&$A41,Tcolonne,0),MATCH(F$30,Tligne,0)) -> #N/A | G41: =INDEX(table,MATCH($A$1&"_"&$A41,Tcolonne,0),MATCH(G$30,Tligne,0)) -> #N/A | H41: =INDEX(table,MATCH($A$1&"_"&$A41,Tcolonne,0),MATCH(H$30,Tligne,0)) -> #N/A | I41: =INDEX(table,MATCH($A$1&"_"&$A41,Tcolonne,0),MATCH(I$30,Tligne,0)) -> #N/A | J41: =INDEX(table,MATCH($A$1&"_"&$A41,Tcolonne,0),MATCH(J$30,Tligne,0)) -> #N/A | K41: =INDEX(table,MATCH($A$1&"_"&$A41,Tcolonne,0),MATCH(K$30,Tligne,0)) -> #N/A | L41: =INDEX(table,MATCH($A$1&"_"&$A41,Tcolonne,0),MATCH(L$30,Tligne,0)) -> #N/A | ... AB41: =INDEX(table,MATCH($A$1&"_"&$A41,Tcolonne,0),MATCH(AB$30,Tligne,0)) -> #N/A
A42: 10_hac | B42: 10_hac | C42: Industries alimentaires hors artisanat commercial | E42: =INDEX(table,MATCH($A$1&"_"&$A42,Tcolonne,0),MATCH(E$30,Tligne,0)) -> 442 | F42: =INDEX(table,MATCH($A$1&"_"&$A42,Tcolonne,0),MATCH(F$30,Tligne,0)) -> 1325.84 | G42: =INDEX(table,MATCH($A$1&"_"&$A42,Tcolonne,0),MATCH(G$30,Tligne,0)) -> 1444 | H42: =INDEX(table,MATCH($A$1&"_"&$A42,Tcolonne,0),MATCH(H$30,Tligne,0)) -> 282294.47 | I42: =INDEX(table,MATCH($A$1&"_"&$A42,Tcolonne,0),MATCH(I$30,Tligne,0)) -> 6528.031 | J42: =INDEX(table,MATCH($A$1&"_"&$A42,Tcolonne,0),MATCH(J$30,Tligne,0)) -> 41899.036 | K42: =INDEX(table,MATCH($A$1&"_"&$A42,Tcolonne,0),MATCH(K$30,Tligne,0)) -> 57466.321 | L42: =INDEX(table,MATCH($A$1&"_"&$A42,Tcolonne,0),MATCH(L$30,Tligne,0)) -> 19041.977 | ... AB42: =INDEX(table,MATCH($A$1&"_"&$A42,Tcolonne,0),MATCH(AB$30,Tligne,0)) -> 98.973829
A43: 101_hac | B43: 101_hac | C43: Transformation et conservation de la viande et préparation de produits à base de viande hors charcuterie | E43: =INDEX(table,MATCH($A$1&"_"&$A43,Tcolonne,0),MATCH(E$30,Tligne,0)) -> 84 | F43: =INDEX(table,MATCH($A$1&"_"&$A43,Tcolonne,0),MATCH(F$30,Tligne,0)) -> 214.25 | G43: =INDEX(table,MATCH($A$1&"_"&$A43,Tcolonne,0),MATCH(G$30,Tligne,0)) -> 256 | H43: =INDEX(table,MATCH($A$1&"_"&$A43,Tcolonne,0),MATCH(H$30,Tligne,0)) -> 76032.53 | I43: =INDEX(table,MATCH($A$1&"_"&$A43,Tcolonne,0),MATCH(I$30,Tligne,0)) -> 85.08 | J43: =INDEX(table,MATCH($A$1&"_"&$A43,Tcolonne,0),MATCH(J$30,Tligne,0)) -> 7864.206 | K43: =INDEX(table,MATCH($A$1&"_"&$A43,Tcolonne,0),MATCH(K$30,Tligne,0)) -> 7890.663 | L43: =INDEX(table,MATCH($A$1&"_"&$A43,Tcolonne,0),MATCH(L$30,Tligne,0)) -> 2194.838 | ... AB43: =INDEX(table,MATCH($A$1&"_"&$A43,Tcolonne,0),MATCH(AB$30,Tligne,0)) -> 81.50614
...

Sheet 02
A1: =RIGHT(CELL("nomfichier",A1),LEN(CELL("nomfichier",A1))-FIND("]",CELL("nomfichier",A1))) -> 02 | B1: =VLOOKUP(A1,Sommaire!A15:B31,2,0) -> Martinique
B3: Tableau 1. Représentativité des entreprises régionales
D4: ='01'!D4 -> nb_ul_MONO_secret | E4: ='01'!E4 -> nb_sal_secret | F4: ='01'!F4 -> nb_sal_reg_secret | G4: ='01'!G4 -> part_sal_secret | H4: ='01'!H4 -> nb_ul_POLY_secret
A5: Code d'activité | B5: ='01'!B5 -> Code d'activité | C5: ='01'!C5 -> Secteur d'activité | D5: ='01'!D5 -> Nombre d'entreprises (unités légales) régionales (ayant au moins 80% de leurs salariés dans la région) | E5: Nombre de salariés* dans la région pour les seules entreprises régionales (a) | F5: Nombre total de salariés dans la région (A) | G5: Part des salariés des entreprises régionales parmi les salariés de la région (%) a/A | H5: Nombre d'entreprises (unités légales) implantées dans la région, mais polyrégionales**
D6: nombre | G6: % | H6: nombre
A7: IAA_CGA_AC | B7: IAA_CGA_AC | C7: Ensemble des entreprises agroalimentaires de la région | D7: =INDEX(Table0,MATCH($A$1&"_"&$A7,T0colonne,0),MATCH(D$4,T0ligne,0)) -> 583 | E7: =INDEX(Table0,MATCH($A$1&"_"&$A7,T0colonne,0),MATCH(E$4,T0ligne,0)) -> 3289 | F7: =INDEX(Table0,MATCH($A$1&"_"&$A7,T0colonne,0),MATCH(F$4,T0ligne,0)) -> 3424 | G7: =INDEX(Table0,MATCH($A$1&"_"&$A7,T0colonne,0),MATCH(G$4,T0ligne,0)) -> 96 | H7: =INDEX(Table0,MATCH($A$1&"_"&$A7,T0colonne,0),MATCH(H$4,T0ligne,0)) -> 22
A8: IAA_hac | B8: IAA_hac | C8: IAA : Industries alimentaires (hors artisanat commercial) et boissons | D8: =INDEX(Table0,MATCH($A$1&"_"&$A8,T0colonne,0),MATCH(D$4,T0ligne,0)) -> 236 | E8: =INDEX(Table0,MATCH($A$1&"_"&$A8,T0colonne,0),MATCH(E$4,T0ligne,0)) -> 1590 | F8: =INDEX(Table0,MATCH($A$1&"_"&$A8,T0colonne,0),MATCH(F$4,T0ligne,0)) -> 1613 | G8: =INDEX(Table0,MATCH($A$1&"_"&$A8,T0colonne,0),MATCH(G$4,T0ligne,0)) -> 99 | H8: =INDEX(Table0,MATCH($A$1&"_"&$A8,T0colonne,0),MATCH(H$4,T0ligne,0)) -> 5
A9: 10_hac | B9: 10_hac | C9: Industries alimentaires hors artisanat commercial | D9: =INDEX(Table0,MATCH($A$1&"_"&$A9,T0colonne,0),MATCH(D$4,T0ligne,0)) -> 195 | E9: =INDEX(Table0,MATCH($A$1&"_"&$A9,T0colonne,0),MATCH(E$4,T0ligne,0)) -> 1000 | F9: =INDEX(Table0,MATCH($A$1&"_"&$A9,T0colonne,0),MATCH(F$4,T0ligne,0)) -> 1023 | G9: =INDEX(Table0,MATCH($A$1&"_"&$A9,T0colonne,0),MATCH(G$4,T0ligne,0)) -> 98 | H9: =INDEX(Table0,MATCH($A$1&"_"&$A9,T0colonne,0),MATCH(H$4,T0ligne,0)) -> 5
A10: 101_hac | B10: 101_hac | C10: Transformation et conservation de la viande et préparation de produits à base de viande hors charcuterie | D10: =INDEX(Table0,MATCH($A$1&"_"&$A10,T0colonne,0),MATCH(D$4,T0ligne,0)) -> 18 | E10: =INDEX(Table0,MATCH($A$1&"_"&$A10,T0colonne,0),MATCH(E$4,T0ligne,0)) -> 164 | F10: =INDEX(Table0,MATCH($A$1&"_"&$A10,T0colonne,0),MATCH(F$4,T0ligne,0)) -> 164 | G10: =INDEX(Table0,MATCH($A$1&"_"&$A10,T0colonne,0),MATCH(G$4,T0ligne,0)) -> 100 | H10: =INDEX(Table0,MATCH($A$1&"_"&$A10,T0colonne,0),MATCH(H$4,T0ligne,0)) -> 0
A11: 102 | B11: 102 | C11: Transformation et conservation de poisson, de crustacés et de mollusques | D11: =INDEX(Table0,MATCH($A$1&"_"&$A11,T0colonne,0),MATCH(D$4,T0ligne,0)) -> 10 | E11: =INDEX(Table0,MATCH($A$1&"_"&$A11,T0colonne,0),MATCH(E$4,T0ligne,0)) -> 18 | F11: =INDEX(Table0,MATCH($A$1&"_"&$A11,T0colonne,0),MATCH(F$4,T0ligne,0)) -> 18 | G11: =INDEX(Table0,MATCH($A$1&"_"&$A11,T0colonne,0),MATCH(G$4,T0ligne,0)) -> 100 | H11: =INDEX(Table0,MATCH($A$1&"_"&$A11,T0colonne,0),MATCH(H$4,T0ligne,0)) -> 0
A12: 103 | B12: 103 | C12: Transformation et conservation de fruits et légumes | D12: =INDEX(Table0,MATCH($A$1&"_"&$A12,T0colonne,0),MATCH(D$4,T0ligne,0)) -> 40 | E12: =INDEX(Table0,MATCH($A$1&"_"&$A12,T0colonne,0),MATCH(E$4,T0ligne,0)) -> 83 | F12: =INDEX(Table0,MATCH($A$1&"_"&$A12,T0colonne,0),MATCH(F$4,T0ligne,0)) -> 83 | G12: =INDEX(Table0,MATCH($A$1&"_"&$A12,T0colonne,0),MATCH(G$4,T0ligne,0)) -> 100 | H12: =INDEX(Table0,MATCH($A$1&"_"&$A12,T0colonne,0),MATCH(H$4,T0ligne,0)) -> 0
A13: 104 | B13: 104 | C13: Fabrication d'huiles et graisses végétales et animales | D13: =INDEX(Table0,MATCH($A$1&"_"&$A13,T0colonne,0),MATCH(D$4,T0ligne,0)) -> s | E13: =INDEX(Table0,MATCH($A$1&"_"&$A13,T0colonne,0),MATCH(E$4,T0ligne,0)) -> s | F13: =INDEX(Table0,MATCH($A$1&"_"&$A13,T0colonne,0),MATCH(F$4,T0ligne,0)) -> s | G13: =INDEX(Table0,MATCH($A$1&"_"&$A13,T0colonne,0),MATCH(G$4,T0ligne,0)) -> s | H13: =INDEX(Table0,MATCH($A$1&"_"&$A13,T0colonne,0),MATCH(H$4,T0ligne,0)) -> 0
A14: 105 | B14: 105 | C14: Fabrication de produits laitiers | D14: =INDEX(Table0,MATCH($A$1&"_"&$A14,T0colonne,0),MATCH(D$4,T0ligne,0)) -> 21 | E14: =INDEX(Table0,MATCH($A$1&"_"&$A14,T0colonne,0),MATCH(E$4,T0ligne,0)) -> 218 | F14: =INDEX(Table0,MATCH($A$1&"_"&$A14,T0colonne,0),MATCH(F$4,T0ligne,0)) -> 218 | G14: =INDEX(Table0,MATCH($A$1&"_"&$A14,T0colonne,0),MATCH(G$4,T0ligne,0)) -> 100 | H14: =INDEX(Table0,MATCH($A$1&"_"&$A14,T0colonne,0),MATCH(H$4,T0ligne,0)) -> 0
A15: 106 | B15: 106 | C15: Travail des grains - fabrication de produits amylacés | D15: =INDEX(Table0,MATCH($A$1&"_"&$A15,T0colonne,0),MATCH(D$4,T0ligne,0)) -> 5 | E15: =INDEX(Table0,MATCH($A$1&"_"&$A15,T0colonne,0),MATCH(E$4,T0ligne,0)) -> 64 | F15: =INDEX(Table0,MATCH($A$1&"_"&$A15,T0colonne,0),MATCH(F$4,T0ligne,0)) -> 77 | G15: =INDEX(Table0,MATCH($A$1&"_"&$A15,T0colonne,0),MATCH(G$4,T0ligne,0)) -> 83 | H15: =INDEX(Table0,MATCH($A$1&"_"&$A15,T0colonne,0),MATCH(H$4,T0ligne,0)) -> s
A16: 107_hac | B16: 107_hac | C16: Fabrication de produits de boulangerie-pâtisserie et de pâtes alimentaires hors artisanat commercial | D16: =INDEX(Table0,MATCH($A$1&"_"&$A16,T0colonne,0),MATCH(D$4,T0ligne,0)) -> 21 | E16: =INDEX(Table0,MATCH($A$1&"_"&$A16,T0colonne,0),MATCH(E$4,T0ligne,0)) -> 122 | F16: =INDEX(Table0,MATCH($A$1&"_"&$A16,T0colonne,0),MATCH(F$4,T0ligne,0)) -> 123 | G16: =INDEX(Table0,MATCH($A$1&"_"&$A16,T0colonne,0),MATCH(G$4,T0ligne,0)) -> 99 | H16: =INDEX(Table0,MATCH($A$1&"_"&$A16,T0colonne,0),MATCH(H$4,T0ligne,0)) -> s
A17: 108 | B17: 108 | C17: Fabrication d'autres produits alimentaires | D17: =INDEX(Table0,MATCH($A$1&"_"&$A17,T0colonne,0),MATCH(D$4,T0ligne,0)) -> 75 | E17: =INDEX(Table0,MATCH($A$1&"_"&$A17,T0colonne,0),MATCH(E$4,T0ligne,0)) -> 250 | F17: =INDEX(Table0,MATCH($A$1&"_"&$A17,T0colonne,0),MATCH(F$4,T0ligne,0)) -> 259 | G17: =INDEX(Table0,MATCH($A$1&"_"&$A17,T0colonne,0),MATCH(G$4,T0ligne,0)) -> 97 | H17: =INDEX(Table0,MATCH($A$1&"_"&$A17,T0colonne,0),MATCH(H$4,T0ligne,0)) -> s
A18: 109 | B18: 109 | C18: Fabrication d'aliments pour animaux | D18: =INDEX(Table0,MATCH($A$1&"_"&$A18,T0colonne,0),MATCH(D$4,T0ligne,0)) -> s | E18: =INDEX(Table0,MATCH($A$1&"_"&$A18,T0colonne,0),MATCH(E$4,T0ligne,0)) -> s | F18: =INDEX(Table0,MATCH($A$1&"_"&$A18,T0colonne,0),MATCH(F$4,T0ligne,0)) -> s | G18: =INDEX(Table0,MATCH($A$1&"_"&$A18,T0colonne,0),MATCH(G$4,T0ligne,0)) -> s | H18: =INDEX(Table0,MATCH($A$1&"_"&$A18,T0colonne,0),MATCH(H$4,T0ligne,0)) -> 0
A19: 11 | B19: 11 | C19: Fabrication de boissons | D19: =INDEX(Table0,MATCH($A$1&"_"&$A19,T0colonne,0),MATCH(D$4,T0ligne,0)) -> 41 | E19: =INDEX(Table0,MATCH($A$1&"_"&$A19,T0colonne,0),MATCH(E$4,T0ligne,0)) -> 590 | F19: =INDEX(Table0,MATCH($A$1&"_"&$A19,T0colonne,0),MATCH(F$4,T0ligne,0)) -> 590 | G19: =INDEX(Table0,MATCH($A$1&"_"&$A19,T0colonne,0),MATCH(G$4,T0ligne,0)) -> 100 | H19: =INDEX(Table0,MATCH($A$1&"_"&$A19,T0colonne,0),MATCH(H$4,T0ligne,0)) -> 0
A20: 10y | B20: 10y | C20: Artisanat commercial | D20: =INDEX(Table0,MATCH($A$1&"_"&$A20,T0colonne,0),MATCH(D$4,T0ligne,0)) -> 220 | E20: =INDEX(Table0,MATCH($A$1&"_"&$A20,T0colonne,0),MATCH(E$4,T0ligne,0)) -> 1033 | F20: =INDEX(Table0,MATCH($A$1&"_"&$A20,T0colonne,0),MATCH(F$4,T0ligne,0)) -> 1033 | G20: =INDEX(Table0,MATCH($A$1&"_"&$A20,T0colonne,0),MATCH(G$4,T0ligne,0)) -> 100 | H20: =INDEX(Table0,MATCH($A$1&"_"&$A20,T0colonne,0),MATCH(H$4,T0ligne,0)) -> 0
A21: CGA | B21: CGA | C21: Commerce de gros de produits agroalimentaires | D21: =INDEX(Table0,MATCH($A$1&"_"&$A21,T0colonne,0),MATCH(D$4,T0ligne,0)) -> 127 | E21: =INDEX(Table0,MATCH($A$1&"_"&$A21,T0colonne,0),MATCH(E$4,T0ligne,0)) -> 666 | F21: =INDEX(Table0,MATCH($A$1&"_"&$A21,T0colonne,0),MATCH(F$4,T0ligne,0)) -> 778 | G21: =INDEX(Table0,MATCH($A$1&"_"&$A21,T0colonne,0),MATCH(G$4,T0ligne,0)) -> 86 | H21: =INDEX(Table0,MATCH($A$1&"_"&$A21,T0colonne,0),MATCH(H$4,T0ligne,0)) -> 17
A22: 462 | B22: 462 | C22: Commerce de gros de produits agricoles bruts et d'animaux vivants | D22: =INDEX(Table0,MATCH($A$1&"_"&$A22,T0colonne,0),MATCH(D$4,T0ligne,0)) -> 6 | E22: =INDEX(Table0,MATCH($A$1&"_"&$A22,T0colonne,0),MATCH(E$4,T0ligne,0)) -> 10 | F22: =INDEX(Table0,MATCH($A$1&"_"&$A22,T0colonne,0),MATCH(F$4,T0ligne,0)) -> 10 | G22: =INDEX(Table0,MATCH($A$1&"_"&$A22,T0colonne,0),MATCH(G$4,T0ligne,0)) -> 100 | H22: =INDEX(Table0,MATCH($A$1&"_"&$A22,T0colonne,0),MATCH(H$4,T0ligne,0)) -> 0
A23: 463_h4635Z | B23: 463_h4635Z | C23: Commerce de gros de produits alimentaires, de boissons hors tabac | D23: =INDEX(Table0,MATCH($A$1&"_"&$A23,T0colonne,0),MATCH(D$4,T0ligne,0)) -> 121 | E23: =INDEX(Table0,MATCH($A$1&"_"&$A23,T0colonne,0),MATCH(E$4,T0ligne,0)) -> 656 | F23: =INDEX(Table0,MATCH($A$1&"_"&$A23,T0colonne,0),MATCH(F$4,T0ligne,0)) -> 768 | G23: =INDEX(Table0,MATCH($A$1&"_"&$A23,T0colonne,0),MATCH(G$4,T0ligne,0)) -> 85 | H23: =INDEX(Table0,MATCH($A$1&"_"&$A23,T0colonne,0),MATCH(H$4,T0ligne,0)) -> 17
B24: ='01'!B24 -> NB : Ce tableau permet d'apprécier la représentativité des entreprises régionales pour un secteur donné. Si la part des salariés des entreprises régionales parmi les salariés de la région (a/A) avoisine les 80%, on peut considérer que les entreprises régionales représentent suffisament le secteur dans la région pour diffuser leurs résultats économiques.
B25: Champ : France (hors Mayotte) - unités légales des secteurs marchands non agricoles et non financiers (y compris micro-entrepreneurs) - secteurs agroalimentaires (industries alimentaires et fabrication de boissons (division 10 et 11 de NAF rév. 2 ) et commerce de gros de produits agroalimentaires (groupe 462 et groupe 463, hors sous-classe 4635Z : commerce de gros de produits à base de tabac)
B26: *Salariés en équivalent temps plein. **Entreprise polyrégionale : entreprise ayant moins de 80% de ses salariés dans la région
B27: =Comparatif!B29 -> Sources : Esane 2021 à méthode 2022, Flores 2022, Sirus, Insee - traitements SSP
B29: ='01'!B29 -> Tableau 2. Chiffres clés des entreprises agroalimentaires régionales en 2021 | Q29: Organisation et débouchés de la production | U29: Partage de la VA | W29: Ratios de rentabilité | Y29: Ratios d'endettement, de solvabilité et de liquidité | AA29: Ratios d'investissement
E30: ='01'!E30 -> nb_ul_secret | F30: redi_e200_secret | G30: E300_tot | H30: ='01'!H30 -> redi_r310_secret | I30: ='01'!I30 -> redi_r410_secret | J30: ='01'!J30 -> redi_r003_secret | K30: ='01'!K30 -> fraispers_secret | L30: ='01'!L30 -> redi_r005_secret | M30: ='01'!M30 -> redi_r008_secret | N30: ='01'!N30 -> redi_r103_secret | O30: ='01'!O30 -> r100_tot_secret | ... AB30: ='01'!AB30 -> TX_AUTOFIN_secret
