Workbook
Name Excel_BuiltIn_Print_Area_3: #REF!
Name Excel_BuiltIn_Print_Area_3: #REF!
Name Excel_BuiltIn_Print_Area_3_1: #REF!
Name Excel_BuiltIn_Print_Area_3_1: #REF!
Name Excel_BuiltIn_Print_Area_3_1_1: #REF!
Name Excel_BuiltIn_Print_Area_5: #REF!
Name Excel_BuiltIn_Print_Area_5: #REF!
Name Excel_BuiltIn_Print_Area_5: #REF!
Name Excel_BuiltIn_Print_Area_5_1: #REF!
Name Excel_BuiltIn_Print_Area_5_1: #REF!
Name Excel_BuiltIn_Print_Area_5_1_1: #REF!
Name Excel_BuiltIn_Print_Area_5_3: #REF!
Name Excel_BuiltIn_Print_Area_5_5: #REF!
Name Gra: #REF!

Sheet Tab_Bas_Gauche
A1: CONSOMMATION ALIMENTAIRE
A2: viandes, produits laitiers, œufs
B4: Consommation française de produits laitiers et d'œufs
C6: 1980 | D6: 1981 | E6: 1982 | F6: 1983 | G6: 1984 | H6: 1985 | I6: 1986 | J6: 1987 | K6: 1988 | L6: 1989 | M6: 1990 | N6: 1991 | O6: 1992 | P6: 1993 | Q6: 1994 | R6: 1995 | S6: 1996 | T6: 1997 | U6: 1998 | V6: 1999 | W6: 2000 | X6: 2001 | Y6: 2002 | Z6: 2003 | AA6: 2004 | AB6: 2005 | AC6: 2006 | AD6: 2007 | AE6: 2008 | AF6: 2009 | AG6: 2010 | AH6: 2011 | AI6: 2012 | AJ6: 2013 | AK6: 2014 | AL6: 2015 | AM6: 2016 | AN6: 2017 | AO6: 2018 | AP6: 2019 | AQ6: 2020 | AR6: 2021 | AS6: 2022 | AT6: 2023 | AU6: 2024p
B7: Produits laitiers et œufs1 | C7: kg/habitant/an
B8: Lait de consommation2 | C8: 77.2 | D8: 76.4 | E8: 77.6 | F8: 78.2 | G8: 80.7 | H8: 79.4 | I8: 78.5 | J8: 79.8 | K8: 79.1 | L8: 79 | M8: 73.9 | N8: 74.3 | O8: 71.6 | P8: 72.3 | Q8: 72.4 | R8: 74.9 | S8: 77.7 | T8: 79.1 | U8: 79.1 | V8: 76.6 | W8: 76.5 | X8: 74.9 | Y8: 74.4 | Z8: 73.6 | AA8: 72.6 | AB8: 70 | AC8: 67.6 | AD8: 66.86 | AE8: 66.46 | AF8: ='[1]bilan graph_Agri2009'!$E$28 -> 65.080371 | AG8: ='[1]bilan graph_Agri2010'!$E$28 -> 65.670718 | AH8: ='[2]bilan graph_Agri2011'!$E$28 -> 64.778822 | AI8: ='[2]bilan graph_Agri2012'!$E$28 -> 63.820043 | AJ8: ='[2]bilan graph_Agri2013'!$E$28 -> 63.917858 | AK8: ='[2]bilan graph_Agri2014'!$E$28 -> 61.941449 | AL8: ='[2]bilan graph_Agri2015'!$E$28 -> 59.799736 | AM8: ='[2]bilan graph_Agri2016'!$E$28 -> 57.047278 | AN8: ='[2]bilan graph_Agri2017'!$E$28 -> 54.916349 | AO8: 53.22 | AP8: 52.78 | AQ8: 51.05 | AR8: 52.6 | AS8: 48.97 | AT8: 50.06 | AU8: 50.64
B9: Autres produits frais3 | C9: 15.1 | D9: 16.1 | E9: 18 | F9: 19.1 | G9: 19.8 | H9: 20.8 | I9: 21.2 | J9: 22.6 | K9: 24.6 | L9: 25.6 | M9: 26.9 | N9: 27.9 | O9: 29.1 | P9: 29.1 | Q9: 30.2 | R9: 31.6 | S9: 33 | T9: 32.6 | U9: 34.3 | V9: 36.4 | W9: 35.1 | X9: 35.86 | Y9: 36.61 | Z9: 37.78 | AA9: 38.01 | AB9: 38.2 | AC9: 37.9 | AD9: 38.17 | AE9: 38.51 | AF9: ='[1]bilan graph_Agri2009'!$F$28 -> 38.344695 | AG9: ='[2]bilan graph_Agri2011'!$F$28 -> 38.894487 | AH9: ='[2]bilan graph_Agri2011'!$F$28 -> 38.894487 | AI9: ='[2]bilan graph_Agri2012'!$F$28 -> 38.046136 | AJ9: ='[2]bilan graph_Agri2013'!$F$28 -> 37.814221 | AK9: ='[2]bilan graph_Agri2014'!$F$28 -> 37.098708 | AL9: ='[2]bilan graph_Agri2015'!$F$28 -> 37.388874 | AM9: ='[2]bilan graph_Agri2016'!$F$28 -> 36.696969 | AN9: ='[2]bilan graph_Agri2017'!$F$28 -> 36.805375 | AO9: 36.73 | AP9: 38.34 | AQ9: 35.5 | AR9: 34.85 | AS9: 34.66 | AT9: 34.72 | AU9: 34.54
B10: Beurre | C10: 9.4 | D10: 9.2 | E10: 9.4 | F10: 8.8 | G10: 9.6 | H10: 9.3 | I10: 9.2 | J10: 9 | K10: 8.8 | L10: 8.5 | M10: 8.8 | N10: 8.9 | O10: 8.9 | P10: 8.4 | Q10: 8.6 | R10: 8.3 | S10: 8.1 | T10: 8.9 | U10: 8.6 | V10: 8.5 | W10: 8.7 | X10: 8.4 | Y10: 8.2 | Z10: 7.89 | AA10: 7.8 | AB10: 7.7 | AC10: 7.8 | AD10: 7.88 | AE10: 7.84 | AF10: ='[1]bilan graph_Agri2009'!$G$28 -> 7.8593651 | AG10: ='[2]bilan graph_Agri2011'!$G$28 -> 7.7581257 | AH10: ='[2]bilan graph_Agri2011'!$G$28 -> 7.7581257 | AI10: ='[2]bilan graph_Agri2012'!$G$28 -> 7.4938523 | AJ10: ='[2]bilan graph_Agri2013'!$G$28 -> 7.8357186 | AK10: ='[2]bilan graph_Agri2014'!$G$28 -> 8.3994101 | AL10: ='[2]bilan graph_Agri2015'!$G$28 -> 8.1845049 | AM10: ='[2]bilan graph_Agri2016'!$G$28 -> 8.2345954 | AN10: ='[2]bilan graph_Agri2017'!$G$28 -> 7.9640489 | AO10: 8.32 | AP10: 8.07 | AQ10: 7.98 | AR10: 7.76 | AS10: 8.17 | AT10: 8.21 | AU10: 7.72
B11: Fromage | C11: 18.7 | D11: 18.2 | E11: 18.6 | F11: 19 | G11: 19.8 | H11: 20.9 | I11: 21.2 | J11: 21.7 | K11: 21.9 | L11: 22.3 | M11: 22.7 | N11: 22.7 | O11: 22.7 | P11: 22.6 | Q11: 23 | R11: 22.3 | S11: 22.6 | T11: 22.7 | U11: 23.7 | V11: 24.1 | W11: 24.7 | X11: 25.2 | Y11: 23.6 | Z11: 23.4 | AA11: 23.2 | AB11: 23.2 | AC11: 23.5 | AD11: 23.59 | AE11: 23.85 | AF11: ='[1]bilan graph_Agri2009'!$H$28 -> 23.82955 | AG11: ='[2]bilan graph_Agri2011'!$H$28 -> 23.289456 | AH11: ='[2]bilan graph_Agri2011'!$H$28 -> 23.289456 | AI11: ='[2]bilan graph_Agri2012'!$H$28 -> 23.383186 | AJ11: ='[2]bilan graph_Agri2013'!$H$28 -> 23.330076 | AK11: ='[2]bilan graph_Agri2014'!$H$28 -> 24.254498 | AL11: ='[2]bilan graph_Agri2015'!$H$28 -> 23.920467 | AM11: ='[2]bilan graph_Agri2016'!$H$28 -> 23.518041 | AN11: ='[2]bilan graph_Agri2017'!$H$28 -> 23.628676 | AO11: 23.69 | AP11: 25.76 | AQ11: 25.02 | AR11: 25.5 | AS11: 25.99 | AT11: 26.63 | AU11: 26.26
B12: Œufs | C12: 14.7 | D12: 14.7 | E12: 15.4 | F12: 14.7 | G12: 15.3 | H12: 15.6 | I12: 15.6 | J12: 15.4 | K12: 16.3 | L12: 15.5 | M12: 14.9 | N12: 15.1 | O12: 15.1 | P12: 14.7 | Q12: 15.8 | R12: 16 | S12: =[3]HistoOEUFS!D$33 -> 15.65952 | T12: =[3]HistoOEUFS!E$33 -> 15.220258 | U12: =[3]HistoOEUFS!F$33 -> 15.387458 | V12: =[3]HistoOEUFS!G$33 -> 15.601462 | W12: =[3]HistoOEUFS!H$33 -> 15.489347 | X12: =[3]HistoOEUFS!I$33 -> 15.298007 | Y12: =[3]HistoOEUFS!J$33 -> 14.949642 | Z12: =[3]HistoOEUFS!K$33 -> 14.946862 | ... AM12: =[3]HistoOEUFS!X$33 -> 13.120297 | AN12: =[4]Oeufs.17!$B$31 -> 13.731869 | AO12: 13.27674 | AP12: 12.8 | AQ12: 14.05 | AR12: 14.2 | AS12: 14.5 | AT12: 14.1 | AU12: 14
B14: 1. La consommation correspond à la consommation humaine.
B15: 2. Lait de consommation, yaourts nature, lait autoconsommé ou vendu à la ferme.
B16: 3. Yaourts aromatisés, crème fraîche, desserts lactés frais et fromages frais.
B17: Champ : France, y compris DOM à partir de 1996 pour les œufs et 1997 pour le lait et les produits laitiers.
B18: Sources : Agreste - Enquête annuelle laitière, Douanes

Sheet Graph_Bas_Droite
A1: CONSOMMATION ALIMENTAIRE
A2: viandes, produits laitiers, œufs
B4: Consommation française de produits laitiers et d'œufs
B6: indice base 100 en 1973 | C6: Lait2 | D6: Autres produits frais3 | E6: Beurre | F6: Fromages | G6: Œufs
B7: 1973 | C7: 100 | D7: 100 | E7: 100 | F7: 100 | G7: 100
B8: 1974 | C8: 99 | D8: 97.4 | E8: 105.7 | F8: 100.7 | G8: 99.2
B9: 1975 | C9: 103 | D9: 100.9 | E9: 106.8 | F9: 103.4 | G9: 102.4
B10: 1976 | C10: 106.4 | D10: 101.7 | E10: 108 | F10: 108.7 | G10: 103.2
B11: 1977 | C11: 107.6 | D11: 111.1 | E11: 109.1 | F11: 115.4 | G11: 107.1
B12: 1978 | C12: 103.8 | D12: 116.2 | E12: 105.7 | F12: 117.4 | G12: 111.9
B13: 1979 | C13: 107.9 | D13: 121.4 | E13: 111.4 | F13: 120.8 | G13: 113.5
B14: 1980 | C14: 109.3 | D14: 129.1 | E14: 106.8 | F14: 125.5 | G14: 116.7
B15: 1981 | C15: 108.16736 | D15: 137.64967 | E15: 104.52766 | F15: 122.14439 | G15: 116.7
B16: 1982 | C16: 109.86632 | D16: 153.89405 | E16: 106.8 | F16: 124.82888 | G16: 122.25714
B17: 1983 | C17: 110.7158 | D17: 163.29868 | E17: 99.982979 | F17: 127.51337 | G17: 116.7
B18: 1984 | C18: 114.25531 | D18: 169.28345 | E18: 109.07234 | F18: 132.88236 | G18: 121.46327
... B57: 2023 | C57: 70.9 | D57: 296.8 | E57: 93.3 | F57: 178.7 | G57: 111.93673
B58: 2024p | C58: 71.7 | D58: 295.3 | E58: 87.7 | F58: 176.2 | G58: 111.14286
B60: 2. Lait de consommation, yaourts nature, lait autoconsommé ou vendu à la ferme.
B61: 3. Yaourts aromatisés, crème fraîche, desserts lactés frais et fromages frais.
B62: Champ : France, y compris DOM à partir de 1996 pour les œufs et 1997 pour le lait et les produits laitiers.
B63: Sources : Agreste - Enquête annuelle laitière, Douanes

Sheet Tab_Milieu_Droite
A1: CONSOMMATION ALIMENTAIRE
A2: viandes, produits laitiers, œufs
B4: Consommation française de viande1
C6: 1980 | D6: 1981 | E6: 1982 | F6: 1983 | G6: 1984 | H6: 1985 | I6: 1986 | J6: 1987 | K6: 1988 | L6: 1989 | M6: 1990 | N6: 1991 | O6: 1992 | P6: 1993 | Q6: 1994 | R6: 1995 | S6: 1996 | T6: 1997 | U6: 1998 | V6: 1999 | W6: 2000 | X6: 2001 | Y6: 2002 | Z6: 2003 | AA6: 2004 | AB6: 2005 | AC6: 2006 | AD6: 2007 | AE6: 2008 | AF6: 2009 | AG6: 2010 | AH6: 2011 | AI6: 2012 | AJ6: 2013 | AK6: 2014 | AL6: 2015 | AM6: 2016 | AN6: 2017 | AO6: 2018 | AP6: 2019 | AQ6: 2020 | AR6: 2021 | AS6: 2022 | AT6: 2023 | AU6: 2024p
B7: Viandes1-2-3 | C7: kg/habitant/an
B8: Bovine (y.c. viande de veau) | C8: 33 | D8: 32.8 | E8: 32.6 | F8: 32.4 | G8: 32.1 | H8: 31.9 | I8: 31.7 | J8: 31.5 | K8: 30.3 | L8: 30.3 | M8: 29.8 | N8: 30 | O8: 29.8 | P8: 28.6 | Q8: 27.4 | R8: 28.1 | S8: 25.79105 | T8: 26.19668 | U8: 26.893418 | V8: 27.038577 | W8: 25.123089 | X8: 24.478551 | Y8: 26.925534 | Z8: 26.332651 | AA8: 26.09137 | AB8: 26.154087 | AC8: 25.418685 | AD8: 25.68219 | AE8: 25.069314 | AF8: 25.285166 | AG8: 25.347512 | AH8: 24.848941 | AI8: 24.379227 | AJ8: 23.555226 | AK8: 23.471328 | AL8: 23.504528 | AM8: 23.290666 | AN8: 22.895254 | AO8: 23.309691 | AP8: 22.883486 | AQ8: 22.139292 | AR8: 22.041065 | AS8: 22.109082 | AT8: 21.244879 | AU8: 20.78257
B9: Porcine | C9: 33.8 | D9: 34.1 | E9: 34.3 | F9: 34.6 | G9: 34.9 | H9: 35.1 | I9: 35.4 | J9: 36.5 | K9: 37.6 | L9: 37.3 | M9: 37.1 | N9: 37.1 | O9: 37.5 | P9: 38.1 | Q9: 36.2 | R9: 35.9 | S9: 35.205805 | T9: 34.643141 | U9: 37.247449 | V9: 36.829473 | W9: 35.170953 | X9: 35.457928 | Y9: 35.48774 | Z9: 35.355242 | AA9: 34.399273 | AB9: 33.792405 | AC9: 33.683831 | AD9: 34.198852 | AE9: 33.851156 | AF9: 33.243351 | AG9: 33.074577 | AH9: 32.330311 | AI9: 32.270002 | AJ9: 32.003767 | AK9: 32.690755 | AL9: 33.185819 | AM9: 32.679681 | AN9: 32.619467 | AO9: 32.925912 | AP9: 31.730377 | AQ9: 31.335591 | AR9: 31.604412 | AS9: 31.791028 | AT9: 30.537944 | AU9: 30.882371
B10: Ovine et caprine | C10: 4.1 | D10: 4.1 | E10: 4.2 | F10: 4.3 | G10: 4.4 | H10: 4.4 | I10: 4.5 | J10: 4.6 | K10: 4.7 | L10: 4.9 | M10: 5.4 | N10: 5.6 | O10: 5.6 | P10: 5.5 | Q10: 5.4 | R10: 5.3 | S10: 5.3282141 | T10: 5.0048783 | U10: 4.964256 | V10: 4.9532947 | W10: 4.6584967 | X10: 3.8389853 | Y10: 4.056008 | Z10: 3.8901938 | AA10: 3.8469954 | AB10: 3.8160639 | AC10: 3.7751548 | AD10: 3.5971918 | AE10: 3.4797905 | AF10: 3.3326358 | AG10: 3.098008 | AH10: 2.9949469 | AI10: 2.9101924 | AJ10: 2.7956659 | AK10: 2.7753926 | AL10: 2.6449701 | AM10: 2.5698545 | AN10: 2.5244414 | AO10: 2.518127 | AP10: 2.50632 | AQ10: 2.3804562 | AR10: 2.3124651 | AS10: 2.3623599 | AT10: 2.2791661 | AU10: 2.1844337
B11: Volaille | C11: 16.7 | D11: 17.1 | E11: 17.4 | F11: 17.8 | G11: 18.1 | H11: 18.5 | I11: 18.8 | J11: 18.5 | K11: 19.4 | L11: 21 | M11: 21 | N11: 21.9 | O11: 21.9 | P11: 20.9 | Q11: 22.4 | R11: 22.6 | S11: 24.515145 | T11: 24.365635 | U11: 24.671883 | V11: 24.442153 | W11: 21.256395 | X11: 23.058116 | Y11: 22.105984 | Z11: 21.801943 | AA11: 21.371596 | AB11: 21.481534 | AC11: 21.445853 | AD11: 22.730808 | AE11: 22.997507 | AF11: 22.968864 | AG11: 23.830905 | AH11: 23.775356 | AI11: 24.170505 | AJ11: 24.06953 | AK11: 24.70363 | AL11: 25.502486 | AM11: 25.830294 | AN11: 26.262216 | AO11: 27.916937 | AP11: 28.228039 | AQ11: 28.066352 | AR11: 28.310168 | AS11: 27.908513 | AT11: 28.806993 | AU11: 30.8397
B12: dont poulet | C12: n. d. | D12: n. d. | E12: n. d. | F12: n. d. | G12: n. d. | H12: n. d. | I12: n. d. | J12: n. d. | K12: n. d. | L12: n. d. | M12: 11.00136 | N12: n. d. | O12: n. d. | P12: n. d. | Q12: n. d. | R12: n. d. | S12: 12.828335 | T12: 12.53863 | U12: 12.30454 | V12: 12.381628 | W12: 11.36543 | X12: 12.864341 | Y12: 12.137709 | Z12: 12.121239 | AA12: 11.964769 | AB12: 12.324457 | AC12: 12.260462 | AD12: 13.634701 | AE12: 14.132043 | AF12: 14.641115 | AG12: 15.303976 | AH12: 15.340654 | AI12: 15.61507 | AJ12: 15.912684 | AK12: 16.480185 | AL12: 17.378052 | AM12: 18.077633 | AN12: 19.096716 | AO12: 20.005669 | AP12: 20.468914 | AQ12: 20.708184 | AR12: 21.582641 | AS12: 22.338337 | AT12: 23.105255 | AU12: 24.473024
B13: dinde | C13: n. d. | D13: n. d. | E13: n. d. | F13: n. d. | G13: n. d. | H13: n. d. | I13: n. d. | J13: n. d. | K13: n. d. | L13: n. d. | M13: 5.5230403 | N13: n. d. | O13: n. d. | P13: n. d. | Q13: n. d. | R13: n. d. | S13: 6.4602645 | T13: 6.4079649 | U13: 6.8171685 | V13: 6.4308347 | W13: 6.3542561 | X13: 6.3530155 | Y13: 6.0851297 | Z13: 5.8521048 | AA13: 5.8117412 | AB13: 5.5351345 | AC13: 5.6009964 | AD13: 5.3949394 | AE13: 5.1350278 | AF13: 4.7400331 | AG13: 4.9516896 | AH13: 4.7886663 | AI13: 5.0052604 | AJ13: 4.7257722 | AK13: 4.7179717 | AL13: 4.5783633 | AM13: 4.632053 | AN13: 4.3043581 | AO13: 4.4238039 | AP13: 4.3646896 | AQ13: 4.4327749 | AR13: 4.0578393 | AS13: 3.573101 | AT13: 3.501652 | AU13: 3.4406474
B14: canard | C14: n. d. | D14: n. d. | E14: n. d. | F14: n. d. | G14: n. d. | H14: n. d. | I14: n. d. | J14: n. d. | K14: n. d. | L14: n. d. | M14: 1.7767987 | N14: n. d. | O14: n. d. | P14: n. d. | Q14: n. d. | R14: n. d. | S14: 2.4863805 | T14: 2.7362478 | U14: 3.0850472 | V14: 3.0754744 | W14: 2.7650644 | X14: 3.0367937 | Y14: 3.1845314 | Z14: 3.1671977 | AA14: 2.9681042 | AB14: 3.0020711 | AC14: 3.0174677 | AD14: 3.1132429 | AE14: 3.1681117 | AF14: 3.0414344 | AG14: 3.0520868 | AH14: 3.1240819 | AI14: 3.1046139 | AJ14: 2.9785064 | AK14: 3.0522195 | AL14: 3.0728446 | AM14: 2.6527977 | AN14: 2.4072471 | AO14: 3.0064522 | AP14: 2.9501294 | AQ14: 2.5274623 | AR14: 2.3088289 | AS14: 1.6803565 | AT14: 1.8965258 | AU14: 2.5865718
B15: Autres viandes4 | C15: 16.7 | D15: 16.1 | E15: 15.6 | F15: 15.1 | G15: 14.6 | H15: 14.1 | I15: 13.5 | J15: 13.2 | K15: 13.2 | L15: 11.6 | M15: 12 | N15: 11 | O15: 11.5 | P15: 10.4 | Q15: 9.6 | R15: 9.6 | S15: 8.9777205 | T15: 8.2545481 | U15: 8.1423334 | V15: 8.561996 | W15: 4.8642298 | X15: 5.3752509 | Y15: 4.6906417 | Z15: 4.665524 | AA15: 4.0564606 | AB15: 4.2180658 | AC15: 3.885356 | AD15: 4.0657809 | AE15: 3.9896802 | AF15: 4.8374438 | AG15: 3.9890241 | AH15: 3.8858273 | AI15: 4.1609354 | AJ15: 4.0386339 | AK15: 4.0671888 | AL15: 4.1877618 | AM15: 3.9853308 | AN15: 3.8523146 | AO15: 3.6676507 | AP15: 3.4722463 | AQ15: 5.2416274 | AR15: 4.6395266 | AS15: 4.7196234 | AT15: 3.6298116 | AU15: 3.8848063
B16: Total viandes | C16: 104.29372 | D16: 104.23412 | E16: 104.17453 | F16: 104.11494 | G16: 104.05534 | H16: 103.99575 | I16: 103.93615 | J16: 104.26363 | K16: 105.16821 | L16: 105.12269 | M16: 106.18242 | N16: 105.2 | O16: 106.32655 | P16: 105.41121 | Q16: 101 | R16: 101.5 | S16: 99.817935 | T16: 98.464883 | U16: 101.91934 | V16: 101.82549 | W16: 91.094347 | X16: 92.208831 | Y16: 93.249254 | Z16: 92.009201 | AA16: 89.711882 | AB16: 89.38819 | AC16: 88.118278 | AD16: 90.157395 | AE16: 89.27236 | AF16: 89.578993 | AG16: 89.262745 | AH16: 87.757964 | AI16: 87.796434 | AJ16: 86.363139 | AK16: 87.602846 | AL16: 88.922239 | AM16: 88.241118 | AN16: 88.047728 | AO16: 90.296087 | AP16: 88.731328 | AQ16: 89.083507 | AR16: 88.864274 | AS16: 88.837286 | AT16: 86.47465 | AU16: 88.5
B18: 1. En équivalent carcasse, y compris graisses de découpe.
B19: 2. La consommation correspond à la consommation humaine.
B20: 3. Dans le calcul de la consommation humaine, seuls sont comptabilisés depuis 1999 les abattages dans les abattoirs contrôlés.
B21: 4. Viandes d'équidés, de lapin et de gibier, ainsi que les abats destinés à la consommation humaine. En 2008, une modification dans la prise en compte des abattages conduit à une rupture de série et à compter de 2020, une modification de source a été apportée concernant les abats utilisés.
B22: Champ : France, y compris DOM à partir de 1996.
B23: Source : Agreste - Bilans d'approvisionnement

Sheet Graph_Haut_Droite
A1: CONSOMMATION ALIMENTAIRE
A2: viandes, produits laitiers, œufs
B4: Consommation française de viande1
B5: kg/habitant/an
C6: 1960 | D6: 1961 | E6: 1962 | F6: 1963 | G6: 1964 | H6: 1965 | I6: 1966 | J6: 1967 | K6: 1968 | L6: 1969 | M6: 1970 | N6: 1971 | O6: 1972 | P6: 1973 | Q6: 1974 | R6: 1975 | S6: 1976 | T6: 1977 | U6: 1978 | V6: 1979 | W6: 1980 | X6: 1981 | Y6: 1982 | Z6: 1983 | AA6: 1984 | AB6: 1985 | AC6: 1986 | AD6: 1987 | AE6: 1988 | AF6: 1989 | AG6: 1990 | AH6: 1991 | AI6: 1992 | AJ6: 1993 | AK6: 1994 | AL6: 1995 | AM6: 1996 | AN6: 1997 | AO6: 1998 | AP6: 1999 | AQ6: 2000 | AR6: 2001 | AS6: 2002 | AT6: 2003 | AU6: 2004 | AV6: 2005 | AW6: 2006 | AX6: 2007 | AY6: 2008 | AZ6: 2009 | BA6: 2010 | BB6: 2011 | BC6: 2012 | BD6: 2013 | BE6: 2014 | BF6: 2015 | BG6: 2016 | BH6: 2017 | BI6: 2018 | BJ6: 2019 | BK6: 2020 | BL6: 2021 | BM6: 2022 | BN6: 2023 | BO6: 2024p
B7: Bovins | C7: 27.8 | D7: 28 | E7: 28.2 | F7: 28.5 | G7: 28.7 | H7: 28.9 | I7: 29.1 | J7: 29.3 | K7: 29.6 | L7: 29.8 | M7: 30 | N7: 30.3 | O7: 30.6 | P7: 30.9 | Q7: 31.2 | R7: 31.5 | S7: 31.8 | T7: 32.1 | U7: 32.4 | V7: 32.7 | W7: 33 | X7: 32.8 | Y7: 32.6 | Z7: 32.4 | AA7: 32.1 | AB7: 31.9 | AC7: 31.7 | AD7: 31.5 | AE7: 30.3 | AF7: 30.3 | AG7: 29.8 | AH7: 30 | AI7: 29.8 | AJ7: 28.6 | AK7: 27.4 | AL7: 28.1 | AM7: 25.79105 | AN7: 26.19668 | AO7: 26.893418 | AP7: 27.038577 | AQ7: =Tab_Milieu_Droite!W8 -> 25.123089 | AR7: =Tab_Milieu_Droite!X8 -> 24.478551 | AS7: =Tab_Milieu_Droite!Y8 -> 26.925534 | AT7: =Tab_Milieu_Droite!Z8 -> 26.332651 | AU7: =Tab_Milieu_Droite!AA8 -> 26.09137 | AV7: =Tab_Milieu_Droite!AB8 -> 26.154087 | AW7: =Tab_Milieu_Droite!AC8 -> 25.418685 | AX7: =Tab_Milieu_Droite!AD8 -> 25.68219 | ... BO7: =Tab_Milieu_Droite!AU8 -> 20.78257
B8: Porcs | C8: 26.1 | D8: 26.6 | E8: 27 | F8: 27.5 | G8: 27.9 | H8: 28.4 | I8: 28.8 | J8: 29.3 | K8: 29.7 | L8: 30.2 | M8: 30.6 | N8: 30.9 | O8: 31.2 | P8: 31.6 | Q8: 31.9 | R8: 32.2 | S8: 32.5 | T8: 32.8 | U8: 33.2 | V8: 33.5 | W8: 33.8 | X8: 34.1 | Y8: 34.3 | Z8: 34.6 | AA8: 34.9 | AB8: 35.1 | AC8: 35.4 | AD8: 36.5 | AE8: 37.6 | AF8: 37.3 | AG8: 37.1 | AH8: 37.1 | AI8: 37.5 | AJ8: 38.1 | AK8: 36.2 | AL8: 35.9 | AM8: 35.205805 | AN8: 34.643141 | AO8: 37.247449 | AP8: 36.829473 | AQ8: =Tab_Milieu_Droite!W9 -> 35.170953 | AR8: =Tab_Milieu_Droite!X9 -> 35.457928 | AS8: =Tab_Milieu_Droite!Y9 -> 35.48774 | AT8: =Tab_Milieu_Droite!Z9 -> 35.355242 | AU8: =Tab_Milieu_Droite!AA9 -> 34.399273 | AV8: =Tab_Milieu_Droite!AB9 -> 33.792405 | AW8: =Tab_Milieu_Droite!AC9 -> 33.683831 | AX8: =Tab_Milieu_Droite!AD9 -> 34.198852 | ... BO8: =Tab_Milieu_Droite!AU9 -> 30.882371
B9: Ovins et caprins | C9: 2.6 | D9: 2.6 | E9: 2.7 | F9: 2.7 | G9: 2.8 | H9: 2.8 | I9: 2.8 | J9: 2.9 | K9: 2.9 | L9: 3 | M9: 3 | N9: 3.1 | O9: 3.2 | P9: 3.3 | Q9: 3.4 | R9: 3.5 | S9: 3.6 | T9: 3.7 | U9: 3.8 | V9: 4 | W9: 4.1 | X9: 4.1 | Y9: 4.2 | Z9: 4.3 | AA9: 4.4 | AB9: 4.4 | AC9: 4.5 | AD9: 4.6 | AE9: 4.7 | AF9: 4.9 | AG9: 5.4 | AH9: 5.6 | AI9: 5.6 | AJ9: 5.5 | AK9: 5.4 | AL9: 5.3 | AM9: 5.3282141 | AN9: 5.0048783 | AO9: 4.964256 | AP9: 4.9532947 | AQ9: =Tab_Milieu_Droite!W10 -> 4.6584967 | AR9: =Tab_Milieu_Droite!X10 -> 3.8389853 | AS9: =Tab_Milieu_Droite!Y10 -> 4.056008 | AT9: =Tab_Milieu_Droite!Z10 -> 3.8901938 | AU9: =Tab_Milieu_Droite!AA10 -> 3.8469954 | AV9: =Tab_Milieu_Droite!AB10 -> 3.8160639 | AW9: =Tab_Milieu_Droite!AC10 -> 3.7751548 | AX9: =Tab_Milieu_Droite!AD10 -> 3.5971918 | ... BO9: =Tab_Milieu_Droite!AU10 -> 2.1844337
B10: Volailles | C10: 9.1 | D10: 9.4 | E10: 9.7 | F10: 10 | G10: 10.3 | H10: 10.7 | I10: 11 | J10: 11.3 | K10: 11.6 | L10: 11.9 | M10: 12.2 | N10: 12.7 | O10: 13.1 | P10: 13.6 | Q10: 14 | R10: 14.5 | S10: 14.9 | T10: 15.4 | U10: 15.8 | V10: 16.3 | W10: 16.7 | X10: 17.1 | Y10: 17.4 | Z10: 17.8 | AA10: 18.1 | AB10: 18.5 | AC10: 18.8 | AD10: 18.5 | AE10: 19.4 | AF10: 21 | AG10: 21 | AH10: 21.9 | AI10: 21.9 | AJ10: 20.9 | AK10: 22.4 | AL10: 22.6 | AM10: 24.515145 | AN10: 24.365635 | AO10: 24.671883 | AP10: 24.442153 | AQ10: =Tab_Milieu_Droite!W11 -> 21.256395 | AR10: =Tab_Milieu_Droite!X11 -> 23.058116 | AS10: =Tab_Milieu_Droite!Y11 -> 22.105984 | AT10: =Tab_Milieu_Droite!Z11 -> 21.801943 | AU10: =Tab_Milieu_Droite!AA11 -> 21.371596 | AV10: =Tab_Milieu_Droite!AB11 -> 21.481534 | AW10: =Tab_Milieu_Droite!AC11 -> 21.445853 | AX10: =Tab_Milieu_Droite!AD11 -> 22.730808 | ... BO10: =Tab_Milieu_Droite!AU11 -> 30.8397
B11: Autres viandes4 | C11: 12.1 | D11: 12.6 | E11: 13.1 | F11: 13.2 | G11: 13.4 | H11: 13.8 | I11: 14 | J11: 14.7 | K11: 15 | L11: 15 | M11: 15.4 | N11: 15.5 | O11: 15.3 | P11: 15.1 | Q11: 15.5 | R11: 15.4 | S11: 15.8 | T11: 16.5 | U11: 16.8 | V11: 16.6 | W11: 16.7 | X11: 16.1 | Y11: 15.6 | Z11: 15.1 | AA11: 14.6 | AB11: 14.1 | AC11: 13.5 | AD11: 13.2 | AE11: 13.2 | AF11: 11.6 | AG11: 12 | AH11: 11 | AI11: 11.5 | AJ11: 10.4 | AK11: 9.6 | AL11: 9.6 | AM11: 8.9777205 | AN11: 8.2545481 | AO11: 8.1423334 | AP11: 8.561996 | AQ11: =Tab_Milieu_Droite!W15 -> 4.8642298 | AR11: =Tab_Milieu_Droite!X15 -> 5.3752509 | AS11: =Tab_Milieu_Droite!Y15 -> 4.6906417 | AT11: =Tab_Milieu_Droite!Z15 -> 4.665524 | AU11: =Tab_Milieu_Droite!AA15 -> 4.0564606 | AV11: =Tab_Milieu_Droite!AB15 -> 4.2180658 | AW11: =Tab_Milieu_Droite!AC15 -> 3.885356 | AX11: =Tab_Milieu_Droite!AD15 -> 4.0657809 | ... BO11: =Tab_Milieu_Droite!AU15 -> 3.8848063
B13: 1. En équivalent carcasse, y compris graisses de découpe.
B14: 4. Viandes d'équidés, de lapin et de gibier, ainsi que les abats destinés à la consommation humaine. En 2008, une modification dans la prise en compte des abattages conduit à une rupture de série et à compter de 2020, une modification de source a été apportée concernant les abats utilisés.
B15: Champ : France, y compris DOM à partir de 1996.
B16: Source : Agreste - Bilans d'approvisionnement

Sheet Clés de lecture
B2: Unités | C2: ch | D2: cheval
C3: ETP | D3: équivalent-temps-plein
C4: ha | D4: hectare
C5: hl | D5: hectolitre
C6: kg | D6: kilogramme
C7: kW | D7: kilowatt
C8: l | D8: litre
C9: M | D9: million
C10: Md | D10: milliard
C11: m² | D11: mètre carré
C12: m³ | D12: mètre cube
C13: mm | D13: millimètre
C14: % | D14: pourcentage
... C22: UTA | D22: unité de travail annuel
B24: Signes conventionnels | C24: - | D24: résultat nul
C25: … | D25: renseignement non disponible (tableau)
C26: nd | D26: renseignement non disponible (graphique, carte)
C27: /// | D27: sans objet (tableau)
C28: so | D28: sans objet (graphique, carte)
C29: P | D29: donnée provisoire
C30: Prév. | D30: donnée prévisionnelle
C31: r | D31: donnée révisée
C32: e | D32: estimation
C33: s | D33: secret statistique (tableau, carte)
C34: sd | D34: semi définitif
C35: ns | D35: non significatif
B37: Abréviations | C37: Alena | D37: Accord de libre échange nord-américain
C38: CEI | D38: Communauté des États Indépendants
C39: Mercosur | D39: Mercado comùn del sur
C40: PECO | D40: Pays d'Europe Centrale et Orientale
C41: UEBL | D41: Union économique belgo-luxembourgeoise
C42: UE | D42: Union européenne
