Workbook
Name Print_Area_0: Tab_Bas_Droite!$B$1:$I$11
Name Print_Area_0: Tab_Milieu_Droite!$B$1:$I$17
Name Print_Area_0_0: Tab_Bas_Droite!$B$1:$I$11
Name Print_Area_0_0: Tab_Milieu_Droite!$B$1:$I$17
Name Print_Area_0_0_0: Tab_Bas_Droite!$B$1:$I$11
Name Print_Area_0_0_0: Tab_Milieu_Droite!$B$1:$I$17
Name Print_Area_0_0_0_0: Tab_Bas_Droite!$B$1:$I$11
Name Print_Area_0_0_0_0: Tab_Milieu_Droite!$B$1:$I$17
Name Print_Area_0_0_0_0_0: Tab_Bas_Droite!$B$1:$I$11
Name Print_Area_0_0_0_0_0: Tab_Milieu_Droite!$B$1:$I$17
Name Print_Area_0_0_0_0_0_0: Tab_Bas_Droite!$B$1:$I$11
Name Print_Area_0_0_0_0_0_0: Tab_Milieu_Droite!$B$1:$I$17
Name Print_Area_0_0_0_0_0_0_0: Tab_Bas_Droite!$B$1:$I$11
Name Print_Area_0_0_0_0_0_0_0: Tab_Milieu_Droite!$B$1:$I$17
Name Print_Area_0_0_0_0_0_0_0_0: Tab_Bas_Droite!$B$1:$I$11
Name Print_Area_0_0_0_0_0_0_0_0: Tab_Milieu_Droite!$B$1:$I$17
Name Print_Area_0_0_0_0_0_0_0_0_0: Tab_Bas_Droite!$B$1:$I$11
Name Print_Area_0_0_0_0_0_0_0_0_0: Tab_Milieu_Droite!$B$1:$I$17
Name Print_Area_0_0_0_0_0_0_0_0_0_0: Tab_Bas_Droite!$B$1:$I$11
Name Print_Area_0_0_0_0_0_0_0_0_0_0: Tab_Milieu_Droite!$B$1:$I$17
Name Print_Area_0_0_0_0_0_0_0_0_0_0_0: Tab_Bas_Droite!$B$1:$I$11
Name Print_Area_0_0_0_0_0_0_0_0_0_0_0: Tab_Milieu_Droite!$B$1:$I$17
Name Print_Area_0_0_0_0_0_0_0_0_0_0_0_0: Tab_Bas_Droite!$B$1:$I$11
Name Print_Area_0_0_0_0_0_0_0_0_0_0_0_0: Tab_Milieu_Droite!$B$1:$I$17
Name Print_Area_0_0_0_0_0_0_0_0_0_0_0_0_0: Tab_Bas_Droite!$B$1:$I$11
Name Print_Area_0_0_0_0_0_0_0_0_0_0_0_0_0: Tab_Milieu_Droite!$B$1:$I$17

Sheet Graph_Bas_Gauche
A1: CHARCUTERIE, PLATS PREPARES, CONSERVES DE POISSONS
B3: Production commercialisée de plats préparés
B4: Plats préparés à base de :
N5: millier de tonnes
C6: 2010 | D6: 2011 | E6: 2012 | F6: 2013 | G6: 2014 | H6: 2015 | I6: 2016 | J6: 2017 | K6: 2018 | L6: 2019 | M6: 2020 | N6: 2021 | O6: 2022 | P6: 2023p
B7: Plats préparés | C7: 1104.7264 | D7: 1099.9921 | E7: 1146.164 | F7: 1125.557 | G7: 1086.6815 | H7: 1117.8893 | I7: 1221.641 | J7: 1276.247 | K7: 1281.631 | L7: 1383.078 | M7: 1292.567 | N7: 1368.4179 | O7: 1401.6389 | P7: 1420.7532
B8: Viandes, d’abats ou de sang1 | C8: 498.24894 | D8: 514.32334 | E8: 485.30006 | F8: 493.07055 | G8: 453.2595 | H8: 463.48486 | I8: 475.52805 | J8: 514.33 | K8: 511.628 | L8: 557.929 | M8: 471.44467 | N8: 483.82783 | O8: 500.47932 | P8: 529.24681
B9: Pâtes ou de semoule2 | C9: 239.43089 | D9: 230.55917 | E9: 234.1625 | F9: 207.6416 | G9: 225.64783 | H9: 227.82932 | I9: 236.84836 | J9: 238.346 | K9: 232.289 | L9: 260.123 | M9: 254.97292 | N9: 247.99901 | O9: 253.37108 | P9: 241.17348
B10: Poissons, de crustacés et de mollusques3 | C10: 96.768619 | D10: 99.374889 | E10: 100.38798 | F10: 104.28897 | G10: 102.35585 | H10: 87.766272 | I10: 100.23144 | J10: 98.444 | K10: 100.297 | L10: 114.549 | M10: 114.38698 | N10: 115.45434 | O10: 122.83388 | P10: 128.8832
B11: Légumes | C11: 41.240787 | D11: 40.963983 | E11: 35.138188 | F11: 40.473904 | G11: 28.379677 | H11: 27.503154 | I11: 28.852911 | J11: 26.646 | K11: 25.784 | L11: 31.512 | M11: 107.18912 | N11: 149.56907 | O11: 163.2888 | P11: 155.40831
B12: Autres produits4 | C12: 229.03715 | D12: 214.77069 | E12: 291.17529 | F12: 280.08201 | G12: 277.03866 | H12: 311.30574 | I12: 380.18025 | J12: 398.481 | K12: 411.633 | L12: 418.965 | M12: 344.57327 | N12: 371.56764 | O12: 361.66584 | P12: 366.04136
B15: 1. Cassoulet, choucroute, etc.
B16: 2. Raviolis, lasagnes, couscous garni, etc.
B17: 3. Paella, etc.
B18: 4. Pizzas, quiches, tartes salées, sandwichs garnis, etc.
B19: Sources : Agreste - Prodcom, Fict
J35: millier de tonnes

Sheet Tab_Milieu_Droite
A1: CHARCUTERIE, PLATS PREPARES, CONSERVES DE POISSONS
B3: Production commercialisée de charcuteries et préparations de viandes
C5: 2010 | D5: 2011 | E5: 2012 | F5: 2013 | G5: 2014 | H5: 2015 | I5: 2016 | J5: 2017 | K5: 2018 | L5: 2019 | M5: 2020 | N5: 2021 | O5: 2022 | P5: 2023p
C6: millier de tonnes
B7: Viandes salées, en saumure, séchées ou fumées | C7: 191.19502 | D7: 187.99741 | E7: 191.71641 | F7: 189.97164 | G7: 190.47965 | H7: 188.6307 | I7: 192.68249 | J7: 189.466 | K7: 192.748 | L7: 196.108 | M7: 202.24759 | N7: 203.57739 | O7: 204.82333 | P7: 192.32374
B8: Saucisses, saucissons (cuits ou à cuire, secs) et produits similaires (andouilles, andouillettes, boudins) | C8: 381.42506 | D8: 425.08645 | E8: 441.19416 | F8: 433.73314 | G8: 434.65046 | H8: 442.67341 | I8: 443.93766 | J8: 450.587 | K8: 461.937 | L8: 437.005 | M8: 411.1413 | N8: 411.07002 | O8: 407.02405 | P8: 395.66567
B9: Préparations et conserves
B10: de foie d’oie ou de canard (foies gras et blocs, pâtés, mousses, terrines, etc.) | C10: 34.82387 | D10: 29.705368 | E10: 30.043241 | F10: 30.164257 | G10: 30.996898 | H10: 32.526868 | I10: 30.364221 | J10: 28.364 | K10: 27.788 | L10: 27.088 | M10: 19.535448 | N10: 20.770284 | O10: 18.292771 | P10: 17.576974
B11: de foies d’autres animaux | C11: 21.535561 | D11: 19.721827 | E11: 20.591915 | F11: 19.151785 | G11: 19.924843 | H11: 15.080758 | I11: 14.064502 | J11: 13.245 | K11: 13.317 | L11: 11.448 | M11: 9.866414 | N11: 9.554399 | O11: 9.211832 | P11: 9.300046
B12: de porc (jambons, épaules, pâtés, rillettes, etc.) | C12: 404.07827 | D12: 393.703 | E12: 397.14763 | F12: 401.74944 | G12: 389.61145 | H12: 392.61369 | I12: 377.15795 | J12: 372.086 | K12: 360.597 | L12: 357.978 | M12: 347.15145 | N12: 340.82745 | O12: 358.202 | P12: 353.83309
B13: de volailles (pâtés, rillettes, confits d'oie/canard, etc.) | C13: 172.04782 | D13: 169.49904 | E13: 174.09694 | F13: 178.55977 | G13: 187.36586 | H13: 195.69414 | I13: 199.09245 | J13: 196.366 | K13: 202.071 | L13: 195.971 | M13: 190.15353 | N13: 196.91981 | O13: 193.39846 | P13: 184.3356
B14: d’autres animaux (tripes/tripoux, pâtés, etc.) | C14: 37.789557 | D14: 27.142958 | E14: 35.094911 | F14: 31.230133 | G14: 30.566788 | H14: 36.971072 | I14: 33.96706 | J14: 34.379 | K14: 32.215 | L14: 55.32 | M14: 64.139216 | N14: 71.763218 | O14: 77.780543 | P14: 72.634372
B15: Total | C15: 1242.8952 | D15: 1252.856 | E15: 1289.8852 | F15: 1284.5602 | G15: 1283.596 | H15: 1304.1906 | I15: 1291.2663 | J15: 1284.493 | K15: 1290.673 | L15: 1280.918 | M15: 1244.2349 | N15: 1254.4826 | O15: 1268.733 | P15: 1225.6695
B17: Sources : Agreste - Prodcom, Fict

Sheet Graph_Haut_Droite
A1: CHARCUTERIE, PLATS PREPARES, CONSERVES DE POISSONS
B3: Production commercialisée de charcuteries et préparations de viandes
J4: millier de tonnes
C5: 2010 | D5: 2011 | E5: 2012 | F5: 2013 | G5: 2014 | H5: 2015 | I5: 2016 | J5: 2017 | K5: 2018 | L5: 2019 | M5: 2020 | N5: 2021 | O5: 2022 | P5: 2023p
B6: Viandes salées, en saumure, séchées ou fumées | C6: =Tab_Milieu_Droite!C7 -> 191.19502 | D6: =Tab_Milieu_Droite!D7 -> 187.99741 | E6: =Tab_Milieu_Droite!E7 -> 191.71641 | F6: =Tab_Milieu_Droite!F7 -> 189.97164 | G6: =Tab_Milieu_Droite!G7 -> 190.47965 | H6: =Tab_Milieu_Droite!H7 -> 188.6307 | I6: =Tab_Milieu_Droite!I7 -> 192.68249 | J6: =Tab_Milieu_Droite!J7 -> 189.466 | ... N6: =Tab_Milieu_Droite!N7 -> 203.57739 | O6: 204.8233 | P6: 192.32374
B7: Saucisses, saucissons et produits similaires | C7: =Tab_Milieu_Droite!C8 -> 381.42506 | D7: =Tab_Milieu_Droite!D8 -> 425.08645 | E7: =Tab_Milieu_Droite!E8 -> 441.19416 | F7: =Tab_Milieu_Droite!F8 -> 433.73314 | G7: =Tab_Milieu_Droite!G8 -> 434.65046 | H7: =Tab_Milieu_Droite!H8 -> 442.67341 | I7: =Tab_Milieu_Droite!I8 -> 443.93766 | J7: =Tab_Milieu_Droite!J8 -> 450.587 | ... N7: =Tab_Milieu_Droite!N8 -> 411.07002 | O7: 407.024 | P7: 395.66567
B8: Préparations et conserves de porc | C8: =Tab_Milieu_Droite!C12 -> 404.07827 | D8: =Tab_Milieu_Droite!D12 -> 393.703 | E8: =Tab_Milieu_Droite!E12 -> 397.14763 | F8: =Tab_Milieu_Droite!F12 -> 401.74944 | G8: =Tab_Milieu_Droite!G12 -> 389.61145 | H8: =Tab_Milieu_Droite!H12 -> 392.61369 | I8: =Tab_Milieu_Droite!I12 -> 377.15795 | J8: =Tab_Milieu_Droite!J12 -> 372.086 | ... N8: =Tab_Milieu_Droite!N12 -> 340.82745 | O8: 358.202 | P8: 353.83309
B9: Préparations et conserves de volailles | C9: =Tab_Milieu_Droite!C13 -> 172.04782 | D9: =Tab_Milieu_Droite!D13 -> 169.49904 | E9: =Tab_Milieu_Droite!E13 -> 174.09694 | F9: =Tab_Milieu_Droite!F13 -> 178.55977 | G9: =Tab_Milieu_Droite!G13 -> 187.36586 | H9: =Tab_Milieu_Droite!H13 -> 195.69414 | I9: =Tab_Milieu_Droite!I13 -> 199.09245 | J9: =Tab_Milieu_Droite!J13 -> 196.366 | ... N9: =Tab_Milieu_Droite!N13 -> 196.91981 | O9: 193.39846 | P9: 184.3356
B11: Sources : Agreste - Prodcom, Fict
E13: millier de tonnes

Sheet Tab_Bas_Droite
A1: CHARCUTERIE, PLATS PREPARES, CONSERVES DE POISSONS
B3: Production commercialisée de préparations et conserves de poissons
C5: 2010 | D5: 2011 | E5: 2012 | F5: 2013 | G5: 2014 | H5: 2015 | I5: 2016 | J5: 2017 | K5: 2018 | L5: 2019 | M5: 2020 | N5: 2021 | O5: 2022 | P5: 2023p
C6: millier de tonnes
B7: Conserves de poissons | C7: 50.176345 | D7: 50.889655 | E7: 50.037191 | F7: 45.78808 | G7: 48.165628 | H7: 53.832914 | I7: 49.972719 | J7: 43.859 | K7: 46.779 | L7: 45.1 | M7: 51.451219 | N7: 50.499073 | O7: 48.096536 | P7: 47.659995
B8: dont thon | C8: 22.674792 | D8: 21.199577 | E8: 18.391744 | F8: 18.291821 | G8: 19.518689 | H8: 20.18428 | I8: 19.906237 | J8: 16.345 | K8: 17.002 | L8: 17.443 | M8: 18.719051 | N8: 17.286926 | O8: 17.287997 | P8: 17.959206
B9: maquereau | C9: s | D9: s | E9: 16.204279 | F9: 16.156038 | G9: 17.109744 | H9: 20.672254 | I9: 17.44646 | J9: 15.806 | K9: 17.315 | L9: 15.928 | M9: 18.00294 | N9: 17.345918 | O9: 16.362298 | P9: 15.627659
B10: sardine | C10: s | D10: s | E10: 12.164545 | F10: 8.205655 | G10: 8.305053 | H10: 8.367529 | I10: 9.47237 | J10: 9.277 | K10: 9.628 | L10: 8.782 | M10: 9.846637 | N10: 9.57669 | O10: 9.056467 | P10: 9.661716
B12: Source : Agreste - Prodcom

Sheet Clés de lecture
B2: Unités | C2: ch | D2: cheval
C3: ETP | D3: équivalent-temps-plein
C4: ha | D4: hectare
C5: hl | D5: hectolitre
C6: kg | D6: kilogramme
C7: kW | D7: kilowatt
C8: l | D8: litre
C9: M | D9: million
C10: Md | D10: milliard
C11: m² | D11: mètre carré
C12: m³ | D12: mètre cube
C13: mm | D13: millimètre
C14: % | D14: pourcentage
... C22: UTA | D22: unité de travail annuel
B24: Signes conventionnels | C24: - | D24: résultat nul
C25: … | D25: renseignement non disponible (tableau)
C26: nd | D26: renseignement non disponible (graphique, carte)
C27: /// | D27: sans objet (tableau)
C28: so | D28: sans objet (graphique, carte)
C29: P | D29: donnée provisoire
C30: Prév. | D30: donnée prévisionnelle
C31: r | D31: donnée révisée
C32: e | D32: estimation
C33: s | D33: secret statistique (tableau, carte)
C34: sd | D34: semi définitif
C35: ns | D35: non significatif
B37: Abréviations | C37: Alena | D37: Accord de libre échange nord-américain
C38: CEI | D38: Communauté des États Indépendants
C39: Mercosur | D39: Mercado comùn del sur
C40: PECO | D40: Pays d'Europe Centrale et Orientale
C41: UEBL | D41: Union économique belgo-luxembourgeoise
C42: UE | D42: Union européenne
