Workbook

Sheet Figure 1
A1: =CONCATENATE("Figure 1 : indicateur de rendement des prairies permanentes par région au 10 ",'Données Figure 3'!I1) -> Figure 1 : indicateur de rendement des prairies permanentes par région au 10 juillet 2026
A20: =CONCATENATE("Note de lecture : L'indicateur de rendement des prairies permanentes Isop en France est à ", ROUND('Données Figure 1'!B16,0), " au 10 ",'Données Figure 3'!I1,", soit une pousse cumulée ",IF('Données Figure 1'!B16<100,"inférieure","supérieure")," de ",ROUND(ABS(100-'Données Figure 1'!B16),0)," % à la pousse ''normale'' sur la même période (codes couleur tels que définis dans la légende de la figure 2)") -> Note de lecture : L'indicateur de rendement des prairies permanentes Isop en France est à 79 au 10 juillet 2026, soit une pousse cumulée inférieure de 21 % à la pousse ''normale'' sur la même période (codes couleur tels que définis dans la légende de la figure 2)
A21: Sources :INRAe, Météo France, SSP

Sheet Figure 2
A1: =CONCATENATE("Figure 2 : indicateur de rendement des prairies permanentes par région fourragère au 10 ",'Données Figure 3'!I1) -> Figure 2 : indicateur de rendement des prairies permanentes par région fourragère au 10 juillet 2026
A23: Note de lecture : L’indicateur de rendement des prairies permanentes Isop, à une date donnée, est égal au rapport entre la pousse cumulée à cette date depuis le début de la campagne et la pousse cumulée à la même date calculée sur la période de référence 1989-2018. La taille des pastilles est proportionnelle aux surfaces en prairies permanentes de chaque RF.
A24: Sources : INRAe, Météo France, SSP

Sheet Figure 3
A1: Figure 3 : évolution de la production des prairies permanentes
A21: Sources : INRAe, Météo France, SSP

Sheet Données Figure 1
A1: =CONCATENATE("Figure 1 : indicateur de rendement des prairies permanentes par région au 10 ",'Données Figure 3'!I1) -> Figure 1 : indicateur de rendement des prairies permanentes par région au 10 juillet 2026
A3: Région | B3: Indice ISOP | C3: Déficit important | D3: Déficit faible | E3: Normal | F3: Excédent
A4: Ile de France | B4: 78.8 | C4: =IF(B4<75,B4,"") | D4: =IF(AND(B4>75,B4<90),B4,"") -> 89.66 | E4: =IF(AND(B4>90,B4<110),B4,"") | F4: =IF(B4>110,B4,"")
A5: Centre - Val de Loire | B5: 68.41 | C5: =IF(B5<75,B5,"") | D5: =IF(AND(B5>75,B5<90),B5,"") -> 76.69 | E5: =IF(AND(B5>90,B5<110),B5,"") | F5: =IF(B5>110,B5,"")
A6: Bourgogne - Franche-Comté | B6: 61.91 | C6: =IF(B6<75,B6,"") | D6: =IF(AND(B6>75,B6<90),B6,"") -> 76.77 | E6: =IF(AND(B6>90,B6<110),B6,"") | F6: =IF(B6>110,B6,"")
A7: Normandie | B7: 70.13 | C7: =IF(B7<75,B7,"") | D7: =IF(AND(B7>75,B7<90),B7,"") -> 83.31 | E7: =IF(AND(B7>90,B7<110),B7,"") | F7: =IF(B7>110,B7,"")
A8: Hauts de France | B8: 73 | C8: =IF(B8<75,B8,"") | D8: =IF(AND(B8>75,B8<90),B8,"") -> 88.39 | E8: =IF(AND(B8>90,B8<110),B8,"") | F8: =IF(B8>110,B8,"")
A9: Grand Est | B9: 62.22 | C9: =IF(B9<75,B9,"") | D9: =IF(AND(B9>75,B9<90),B9,"") -> 75.25 | E9: =IF(AND(B9>90,B9<110),B9,"") | F9: =IF(B9>110,B9,"")
A10: Pays de la Loire | B10: 75.11 | C10: =IF(B10<75,B10,"") | D10: =IF(AND(B10>75,B10<90),B10,"") -> 81.81 | E10: =IF(AND(B10>90,B10<110),B10,"") | F10: =IF(B10>110,B10,"")
A11: Bretagne | B11: 72.25 | C11: =IF(B11<75,B11,"") | D11: =IF(AND(B11>75,B11<90),B11,"") -> 84 | E11: =IF(AND(B11>90,B11<110),B11,"") | F11: =IF(B11>110,B11,"")
A12: Nouvelle Aquitaine | B12: 61.96 | C12: =IF(B12<75,B12,"") -> 71.24 | D12: =IF(AND(B12>75,B12<90),B12,"") | E12: =IF(AND(B12>90,B12<110),B12,"") | F12: =IF(B12>110,B12,"")
A13: Occitanie | B13: 63.94 | C13: =IF(B13<75,B13,"") -> 72.78 | D13: =IF(AND(B13>75,B13<90),B13,"") | E13: =IF(AND(B13>90,B13<110),B13,"") | F13: =IF(B13>110,B13,"")
A14: Auvergne - Rhône-Alpes | B14: 71.76 | C14: =IF(B14<75,B14,"") | D14: =IF(AND(B14>75,B14<90),B14,"") -> 86.37 | E14: =IF(AND(B14>90,B14<110),B14,"") | F14: =IF(B14>110,B14,"")
A15: Paca | B15: 92.48 | C15: =IF(B15<75,B15,"") | D15: =IF(AND(B15>75,B15<90),B15,"") | E15: =IF(AND(B15>90,B15<110),B15,"") -> 99.99 | F15: =IF(B15>110,B15,"")
A16: France | B16: 67.4 | C16: =IF(B16<75,B16,"") | D16: =IF(AND(B16>75,B16<90),B16,"") -> 79.41 | E16: =IF(AND(B16>90,B16<110),B16,"") | F16: =IF(B16>110,B16,"")
A18: Sources : INRAe, Météo France, SSP

Sheet Données Figure 2
A1: =CONCATENATE("Figure 2 : indicateur de rendement des prairies permanentes par région fourragère au 10 ",'Données Figure 3'!I1) -> Figure 2 : indicateur de rendement des prairies permanentes par région fourragère au 10 juillet 2026
A3: RF | B3: MOIS | C3: ANNEE | D3: ISOP
A4: 1107 | B4: 08 | C4: 2026 | D4: 78.8
A5: 2101 | B5: 08 | C5: 2026 | D5: 72.24
A6: 2103 | B6: 08 | C6: 2026 | D6: 84.44
A7: 2105 | B7: 08 | C7: 2026 | D7: 71.29
A8: 2106 | B8: 08 | C8: 2026 | D8: 64.48
A9: 2108 | B9: 08 | C9: 2026 | D9: 54.36
A10: 2109 | B10: 08 | C10: 2026 | D10: 72.77
A11: 2115 | B11: 08 | C11: 2026 | D11: 69.12
A12: 2116 | B12: 08 | C12: 2026 | D12: 60.43
A13: 2117 | B13: 08 | C13: 2026 | D13: 59.83
A14: 2202 | B14: 08 | C14: 2026 | D14: 76.56
A15: 2203 | B15: 08 | C15: 2026 | D15: 71.96
... A210: 9370 | B210: 08 | C210: 2026 | D210: 89.61
A212: Sources : INRAe, Météo France, SSP

Sheet Données Figure 3
A1: =CONCATENATE("Figure 3 : évolution de la production des prairies permanentes au 10 ",'Données Figure 3'!I1) -> Figure 3 : évolution de la production des prairies permanentes au 10 juillet 2026 | I1: août 2026
A3: Période | B3: 10 | C3: 10 | D3: 10 | E3: 10 | F3: 10 | G3: 10 | H3: 10 | I3: 10 | J3: 10
B4: mars | C4: avril | D4: mai | E4: juin | F4: juillet | G4: août | H4: sept. | I4: oct. | J4: nov.
A5: 2025 | B5: 8.2768958 | C5: 22.695277 | D5: 38.728923 | E5: 53.475135 | F5: 57.898052 | G5: 61.8 | H5: 66.6 | I5: 80.9 | J5: 90.1
A6: 2026 | B6: 10.457029 | C6: 25.733997 | D6: 40.190636 | E6: 55.033295 | F6: 52.125535 | G6: 51.37
A7: Réf. 1989-2018 | B7: 5.3 | C7: 15.7 | D7: 31.7 | E7: 51.8 | F7: 65.6 | G7: 76.2 | H7: 85.1 | I7: 93.6 | J7: 99.8
A8: Sources : INRAe, Météo France, SSP

Sheet Pousse cumulée par région
A1: =CONCATENATE("Données complémentaires : % de la pousse de référence annuelle réalisée au 10 ",'Données Figure 3'!I1) -> Données complémentaires : % de la pousse de référence annuelle réalisée au 10 juillet 2026
A3: Région | B3: 2026 en % | C3: Référence 1989-2018 en %
A4: Ile de France | B4: 68.4 | C4: 86.8
A5: Centre - Val de Loire | B5: 54.64 | C5: 79.88
A6: Bourgogne - Franche-Comté | B6: 45.7 | C6: 73.83
A7: Normandie | B7: 55.66 | C7: 79.36
A8: Hauts de France | B8: 58.11 | C8: 79.61
A9: Grand Est | B9: 47.07 | C9: 75.66
A10: Pays de la Loire | B10: 62.04 | C10: 82.59
A11: Bretagne | B11: 57.55 | C11: 79.65
A12: Nouvelle Aquitaine | B12: 47.03 | C12: 75.91
A13: Occitanie | B13: 47.88 | C13: 74.88
A14: Auvergne - Rhône-Alpes | B14: 52.69 | C14: 73.43
A15: Paca | B15: 69.55 | C15: 75.2
A16: France | B16: 51.37 | C16: 76.22
A17: =CONCATENATE("Note de lecture : Au 10 ",'Données Figure 3'!I1,", ",ROUND(B16,1)," % de la pousse annuelle de référence attendue est réalisée contre ",ROUND(C16,1)," % en moyenne sur la période 1989-2018.") -> Note de lecture : Au 10 juillet 2026, 52,1 % de la pousse annuelle de référence attendue est réalisée contre 65,6 % en moyenne sur la période 1989-2018.
A18: Sources : INRAe, Météo France, SSP
